BEGIN:VCALENDAR
VERSION:2.0
PRODID:-//Pam Harrington Exclusives - ECPv6.15.12.2//NONSGML v1.0//EN
CALSCALE:GREGORIAN
METHOD:PUBLISH
X-WR-CALNAME:Pam Harrington Exclusives
X-ORIGINAL-URL:https://staging.pamharringtonexclusives.com
X-WR-CALDESC:Events for Pam Harrington Exclusives
REFRESH-INTERVAL;VALUE=DURATION:PT1H
X-Robots-Tag:noindex
X-PUBLISHED-TTL:PT1H
BEGIN:VTIMEZONE
TZID:UTC
BEGIN:STANDARD
TZOFFSETFROM:+0000
TZOFFSETTO:+0000
TZNAME:UTC
DTSTART:20230101T000000
END:STANDARD
END:VTIMEZONE
BEGIN:VEVENT
DTSTART;TZID=UTC:20240731T180000
DTEND;TZID=UTC:20240731T210000
DTSTAMP:20260421T232006
CREATED:20240716T140835Z
LAST-MODIFIED:20240716T141109Z
UID:67050-1722448800-1722459600@staging.pamharringtonexclusives.com
SUMMARY:Sundown Festival Kiawah Island
DESCRIPTION:Wednesdays in July from 6 pm to 9 pm enjoy music\, a photo booth\, lawn games\, and a festive atmosphere at Night Heron Park\, centrally located on Kiawah Island.  Free and open to all island guests!  For more fun at Night Heron Park see our blog post https://staging.pamharringtonexclusives.com/blog/night-heron-park/
URL:https://staging.pamharringtonexclusives.com/event/sundown-festival-kiawah-island/2024-07-31/
LOCATION:Night Heron Park\, 4000 Sea Forest Drive\, Kiawah Island\, SC\, 29455\, United States
CATEGORIES:July - Kiawah Island
ATTACH;FMTTYPE=image/jpeg:https://staging.pamharringtonexclusives.com/wp-content/uploads/2024/07/sundown-festival-kiawah-island.jpg
END:VEVENT
BEGIN:VEVENT
DTSTART;TZID=UTC:20240724T180000
DTEND;TZID=UTC:20240724T210000
DTSTAMP:20260421T232006
CREATED:20240716T140835Z
LAST-MODIFIED:20240716T141108Z
UID:67049-1721844000-1721854800@staging.pamharringtonexclusives.com
SUMMARY:Sundown Festival Kiawah Island
DESCRIPTION:Wednesdays in July from 6 pm to 9 pm enjoy music\, a photo booth\, lawn games\, and a festive atmosphere at Night Heron Park\, centrally located on Kiawah Island.  Free and open to all island guests!  For more fun at Night Heron Park see our blog post https://staging.pamharringtonexclusives.com/blog/night-heron-park/
URL:https://staging.pamharringtonexclusives.com/event/sundown-festival-kiawah-island/2024-07-24/
LOCATION:Night Heron Park\, 4000 Sea Forest Drive\, Kiawah Island\, SC\, 29455\, United States
CATEGORIES:July - Kiawah Island
ATTACH;FMTTYPE=image/jpeg:https://staging.pamharringtonexclusives.com/wp-content/uploads/2024/07/sundown-festival-kiawah-island.jpg
END:VEVENT
BEGIN:VEVENT
DTSTART;TZID=UTC:20240717T180000
DTEND;TZID=UTC:20240717T210000
DTSTAMP:20260421T232006
CREATED:20240716T140835Z
LAST-MODIFIED:20240716T141108Z
UID:67048-1721239200-1721250000@staging.pamharringtonexclusives.com
SUMMARY:Sundown Festival Kiawah Island
DESCRIPTION:Wednesdays in July from 6 pm to 9 pm enjoy music\, a photo booth\, lawn games\, and a festive atmosphere at Night Heron Park\, centrally located on Kiawah Island.  Free and open to all island guests!  For more fun at Night Heron Park see our blog post https://staging.pamharringtonexclusives.com/blog/night-heron-park/
URL:https://staging.pamharringtonexclusives.com/event/sundown-festival-kiawah-island/2024-07-17/
LOCATION:Night Heron Park\, 4000 Sea Forest Drive\, Kiawah Island\, SC\, 29455\, United States
CATEGORIES:July - Kiawah Island
ATTACH;FMTTYPE=image/jpeg:https://staging.pamharringtonexclusives.com/wp-content/uploads/2024/07/sundown-festival-kiawah-island.jpg
END:VEVENT
END:VCALENDAR