BEGIN:VCALENDAR
VERSION:2.0
PRODID:-//Pam Harrington Exclusives - ECPv6.15.12.2//NONSGML v1.0//EN
CALSCALE:GREGORIAN
METHOD:PUBLISH
X-WR-CALNAME:Pam Harrington Exclusives
X-ORIGINAL-URL:https://staging.pamharringtonexclusives.com
X-WR-CALDESC:Events for Pam Harrington Exclusives
REFRESH-INTERVAL;VALUE=DURATION:PT1H
X-Robots-Tag:noindex
X-PUBLISHED-TTL:PT1H
BEGIN:VTIMEZONE
TZID:UTC
BEGIN:STANDARD
TZOFFSETFROM:+0000
TZOFFSETTO:+0000
TZNAME:UTC
DTSTART:20230101T000000
END:STANDARD
END:VTIMEZONE
BEGIN:VEVENT
DTSTART;TZID=UTC:20251214T120000
DTEND;TZID=UTC:20251214T170000
DTSTAMP:20260421T230801
CREATED:20251010T133203Z
LAST-MODIFIED:20251010T133203Z
UID:90557-1765713600-1765731600@staging.pamharringtonexclusives.com
SUMMARY:Second Sunday King Street December Edition
DESCRIPTION:🎄 Second Sunday on King — December Edition 🎁King Street turns pedestrian-only for an afternoon of twinkling decorations\, holiday music\, and festive patio dining—perfect for soaking up the season. It’s also the spot for that hard-to-buy-for person: discover local boutiques\, artisan pop-ups\, and unique gifts you won’t find anywhere else. Bring a tote\, sip something warm\, and make a merry day of it on Charleston’s most iconic street. (Noon–5 PM) \nFor more holiday fun in Charleston SC visit our blog.
URL:https://staging.pamharringtonexclusives.com/event/second-sunday-king-street-december-edition/
LOCATION:King Street Charleston SC\, King Street\, Charleston\, SC\, 29401\, United States
CATEGORIES:All - Charleston,December - Charleston
ATTACH;FMTTYPE=image/png:https://staging.pamharringtonexclusives.com/wp-content/uploads/2025/10/Second-Sunday-December-1.png
END:VEVENT
BEGIN:VEVENT
DTSTART;TZID=UTC:20251116T123000
DTEND;TZID=UTC:20251116T143000
DTSTAMP:20260421T230801
CREATED:20251112T111459Z
LAST-MODIFIED:20251112T111459Z
UID:92012-1763296200-1763303400@staging.pamharringtonexclusives.com
SUMMARY:Open House 2162 Wappoo Hall Road
DESCRIPTION:🏡 Open House | 2162 Wappoo Hall Road\, Charleston\, SC\n📅 Saturday\, November 16🕧 12:30 PM – 2:30 PM \nJoin Pam Harrington Exclusives for an exclusive Open House at 2162 Wappoo Hall Road\, Charleston\, SC.  This waterfront estate presents a rare opportunity to experience Lowcountry living directly on the water\, just minutes from downtown Charleston. \n✨ Property Highlights: \n\n\nExpansive deepwater views and a community park with dock access \n\n\n1.6 acres with grand oaks \n\n\nHistoric Charleston charm with room for expansion \n\n\nDon’t miss this opportunity to tour one of Charleston’s exclusive waterfront residences. \n📍 2162 Wappoo Hall Road\, Charleston\, SC 29412Presented by Pam Harrington Exclusives \nLearn more about the property → View Listing
URL:https://staging.pamharringtonexclusives.com/event/open-house-2162-wappoo-hall-road/
LOCATION:2162 Wappoo Hall Road\, 2162 Wappoo Hall Road\, Charleston\, 29412\, United States
CATEGORIES:All - Charleston,November - Charleston
ATTACH;FMTTYPE=image/png:https://staging.pamharringtonexclusives.com/wp-content/uploads/2025/11/8.png
ORGANIZER;CN="Pam Harrington Exclusives - Real Estate":MAILTO:info@staging.pamharringtonexclusives.com
END:VEVENT
BEGIN:VEVENT
DTSTART;VALUE=DATE:20251114
DTEND;VALUE=DATE:20260101
DTSTAMP:20260421T230801
CREATED:20251009T144923Z
LAST-MODIFIED:20251009T145027Z
UID:90517-1763078400-1767225599@staging.pamharringtonexclusives.com
SUMMARY:Charleston Holiday Events
DESCRIPTION:Planning a festive getaway? Our guide to holiday events in Charleston\, SC highlights the best Christmas lights\, parades\, markets\, concerts\, and family-friendly things to do across the Lowcountry. From the dazzling Holiday Festival of Lights to historic home tours\, tree lightings\, boat parades\, church concerts\, and cap off New Year’s Eve celebrations\, Charleston Wonderland. We’ve got dates\, locations\, and ticket tips to make your season sparkle. \n  \nCLICK for can’t-miss Charleston holiday events—perfect for locals and visitors looking to sip cocoa\, stroll cobblestone streets\, and soak up the city’s signature Southern cheer. \nCount on Pam Harrington Exclusives to provide the best holiday guide.  With almost 48 years of continuous service to Charleston\, SC and the Sea Islands we know how to celebrate the holidays in Charleston\, SC.
URL:https://staging.pamharringtonexclusives.com/event/charleston-holiday-events/
LOCATION:Charleston SC\, United States
CATEGORIES:All - Charleston,All - Seabrook Island,All Johns Island,All Kiawah Island,December - Charleston,December - Kiawah Island,December - Seabrook Island,November - Charleston,November - Kiawah Island,November - Seabrook Island
ATTACH;FMTTYPE=image/png:https://staging.pamharringtonexclusives.com/wp-content/uploads/2025/10/Charleston-Holiday-Events.png
END:VEVENT
BEGIN:VEVENT
DTSTART;VALUE=DATE:20251114
DTEND;VALUE=DATE:20251116
DTSTAMP:20260421T230801
CREATED:20251007T134327Z
LAST-MODIFIED:20251007T134327Z
UID:90406-1763078400-1763251199@staging.pamharringtonexclusives.com
SUMMARY:YALLFEST CHARLESTON
DESCRIPTION:YALLFest — Nov 14–15\, 2025 • Charleston\, SCThe country’s biggest YA book festival takes over Upper King with two days of author panels\, signings\, and bookish fun—most events are free and clustered within a few blocks of Blue Bicycle Books (420 King St.). Headliner events (Opening Keynote\, Closing Keynote\, The Smackdown) are ticketed and on sale now. \nYALLFest Schedule Fri 11/14: YALLCrawl signings on King St (2–5 pm\, free; some tickets)\, Fierce Friday at John L. Dart Library (free tickets)\, and Red Carpet Preview at CCPL Main (free tickets).Sat 11/15: Author panels 10 am–5 pm (Charleston Music Hall\, Charleston Museum\, American Theater; free)\, signings all day (Big Book Tent\, Lit Alley\, Museum\, American Theater)\, Sponsor Village 9 am–5 pm\, plus headliners at Charleston Music Hall—Opening Keynote 10 am\, Closing Keynote 5 pm\, YA Smackdown 6 pm ($8–$16)
URL:https://staging.pamharringtonexclusives.com/event/yallfest-charleston/
LOCATION:Charleston South Carolina\, Charleston\, United States
CATEGORIES:All - Charleston,November - Charleston
ATTACH;FMTTYPE=image/png:https://staging.pamharringtonexclusives.com/wp-content/uploads/2025/10/Yall-Fest-Book-Festival.png
END:VEVENT
BEGIN:VEVENT
DTSTART;TZID=UTC:20251109T120000
DTEND;TZID=UTC:20251109T170000
DTSTAMP:20260421T230801
CREATED:20251010T131648Z
LAST-MODIFIED:20251010T131648Z
UID:90552-1762689600-1762707600@staging.pamharringtonexclusives.com
SUMMARY:Second Sunday King Street
DESCRIPTION:Stroll\, shop\, and savor the November edition of Second Sunday on King Street—when Charleston’s most famous avenue goes pedestrian-only and the cooler temps make it perfect for lingering. Browse local boutiques and pop-ups\, get a head start on your holiday shopping\, and enjoy outdoor dining\, live street vibes\, and family- (and pup-) friendly fun up and down King. Grab a coffee\, bring a tote\, and make a day of it in the heart of downtown. \nNoon–5:00 PM on the second Sunday of each month. Streets are pedestrian-only from Queen St to Calhoun St during those hours. For more shopping on King Street in Charleston\, see our King Street Shopping Guide. 
URL:https://staging.pamharringtonexclusives.com/event/second-sunday-king-street/
LOCATION:King Street Charleston SC\, King Street\, Charleston\, SC\, 29401\, United States
CATEGORIES:All - Charleston,November - Charleston
ATTACH;FMTTYPE=image/png:https://staging.pamharringtonexclusives.com/wp-content/uploads/2025/09/Second-Sunday-King-Street.png
END:VEVENT
BEGIN:VEVENT
DTSTART;TZID=UTC:20251108T170000
DTEND;TZID=UTC:20251108T200000
DTSTAMP:20260421T230801
CREATED:20251010T130855Z
LAST-MODIFIED:20251010T130855Z
UID:90549-1762621200-1762632000@staging.pamharringtonexclusives.com
SUMMARY:Bourbon and Bluegrass at Middleton Place
DESCRIPTION:Celebrate Lowcountry flavor and music at Bourbon & Bluegrass at Middleton Place on Saturday\, Nov 8\, 5–8 PM. Arrive through the illuminated historic oaks to a welcome oyster roast by chef Bill Green\, then enjoy elevated small plates that honor local traditions paired with handcrafted bourbon cocktails. The night features live bluegrass by The Bluestone Ramblers\, a dessert bar with Middleton Place raw honey\, and a silent auction—all benefiting the Middleton Place Foundation’s mission of preservation\, research\, and education. Get tickets.  \nFor more fun events in the Holy City\, check out Pam Harrington Exclusives Events.
URL:https://staging.pamharringtonexclusives.com/event/bourbon-and-bluegrass-at-middleton-place/
LOCATION:Middleton Place\, 4300 Ashley River Road\, Charleston\, SC\, 29414\, United States
CATEGORIES:All - Charleston,November - Charleston
ATTACH;FMTTYPE=image/png:https://staging.pamharringtonexclusives.com/wp-content/uploads/2025/10/bourbon-and-bluegrass.png
END:VEVENT
BEGIN:VEVENT
DTSTART;TZID=UTC:20251101T110000
DTEND;TZID=UTC:20251101T170000
DTSTAMP:20260421T230801
CREATED:20251007T135720Z
LAST-MODIFIED:20251007T135720Z
UID:90412-1761994800-1762016400@staging.pamharringtonexclusives.com
SUMMARY:Harvest Festival Mullet Hall
DESCRIPTION:Harvest Festival — Sat\, Nov 1\, 2025 | 11 AM–5 PMHead to Johns Island County Park (2662 Mullet Hall Rd) for a full day of bluegrass\, pumpkin decorating\, kids’ crafts\, hayrides\, and favorite festival eats (Carolina BBQ\, kettle corn & more). Admission: $10 (ages 13+); free for 12 & under and Gold Pass members. Music kicks off at noon with YeeHaw Junction\, Southern Flavor\, and Willie Wells & The Blue Ridge Mountain Grass. Beer/wine\, and soft drinks are available; please bring chairs/blankets. No outside alcohol/coolers; dogs allowed on leash. \n  \nFor more great events\, visit our events page at Pam Harrington Exclusives.
URL:https://staging.pamharringtonexclusives.com/event/harvest-festival-mullet-hall/
LOCATION:Johns Island County Park
CATEGORIES:All - Charleston,All Johns Island,November - Charleston
ATTACH;FMTTYPE=image/png:https://staging.pamharringtonexclusives.com/wp-content/uploads/2025/10/Harvest-Festival-Mullet-Hall-.png
END:VEVENT
BEGIN:VEVENT
DTSTART;TZID=UTC:20251012T120000
DTEND;TZID=UTC:20251012T170000
DTSTAMP:20260421T230801
CREATED:20250930T154642Z
LAST-MODIFIED:20250930T154642Z
UID:90217-1760270400-1760288400@staging.pamharringtonexclusives.com
SUMMARY:Second Sunday on King Street
DESCRIPTION:Second Sunday on King Street — Sunday\, October 12\nStroll\, shop\, and dine in the heart of downtown as King Street goes car-free for Charleston’s favorite open-air afternoon. Boutiques roll out sidewalk displays\, local makers pop up with handcrafted goods\, and restaurants extend their patios for al fresco bites and sips. Expect live music on the corners\, plenty of people-watching\, and a relaxed\, community vibe perfect for families\, friends\, and pups alike. \nWhat to know \n\n\nFree and open to the public \n\n\nFamily- and dog-friendly \n\n\nShop local makers + beloved King Street boutiques \n\n\nOutdoor dining\, street performances\, and photo-worthy moments all along the corridor \n\n\nPro tips\nBring a reusable tote for your finds\, wear comfortable shoes\, and consider using nearby garages or rideshares\, as portions of King Street are closed to vehicles during the event. \nSee you on King Street on October 12! For more fun in Charleston\, visit our website.
URL:https://staging.pamharringtonexclusives.com/event/second-sunday-on-king-street-2/
LOCATION:King Street Charleston SC\, King Street\, Charleston\, SC\, 29401\, United States
CATEGORIES:All - Charleston,October - Charleston
ATTACH;FMTTYPE=image/png:https://staging.pamharringtonexclusives.com/wp-content/uploads/2025/09/Second-Sunday-King-Street.png
END:VEVENT
BEGIN:VEVENT
DTSTART;TZID=UTC:20251011T110000
DTEND;TZID=UTC:20251011T180000
DTSTAMP:20260421T230801
CREATED:20250929T143532Z
LAST-MODIFIED:20250929T143532Z
UID:90177-1760180400-1760205600@staging.pamharringtonexclusives.com
SUMMARY:Oktoberfest Charleston
DESCRIPTION:Oktoberfest Charleston 2025\nRaise a stein and dust off the dirndl—Oktoberfest Charleston 2025 is back with a Lowcountry twist on Bavaria’s biggest party. Expect crispy schnitzel\, fresh-baked pretzels\, and frosty German lagers alongside live oompah\, polka mashups\, and plenty of “Prost!” moments. \nSaturday – October 11th\, 2025\nFrom 11:00 am to 6:00 pm (Rain Date October 18th\, any schedule changes will be announced here.) \nWhat to expect\n\n\nBeer Gardens & Brewer Row: classic Märzen\, Festbier\, Helles\, plus Charleston collabs and non-alcoholic options \n\n\nBavarian Bites: bratwurst & kraut\, schnitzel sandwiches\, giant pretzels with bier cheese\, apple strudel \n\n\nLive Music & Games: oompah bands\, DJ sets\, stein-holding contests\, yodel-off\, best-dressed parade \n\n\nFamily-Friendly Hours: kids’ crafts\, face painting\, root beer garden (earlier in the day) \n\n\nVIP Experience (limited): shaded lounge\, express bar\, keepsake stein\, snack board \n\n\nMarket Alley: local makers\, Oktoberfest merch\, photo ops \n\n\nSample Schedule\n\n\nGates Open: Beer gardens & food halls fire up \n\n\nNoon–4 PM: Family-friendly programming & polka party \n\n\nAfternoon: Stein-hoist & pretzel-eating contests \n\n\nEvening: Headliner set + big group “Ein Prosit” toast \n\n\nTickets\n\n\nGeneral Admission: entry + access to all stages (food/drink sold separately) \n\n\nVIP: lounge access\, commemorative stein\, express lines \n\n\nDesignated Driver & Youth: discounted\, limited-time pricing \n\n\nGood to know\n\n\nTraditional attire encouraged (lederhosen/dirndl welcome!) \n\n\nCashless bars; valid ID required for 21+ wristbands \n\n\nFree water refill stations; please bring a sealed/empty bottle \n\n\nEvent is rain or shine \n\n\nReady to Prost?Grab tickets\, rally your crew\, and get set for the most festive fall weekend in the Lowcountry. Zicke zacke!
URL:https://staging.pamharringtonexclusives.com/event/oktoberfest-charleston/
LOCATION:St. Matthews Luthern Church\, 405 King Street\, Charleston\, SC\, United States
CATEGORIES:All - Charleston,October - Charleston
ATTACH;FMTTYPE=image/png:https://staging.pamharringtonexclusives.com/wp-content/uploads/2025/09/Oktoberfest-Charleston.png
END:VEVENT
BEGIN:VEVENT
DTSTART;TZID=UTC:20251003T200000
DTEND;TZID=UTC:20251004T230000
DTSTAMP:20260421T230801
CREATED:20250929T140258Z
LAST-MODIFIED:20250929T140258Z
UID:90167-1759521600-1759618800@staging.pamharringtonexclusives.com
SUMMARY:SteelDrivers and Sam Lewis Charleston
DESCRIPTION:Who: The SteelDrivers + special guest Sam LewisWhen/Where: Friday\, Oct 3 & Saturday\, Oct 4\, 2025 — Doors 7 pm\, Show 8 pm\, at Charleston Music Hall (37 John St.). Tickets from $29.50–$39.50; box seats $89.50. Charleston Music Hall \nAbout The SteelDrivers: Nashville’s GRAMMY-winning\, hard-charging bluegrass outfit—fiddle\, banjo\, and grit—with a sound that blends tradition and soul. They won Best Bluegrass Album at the 2016 GRAMMYs for The Muscle Shoals Recordings\, and their catalog includes fan favorites like “Where Rainbows Never Die” (early era with Chris Stapleton). \nAbout Sam Lewis: Nashville singer-songwriter whose voice leans Americana/blues/soul—warm\, conversational\, and story-forward. Don’t miss Sam Lewis and special guest Martin Harley. \nVibe check: Expect tight harmonies\, muscular picking\, and songs that cut from lonesome ballads to stomp-along grooves—then a soulful\, rootsy set from Lewis to set the tone. \nTickets/Info: See Charleston Music Hall’s event page or major ticket sites for availability and seat map
URL:https://staging.pamharringtonexclusives.com/event/steeldrivers-and-sam-lewis-charleston/
LOCATION:Charleston Music Hall\, 37 John Street\, Charleston\, 29403\, United States
CATEGORIES:All - Charleston,October - Charleston
ATTACH;FMTTYPE=image/png:https://staging.pamharringtonexclusives.com/wp-content/uploads/2025/09/SteelDrivers-and-Sam-Lewis.png
END:VEVENT
BEGIN:VEVENT
DTSTART;TZID=UTC:20250206T080000
DTEND;TZID=UTC:20250222T170000
DTSTAMP:20260421T230801
CREATED:20250203T135754Z
LAST-MODIFIED:20250203T135754Z
UID:76030-1738828800-1740243600@staging.pamharringtonexclusives.com
SUMMARY:Garden Lights Middleton Place
DESCRIPTION:Experience Middleton Place’s gardens in a new light! From February 6th-22nd\, explore the illuminated grounds on Wednesdays through Sundays from 6:00-8:30 pm (lights out at 10 pm). This self-guided walking tour\, “Garden Lights\,” showcases the beauty of the gardens at night with vibrant colors and designs that highlight the history and culture of the Lowcountry. Tickets are limited to pre-sale\, so get yours in advance. The tour takes approximately 45 minutes. For more winter Charleston events\, visit Pam Harrington Exclusives Events Calendar. 
URL:https://staging.pamharringtonexclusives.com/event/garden-lights-middleton-place/
LOCATION:Middleton Place\, 4300 Ashley River Road\, Charleston\, SC\, 29414\, United States
CATEGORIES:All - Charleston,February - Charleston
ATTACH;FMTTYPE=image/png:https://staging.pamharringtonexclusives.com/wp-content/uploads/2025/02/Garden-Lights-Middleton-Place.png
END:VEVENT
BEGIN:VEVENT
DTSTART;TZID=UTC:20250102T080000
DTEND;TZID=UTC:20250105T170000
DTSTAMP:20260421T230801
CREATED:20241202T132913Z
LAST-MODIFIED:20241204T133933Z
UID:71341-1735804800-1736096400@staging.pamharringtonexclusives.com
SUMMARY:Mama Mia Charleston SC
DESCRIPTION:Don’t miss this popular musical as it makes a tour stop in Charleston\, SC. This January event is a great way to beat the post-holiday blues. Tickets are available now.
URL:https://staging.pamharringtonexclusives.com/event/mama-mia-charleston-sc/
LOCATION:North Charleston Performing Arts Center\, 5001 Coliseum Dr\, North Charleston\, SC\, 29418\, United States
CATEGORIES:All - Charleston,January - Charleston
ATTACH;FMTTYPE=image/png:https://staging.pamharringtonexclusives.com/wp-content/uploads/2024/12/Mama-Mia-Charleston-SC.png
END:VEVENT
BEGIN:VEVENT
DTSTART;TZID=UTC:20240811T120000
DTEND;TZID=UTC:20240811T170000
DTSTAMP:20260421T230801
CREATED:20240807T132423Z
LAST-MODIFIED:20240807T132423Z
UID:67804-1723377600-1723395600@staging.pamharringtonexclusives.com
SUMMARY:Second Sunday on King Street
DESCRIPTION:Second Sunday on King Street is a monthly Charleston tradition that transforms the bustling thoroughfare into a pedestrian paradise. From noon to 5 PM on the second Sunday of each month\, King Street is closed to traffic\, inviting locals and visitors alike to explore the vibrant shops\, indulge in delectable cuisine\, and soak up the city’s charm. The street comes alive with live music\, art displays\, and a festive atmosphere\, making it the perfect afternoon for strolling\, shopping\, and people-watching.   \nOur favorite activity is grabbing a delicious treat from Woof Gang Bakery and greeting all the dogs strolling King Street.  For more King Street shopping fun see our King Street shopping blog. 
URL:https://staging.pamharringtonexclusives.com/event/second-sunday-on-king-street/
LOCATION:King Street Charleston SC\, King Street\, Charleston\, SC\, 29401\, United States
CATEGORIES:All - Charleston,August - Charleston
ATTACH;FMTTYPE=image/jpeg:https://staging.pamharringtonexclusives.com/wp-content/uploads/2024/08/second-sunday-king-street.jpg
END:VEVENT
END:VCALENDAR