BEGIN:VCALENDAR
VERSION:2.0
PRODID:-//Pam Harrington Exclusives - ECPv6.15.12.2//NONSGML v1.0//EN
CALSCALE:GREGORIAN
METHOD:PUBLISH
X-ORIGINAL-URL:https://staging.pamharringtonexclusives.com
X-WR-CALDESC:Events for Pam Harrington Exclusives
REFRESH-INTERVAL;VALUE=DURATION:PT1H
X-Robots-Tag:noindex
X-PUBLISHED-TTL:PT1H
BEGIN:VTIMEZONE
TZID:UTC
BEGIN:STANDARD
TZOFFSETFROM:+0000
TZOFFSETTO:+0000
TZNAME:UTC
DTSTART:20230101T000000
END:STANDARD
END:VTIMEZONE
BEGIN:VEVENT
DTSTART;TZID=UTC:20251126T130000
DTEND;TZID=UTC:20251126T160000
DTSTAMP:20260422T002302
CREATED:20231026T200454Z
LAST-MODIFIED:20251110T212254Z
UID:57642-1764162000-1764172800@staging.pamharringtonexclusives.com
SUMMARY:Annual Thanksgiving Kiawah Island Open House
DESCRIPTION:🦃 Annual Thanksgiving Kiawah Island Open House\n📍 79 Trailing Vine Way – Cassique\n🗓️ Wednesday\, Nov. 26th\n1 pm ’til 4 pm\nCome mingle\, unwind\, and soak in the spirit of Thanksgiving on Kiawah Island! \nTake in the fabulous water views as you explore 79 Trailing Vine Way\, a home that truly captures the charm of coastal living. \nEnjoy sweets and champagne between your holiday plans!
URL:https://staging.pamharringtonexclusives.com/event/kiawah-thanksgiving-open-house/
LOCATION:79 Trailing Vine Way – Cassique\, 79 Trailing Vine Way\, Kiawah Island\, SC
CATEGORIES:All - Seabrook Island,All Johns Island,November - Charleston,November - Kiawah Island
ATTACH;FMTTYPE=image/jpeg:https://staging.pamharringtonexclusives.com/wp-content/uploads/2023/10/BT-PHOTO-SIZE-MATCH-MOBILE-1200-x-800-47.jpg
ORGANIZER;CN="Pam Harrington Exclusives - Real Estate":MAILTO:info@staging.pamharringtonexclusives.com
END:VEVENT
BEGIN:VEVENT
DTSTART;TZID=UTC:20251126T110000
DTEND;TZID=UTC:20251126T160000
DTSTAMP:20260422T002302
CREATED:20240815T163251Z
LAST-MODIFIED:20251111T152130Z
UID:67926-1764154800-1764172800@staging.pamharringtonexclusives.com
SUMMARY:Marfa Stance Trunk Show Day 2 - Kiawah Island\, SC
DESCRIPTION:Join us for a special Marfa Stance Showcase featuring Bei Tesori Jewelry!\n✨ You’re Invited! ✨Join us at Pam Harrington Exclusives for a special Marfa Stance Trunk Show and Bei Tesori Jewelry Showcase \n🗓 Wednesday\, November 26🕚 11:00 AM – 4:00 PM📍 Pam Harrington Exclusives Office \nDiscover the world of Marfa Stance\, known for its versatile\, luxury outerwear\, alongside a curated jewelry presentation by Bei Tesori — “Beautiful Treasures” in Italian. \nEach Bei Tesori piece is meticulously handcrafted in Italy from the finest 18k gold\, inspired by timeless\, vintage elegance. Their artisans pour generations of skill and passion into every design — true works of wearable art. \n✨ Enjoy a day of style\, craftsmanship\, and inspiration with us at our PHE Sales Office \nRegistration is required. Please sign up to receive emails leading up to the event. \n  \nJust announced\, special guest Bei Tesori Jewelry.\n \nStay tuned for more details!
URL:https://staging.pamharringtonexclusives.com/event/marfa-stance-trunk-show-kiawah-island-sc/
LOCATION:PHE Sales Office\, 4341 Betsy Kerrison Pkwy\, Johns Island\, SC\, 29455\, United States
CATEGORIES:All - Seabrook Island,All Johns Island,All Kiawah Island,November - Charleston,November - Kiawah Island,November - Seabrook Island
ATTACH;FMTTYPE=image/jpeg:https://staging.pamharringtonexclusives.com/wp-content/uploads/2024/08/Multicolored-Aesthetic-Photo-Collage-Travel-Blogger-Blog-Banner-1200-x-800-px-1.jpg
ORGANIZER;CN="Pam Harrington Exclusives - Real Estate":MAILTO:info@staging.pamharringtonexclusives.com
END:VEVENT
BEGIN:VEVENT
DTSTART;TZID=UTC:20251125T100000
DTEND;TZID=UTC:20251125T150000
DTSTAMP:20260422T002302
CREATED:20251103T172241Z
LAST-MODIFIED:20251110T155945Z
UID:91610-1764064800-1764082800@staging.pamharringtonexclusives.com
SUMMARY:Marfa Stance Trunk Show Day 1 - Kiawah Island\, SC
DESCRIPTION:Join us for 2 days of access to Marfa Stance!\nThis exclusive trunk show event takes place Thanksgiving week on Kiawah Island for property owners and guests! \nThe Kiawah Island event location for Tuesday\, Nov 25th will be revealed leading up to the week of the trunk show. \nThe event location for Wednesday\, Nov 26th will be at the PHE Sales Office\, located just off island. \nLearn more about Marfa Stance\, a London based brand with buildable\, reversible\, luxury outerwear made in Italy! \nRegistration is required. Please sign-up to receive emails leading up to the event. \n  \nJust announced\, special guest Bei Tesori Jewelry\n \nStay tuned for more details!
URL:https://staging.pamharringtonexclusives.com/event/marfa-stance-trunk-show-day-1-kiawah-island-sc/
LOCATION:Kiawah Island\, 29455\, United States
CATEGORIES:All - Seabrook Island,All Johns Island,November - Charleston,November - Kiawah Island
ATTACH;FMTTYPE=image/jpeg:https://staging.pamharringtonexclusives.com/wp-content/uploads/2024/08/Multicolored-Aesthetic-Photo-Collage-Travel-Blogger-Blog-Banner-1200-x-800-px-1.jpg
ORGANIZER;CN="Pam Harrington Exclusives - Real Estate":MAILTO:info@staging.pamharringtonexclusives.com
END:VEVENT
BEGIN:VEVENT
DTSTART;TZID=UTC:20251124T130000
DTEND;TZID=UTC:20251124T170000
DTSTAMP:20260422T002302
CREATED:20251104T153045Z
LAST-MODIFIED:20251105T133503Z
UID:91654-1763989200-1764003600@staging.pamharringtonexclusives.com
SUMMARY:Thanksgiving Farmers Market
DESCRIPTION:🦃 Special Thanksgiving Farmers Market – Monday\, November 24 | 1–5 PM at Freshfields Village\nCelebrate the season at the Thanksgiving Farmers Market\, a special Monday event bringing together the Lowcountry’s best local flavors and holiday inspiration! \nShop for fresh local produce\, baked goods\, gourmet treats\, and handcrafted gifts perfect for your Thanksgiving table. Enjoy seasonal favorites from beloved vendors\, including Joseph Field Farms\, T&T Original Kettle Korn\, Charleston Spice Company\, Sweet Mae’s Pimento Cheese\, Nothing Bundt Cakes\, and many more. \nBrowse beautiful sweetgrass baskets\, artisan pottery\, and handmade pet accessories\, or treat yourself to fairy hair by Sparkle Charleston and Southern Oaks Ranch goat milk skincare. With something for everyone\, this festive market is the perfect way to prepare for the holidays—while supporting our local makers and farmers. \n📍 When: Monday\, November 24\, 1:00–5:00 PM📍 Where: Freshfields Village🎁 What to Expect: Fresh produce\, baked goods\, specialty foods\, handmade crafts\, and local holiday cheer! \nFor more holiday events on the island\, visit Pam Harrington Exclusives Event Calendar
URL:https://staging.pamharringtonexclusives.com/event/thanksgiving-farmers-market/
LOCATION:Freshfields Village\, 149 Village Green Lane\, Johns Island\, SC\, 29455\, United States
CATEGORIES:All - Seabrook Island,All Johns Island,All Kiawah Island,November - Kiawah Island,November - Seabrook Island
ATTACH;FMTTYPE=image/jpeg:https://staging.pamharringtonexclusives.com/wp-content/uploads/2025/10/Sea-Islands-Farmers-Market.jpg
END:VEVENT
BEGIN:VEVENT
DTSTART;VALUE=DATE:20251114
DTEND;VALUE=DATE:20260101
DTSTAMP:20260422T002302
CREATED:20251009T144923Z
LAST-MODIFIED:20251009T145027Z
UID:90517-1763078400-1767225599@staging.pamharringtonexclusives.com
SUMMARY:Charleston Holiday Events
DESCRIPTION:Planning a festive getaway? Our guide to holiday events in Charleston\, SC highlights the best Christmas lights\, parades\, markets\, concerts\, and family-friendly things to do across the Lowcountry. From the dazzling Holiday Festival of Lights to historic home tours\, tree lightings\, boat parades\, church concerts\, and cap off New Year’s Eve celebrations\, Charleston Wonderland. We’ve got dates\, locations\, and ticket tips to make your season sparkle. \n  \nCLICK for can’t-miss Charleston holiday events—perfect for locals and visitors looking to sip cocoa\, stroll cobblestone streets\, and soak up the city’s signature Southern cheer. \nCount on Pam Harrington Exclusives to provide the best holiday guide.  With almost 48 years of continuous service to Charleston\, SC and the Sea Islands we know how to celebrate the holidays in Charleston\, SC.
URL:https://staging.pamharringtonexclusives.com/event/charleston-holiday-events/
LOCATION:Charleston SC\, United States
CATEGORIES:All - Charleston,All - Seabrook Island,All Johns Island,All Kiawah Island,December - Charleston,December - Kiawah Island,December - Seabrook Island,November - Charleston,November - Kiawah Island,November - Seabrook Island
ATTACH;FMTTYPE=image/png:https://staging.pamharringtonexclusives.com/wp-content/uploads/2025/10/Charleston-Holiday-Events.png
END:VEVENT
BEGIN:VEVENT
DTSTART;TZID=UTC:20251101T110000
DTEND;TZID=UTC:20251101T170000
DTSTAMP:20260422T002302
CREATED:20251007T135720Z
LAST-MODIFIED:20251007T135720Z
UID:90412-1761994800-1762016400@staging.pamharringtonexclusives.com
SUMMARY:Harvest Festival Mullet Hall
DESCRIPTION:Harvest Festival — Sat\, Nov 1\, 2025 | 11 AM–5 PMHead to Johns Island County Park (2662 Mullet Hall Rd) for a full day of bluegrass\, pumpkin decorating\, kids’ crafts\, hayrides\, and favorite festival eats (Carolina BBQ\, kettle corn & more). Admission: $10 (ages 13+); free for 12 & under and Gold Pass members. Music kicks off at noon with YeeHaw Junction\, Southern Flavor\, and Willie Wells & The Blue Ridge Mountain Grass. Beer/wine\, and soft drinks are available; please bring chairs/blankets. No outside alcohol/coolers; dogs allowed on leash. \n  \nFor more great events\, visit our events page at Pam Harrington Exclusives.
URL:https://staging.pamharringtonexclusives.com/event/harvest-festival-mullet-hall/
LOCATION:Johns Island County Park
CATEGORIES:All - Charleston,All Johns Island,November - Charleston
ATTACH;FMTTYPE=image/png:https://staging.pamharringtonexclusives.com/wp-content/uploads/2025/10/Harvest-Festival-Mullet-Hall-.png
END:VEVENT
BEGIN:VEVENT
DTSTART;TZID=UTC:20251018T093000
DTEND;TZID=UTC:20251018T133000
DTSTAMP:20260422T002302
CREATED:20251008T141343Z
LAST-MODIFIED:20251008T141343Z
UID:90471-1760779800-1760794200@staging.pamharringtonexclusives.com
SUMMARY:Sea Islands Farmers Market Saturday
DESCRIPTION:Sea Island Farmers Market — Sat\, Oct 18 | 9:30 AM–1:30 PMSpend your Saturday under the oaks with peak-season produce\, fresh seafood\, baked goods\, coffee\, crafts\, and more—everything grown or made by the vendors themselves. Find us year-round\, rain or shine\, at 2024 Academy Dr\, Johns Island. Bring a tote\, grab a bite\, and meet your local makers. \n  \nFor more Charleston area events visit our website at Pam Harrington Exclusives. \n  \n 
URL:https://staging.pamharringtonexclusives.com/event/sea-islands-farmers-market-saturday/
LOCATION:Charleston Collegiate School\, 2024 Academy Drive\, Johns Islandd\, 29455\, United States
CATEGORIES:All Johns Island
ATTACH;FMTTYPE=image/jpeg:https://staging.pamharringtonexclusives.com/wp-content/uploads/2025/10/Sea-Islands-Farmers-Market.jpg
ORGANIZER;CN="Sea Island Farmers Market":MAILTO:info@seaislandsfarmersmarket.com
END:VEVENT
BEGIN:VEVENT
DTSTART;TZID=UTC:20251018T090000
DTEND;TZID=UTC:20251018T140000
DTSTAMP:20260422T002302
CREATED:20250930T134501Z
LAST-MODIFIED:20250930T134501Z
UID:90206-1760778000-1760796000@staging.pamharringtonexclusives.com
SUMMARY:Run Like the Devil 5K
DESCRIPTION:Run Like the Devil 5K & Fun Run — Kiawah River\nSaturday\, October 18\, 2025 • 9:00 AM–2:00 PM \nJoin Charleston Collegiate School at Kiawah River (3883 Betsy Kerrison Pkwy\, Johns Island) for a family-friendly fall festival capped by the Run Like the Devil 5K and Fun Run—a scenic Lowcountry day across more than 2\,000 acres of trails\, boardwalks\, music\, makers\, and food trucks. \nPam Harrington Exclusives is a proud sponsor of Charleston Collegiate! \nSchedule\n\n\n9:00 AM – Race check-in opens \n\n\n10:00 AM – 5K Trail Run (chip timed) \n\n\n12:00 PM – Fun Run (great for kids & casual runners)Festival programming runs from 9:00 AM to 2:00 PM. Pets welcome on leash. \n\n\nGood to know\n\n\nCause: Proceeds benefit Charleston Collegiate School’s Annual Fund. \n\n\nFestival vibes: local vendor village\, live music\, games\, beer & wine\, and food trucks. \n\n\nTerrain: flat\, picturesque Kiawah River trails—great for first-timers and families \n\n\nRegister / Info\nSign up and find race-day details via the event listing and CCS page \nTip: Arrive early for parking and warm-up; bring a refillable water bottle (the festival has hydration stations). See you on the trail! \n\n\n\n\n\n\nFor more island fun see our Pam Harrington Exclusives event calendar!
URL:https://staging.pamharringtonexclusives.com/event/run-like-the-devil-5k/
LOCATION:Kiawah River\, 3883 Betsy Kerrison Parkway\, Johns Island\, 29455\, United States
CATEGORIES:All Johns Island,October - Kiawah Island,October - Seabrook Island
ATTACH;FMTTYPE=image/png:https://staging.pamharringtonexclusives.com/wp-content/uploads/2025/09/chas-collegiate-Run-Like-the-Devil.png
END:VEVENT
BEGIN:VEVENT
DTSTART;TZID=UTC:20251011T093000
DTEND;TZID=UTC:20251011T133000
DTSTAMP:20260422T002302
CREATED:20251008T124850Z
LAST-MODIFIED:20251008T124850Z
UID:90465-1760175000-1760189400@staging.pamharringtonexclusives.com
SUMMARY:Sea Islands Farmers Market
DESCRIPTION:Sea Island Farmers Market  Celebrate harvest season on the Sea Islands with a laid-back\, local market vibe. The Sea Islands Farmers Market offers peak-season produce\, fresh seafood\, farm eggs\, flowers\, and artisan goods—from baked treats and small-batch coffee to handcrafted soaps\, art\, and gifts. \n  \nExpect rotating food trucks\, chef pop-ups\, and live acoustic tunes while you stroll. Families are welcome (kids’ activities often pop up)\, and well-behaved\, leashed dogs make plenty of friends. Come hungry\, bring a tote\, and meet the growers and makers who keep our community delicious. \nFor more fun see our events calendar by Pam Harrington Exclusives\, a member of the community since 1978\,
URL:https://staging.pamharringtonexclusives.com/event/sea-islands-farmers-market/
LOCATION:Charleston Collegiate School\, 2024 Academy Drive\, Johns Islandd\, 29455\, United States
CATEGORIES:All Johns Island
ATTACH;FMTTYPE=image/png:https://staging.pamharringtonexclusives.com/wp-content/uploads/2025/10/Sea-Islands-Farmers-Market.png
ORGANIZER;CN="Sea Island Farmers Market":MAILTO:info@seaislandsfarmersmarket.com
END:VEVENT
BEGIN:VEVENT
DTSTART;TZID=UTC:20251004T070000
DTEND;TZID=UTC:20251004T120000
DTSTAMP:20260422T002302
CREATED:20250929T142441Z
LAST-MODIFIED:20250929T143610Z
UID:90173-1759561200-1759579200@staging.pamharringtonexclusives.com
SUMMARY:Lowcountry Trail Run
DESCRIPTION:Lowcountry Trail Run — Saturday\, October 4\nBreathe in the salt air and glide beneath live oaks at the Lowcountry Trail Run\, a fall dash through coastal woods and marsh views—perfect for first-timers and seasoned trail runners alike. \nWhat to expect \n\n\nDistances: 5K & 10K (walkers welcome on the 5K) \n\n\nTerrain: hard-packed trail\, boardwalks\, and gentle sandy stretches; mostly flat with a few bridges \n\n\nPerks: race tee\, chip timing\, course photos\, and post-run refreshments \n\n\nAwards: Top 3 overall (M/F)\, Masters (40+)\, and age-group awards \n\n\nGood vibes: music at the finish\, local coffee\, and a friendly Lowcountry crowd \n\n\nEvent day schedule \n\n\n7:30 AM — Packet pick-up & check-in \n\n\n8:30 AM — 10K start \n\n\n8:40 AM — 5K start \n\n\n9:45 AM — Awards & photos \n\n\nCourse & safety \n\n\nClearly marked course with a mid-course water station (10K) and finish-line hydration for all \n\n\nPlease keep audio low/one ear open\, yield on narrow singletrack\, and watch footing on bridges/boardwalks \n\n\nStrollers not recommended; no pets on course for safety \n\n\nRegistration\nEarly-bird pricing through Oct 1; capacity is limited. Secure your spot now and we’ll send final race-week details\, parking info\, and your runner guide. \nDo a little good while you run\nA portion of proceeds supports local trail stewardship and coastal conservation. \nReady to lace up?Register today and tag your training with #LowcountryTrailRun.
URL:https://staging.pamharringtonexclusives.com/event/lowcountry-trail-run/
LOCATION:Johns Island County Park
CATEGORIES:All Johns Island
ATTACH;FMTTYPE=image/png:https://staging.pamharringtonexclusives.com/wp-content/uploads/2025/09/Lowcountry-Trail-Run.png
END:VEVENT
BEGIN:VEVENT
DTSTART;TZID=UTC:20250815T110000
DTEND;TZID=UTC:20250815T140000
DTSTAMP:20260422T002302
CREATED:20250429T163636Z
LAST-MODIFIED:20250429T163636Z
UID:81486-1755255600-1755266400@staging.pamharringtonexclusives.com
SUMMARY:Kiawah Food Truck Summer Series August
DESCRIPTION:Kiawah’s got NEW flavor! 🚚🎶 Join TOKI Bites & Brews food truck festival Fridays (April-Aug\, 11-2 PM) at Town Hall! Delicious eats\, live music\, community fun. Bring a chair! The last summer installment is Friday\, August 15—scrumptious food and beverages provided by local vendors TBA.
URL:https://staging.pamharringtonexclusives.com/event/kiawah-food-truck-summer-series-august/
LOCATION:Town of Kiawah Island\, 4475 Betsy Kerrison Parkway\, Johns Island\, SC\, 29455\, United States
CATEGORIES:All - Seabrook Island,All Johns Island,All Kiawah Island,August - Kiawah Island,August - Seabrook Island
ATTACH;FMTTYPE=image/png:https://staging.pamharringtonexclusives.com/wp-content/uploads/2025/04/Kiawah-Food-Truck-Festival-June-6.png
END:VEVENT
BEGIN:VEVENT
DTSTART;TZID=UTC:20250718T110000
DTEND;TZID=UTC:20250718T140000
DTSTAMP:20260422T002302
CREATED:20250429T163149Z
LAST-MODIFIED:20250429T163149Z
UID:81482-1752836400-1752847200@staging.pamharringtonexclusives.com
SUMMARY:Kiawah Summer Food Truck Series July
DESCRIPTION:Summer fun on Kiawah! 🎉 TOKI Bites & Brews food truck festival is here! Enjoy delicious eats\, live music\, and community vibes at Town Hall (4475 Betsy Kerrison Pkwy.) One Friday each month\, April-August\, 11 am – 2 pm. Bring your chair & appetite! Mark  July 18 on your calendar.
URL:https://staging.pamharringtonexclusives.com/event/kiawah-summer-food-truck-series-july/
LOCATION:SC
CATEGORIES:All - Seabrook Island,All Johns Island,All Kiawah Island,July - Kiawah Island,July - Seabrook Island
ATTACH;FMTTYPE=image/png:https://staging.pamharringtonexclusives.com/wp-content/uploads/2025/04/Kiawah-Food-Truck-Summer-Series.png
END:VEVENT
BEGIN:VEVENT
DTSTART;TZID=UTC:20250606T110000
DTEND;TZID=UTC:20250606T140000
DTSTAMP:20260422T002302
CREATED:20250429T142405Z
LAST-MODIFIED:20250429T152625Z
UID:81467-1749207600-1749218400@staging.pamharringtonexclusives.com
SUMMARY:Kiawah Summer Food Truck Festival Series June
DESCRIPTION:Craving something new on Kiawah? 🤔 Check out TOKI Bites & Brews\, a monthly summer food truck festival! 🌮🍔🍦 Discover a fresh mix of food and beverage vendors each Friday (April-August\, 11 am – 2 pm) at Town Hall (4475 Betsy Kerrison Pkwy.). Live music & community fun guaranteed! Bring your seating.  Mark June 6\, 2025 on your calendar! \n  \nJune vendors are Foxes Fried\, Lowcountry Caviar\, Krystyna’s Polish Food\, Smash City Burgers\, Braised and Glazed\, King of Pops
URL:https://staging.pamharringtonexclusives.com/event/kiawah-summer-food-truck-festival-series-june/
LOCATION:Town of Kiawah Island\, 4475 Betsy Kerrison Parkway\, Johns Island\, SC\, 29455\, United States
CATEGORIES:All - Seabrook Island,All Johns Island,All Kiawah Island,June - Kiawah Island,June - Seabrook Island
ATTACH;FMTTYPE=image/png:https://staging.pamharringtonexclusives.com/wp-content/uploads/2025/04/Kiawah-Food-Truck-Festival-June-6.png
END:VEVENT
BEGIN:VEVENT
DTSTART;TZID=UTC:20250410T180000
DTEND;TZID=UTC:20250410T200000
DTSTAMP:20260422T002302
CREATED:20250409T142536Z
LAST-MODIFIED:20250409T143116Z
UID:79834-1744308000-1744315200@staging.pamharringtonexclusives.com
SUMMARY:Jazz Night at Andell Inn
DESCRIPTION:Jazz Night at the Porch Bar in the Andell Inn at Freshfields Village is a great way to unwind!  Hosted every second and fourth Thursday of the month\, Jazz night runs  from 6:00 to 8:00 pm and features various local artists.  Thursdays are a bit groovier at Andell Inn!
URL:https://staging.pamharringtonexclusives.com/event/jazz-night-at-andell-inn/
LOCATION:Andell Inn\, 300 Farm Lake View Rd\, Kiawah Island\, SC\, 29455\, United States
CATEGORIES:All - Seabrook Island,All Johns Island,All Kiawah Island,April - Kiawah Island,April - Seabrook Island
ATTACH;FMTTYPE=image/png:https://staging.pamharringtonexclusives.com/wp-content/uploads/2025/04/Jazz-at-Andell-Inn.png
END:VEVENT
BEGIN:VEVENT
DTSTART;TZID=UTC:20250214T160000
DTEND;TZID=UTC:20250214T190000
DTSTAMP:20260422T002302
CREATED:20250131T142418Z
LAST-MODIFIED:20250131T142418Z
UID:75845-1739548800-1739559600@staging.pamharringtonexclusives.com
SUMMARY:Art Walk at Freshfields Village
DESCRIPTION:The annual Art Walk is happening on Friday\, February 14th\, from 4:00 to 7:00 pm in the Village. Enjoy live art demonstrations\, view works by local and visiting artists displayed in participating retail shops\, and listen to live music as you stroll. Several businesses are hosting specific artists: \n\nAndell Inn: Mitch Schlimer (Artographer)\nCharleston Shoe Company: Amy Schwarz (Impressionist/Abstract Painter)\nFirst National Bank: Pamela Cohen (Landscape/Wildlife Photographer)\nHolly & Brooks: Amy Gaweda (Oil Painter – Coastal Scenes)\nJ.McLaughlin: Capey Freeman (Painter – Light\, Nature\, Figures)\nJava Java: Jennifer Bearden (Tidal Shift Studios)\nJohnny Was: Sherman Mack (Watercolor Artist – Coastal Themes\, sips & treats\, gift with purchase)\nKiawah Island Oasis: Fallon Peper (Coastalscapes and Still Life Painter)\nKiawah Spirits: Patricia Bisceglia (Molly Joseph Fine Art – Lowcountry Prints/Cards)\nKiawah Wines: Daphne Hobson (Portrait/Pastel Painter)\nLilly Pulitzer: Kelen Ledford & Sharon Durgom (Painters\, raffle\, sips & sweets)\nlululemon: Sydney Scott (Photographer)\nSeaCoast Sports and Outfitters: John Walters (Witzel Art\, complimentary beverages)\nSpartina 449: Danny & Wendy McLaughlin (Realistic Expressionism & Abstract Neo-Expressionism\, live painting)\nThe Co-Op: Yuka Duke (Oil Painter – Tiny Treasures)\nVillage Dentistry: Zachary Holloway (WildArt – Beadwork/Carvings) & Trellis Bow Ties (Handwoven Garden Bow Ties)\n\nFor more great events in our area\, visit our Pam Harrington Events Calendar! 
URL:https://staging.pamharringtonexclusives.com/event/art-walk-at-freshfields-village/
LOCATION:Freshfields Village\, 149 Village Green Lane\, Johns Island\, SC\, 29455\, United States
CATEGORIES:All - Seabrook Island,All Johns Island,February - Seabrook Island
ATTACH;FMTTYPE=image/jpeg:https://staging.pamharringtonexclusives.com/wp-content/uploads/2025/01/Art-Walk-Freshfields-Village.jpg
END:VEVENT
BEGIN:VEVENT
DTSTART;VALUE=DATE:20241205
DTEND;VALUE=DATE:20241225
DTSTAMP:20260422T002302
CREATED:20241205T144422Z
LAST-MODIFIED:20241205T144422Z
UID:71600-1733356800-1735084799@staging.pamharringtonexclusives.com
SUMMARY:Fields Farm Christmas Market
DESCRIPTION:Fields Farm on Johns Island is hosting a holiday market through December 24!  Shop local and get all your holiday decorations from our local friends on River Road.  Fields Farm is your one-stop destination for Christmas trees\, stocking stuffers\, decorative poinsettias\, firewood\, and\, most importantly\, healthy eating options. Open 10-5. For more holiday events in Charleston visit our blog!
URL:https://staging.pamharringtonexclusives.com/event/fields-farm-christmas-market/
LOCATION:Fields Farm\, 3129 River Road\, Johns Island\, SC\, 29455\, United States
CATEGORIES:All - Seabrook Island,All Johns Island,All Kiawah Island,December - Charleston,December - Kiawah Island
ATTACH;FMTTYPE=image/jpeg:https://staging.pamharringtonexclusives.com/wp-content/uploads/2024/12/EVENT-featured-images-2.jpg
ORGANIZER;CN="Fields Farm":MAILTO:fieldsdeliandproducemarket@gmail.com
END:VEVENT
BEGIN:VEVENT
DTSTART;TZID=UTC:20241102T110000
DTEND;TZID=UTC:20241102T170000
DTSTAMP:20260422T002302
CREATED:20240802T124524Z
LAST-MODIFIED:20240802T124524Z
UID:67705-1730545200-1730566800@staging.pamharringtonexclusives.com
SUMMARY:Harvest Festival Johns Island SC
DESCRIPTION:Join us for a day of autumn fun at the Johns Island Harvest Festival! \nEnjoy live bluegrass music\, pumpkin decorating\, and exciting kids’ activities. Savor delicious Southern barbecue\, kettle corn\, and other festival favorites while browsing unique crafts and gifts from local vendors. It’s the perfect opportunity to celebrate the season with family and friends. \nDate: Saturday\, November 2\, 2024 Time: 11 a.m. to 5 p.m.Location: Johns Island County Park\, 2662 Mullet Hall Road\, Johns Island\, SC 29455
URL:https://staging.pamharringtonexclusives.com/event/harvest-festival-johns-island-sc/
LOCATION:Johns Island County Park
CATEGORIES:All Johns Island
ATTACH;FMTTYPE=image/jpeg:https://staging.pamharringtonexclusives.com/wp-content/uploads/2024/08/Harvest-Festival-Johns-Island.jpg
END:VEVENT
BEGIN:VEVENT
DTSTART;TZID=UTC:20240921T090000
DTEND;TZID=UTC:20240921T120000
DTSTAMP:20260422T002302
CREATED:20240802T125522Z
LAST-MODIFIED:20240802T125522Z
UID:67708-1726909200-1726920000@staging.pamharringtonexclusives.com
SUMMARY:Stronger Together 5K Johns Island
DESCRIPTION:Stronger Together 5K\nJoin the fight against ovarian and breast cancer at the inaugural Stronger Together 5K on September 21st at Johns Island County Park. This family-friendly event features a scenic trail run/walk\, furry friends welcome\, and a focus on raising awareness and supporting those affected by gynecological cancers. Proceeds benefit Teal Diva and the South Carolina Ovarian Cancer Foundation.
URL:https://staging.pamharringtonexclusives.com/event/stronger-together-5k-johns-island/
LOCATION:Johns Island County Park
CATEGORIES:All Johns Island
ATTACH;FMTTYPE=image/jpeg:https://staging.pamharringtonexclusives.com/wp-content/uploads/2024/08/Stronger-Together-5K.jpg
END:VEVENT
BEGIN:VEVENT
DTSTART;TZID=UTC:20240803T100000
DTEND;TZID=UTC:20240803T150000
DTSTAMP:20260422T002302
CREATED:20240802T123204Z
LAST-MODIFIED:20240802T123204Z
UID:67701-1722679200-1722697200@staging.pamharringtonexclusives.com
SUMMARY:Johns Island Community Market
DESCRIPTION:Come out and support local small businesses from all over the Low-Country!!\n\nFood vendors\, arts and craft vendors\, dessert vendors\, and more!!  Hosted by Angel Brown\, Claudia J Brown and RoShonda J. Brown.\n\nFreee and everyone is welcome to attend!\nVendor opportunities are also available and we would love to help you shine a light on your business!\n\nFor more farmers market events see our blog.
URL:https://staging.pamharringtonexclusives.com/event/johns-island-community-market/
LOCATION:Johns Island Community Market\, 2389 Bohicket Road\, Johns Island\, SC\, 29455\, United States
CATEGORIES:All Johns Island
ATTACH;FMTTYPE=image/jpeg:https://staging.pamharringtonexclusives.com/wp-content/uploads/2024/08/johns-island-community-market.jpg
END:VEVENT
BEGIN:VEVENT
DTSTART;TZID=UTC:20240803T093000
DTEND;TZID=UTC:20240803T130000
DTSTAMP:20260422T002302
CREATED:20240801T150632Z
LAST-MODIFIED:20240801T150632Z
UID:67662-1722677400-1722690000@staging.pamharringtonexclusives.com
SUMMARY:Sea Island Farmers Market
DESCRIPTION:The Sea Island Farmers Market is a beloved Johns Island institution\, offering a vibrant weekly gathering spot for locals and visitors alike. Every Saturday morning\, the market comes alive with a colorful array of fresh produce\, artisan crafts\, and delicious prepared foods.  \nFrom farm-fresh vegetables and fruits to handcrafted jewelry and unique gifts. There’s something for everyone! \nEnjoy live music\, savor local coffee\, and connect with the heart of the Lowcountry community at this cherished market.
URL:https://staging.pamharringtonexclusives.com/event/sea-island-farmers-market/
LOCATION:Charleston Collegiate School\, 2024 Academy Drive\, Johns Islandd\, 29455\, United States
CATEGORIES:All Johns Island,August - Charleston
ATTACH;FMTTYPE=image/jpeg:https://staging.pamharringtonexclusives.com/wp-content/uploads/2024/08/Sea-Island-Farmers-Market.jpg
END:VEVENT
END:VCALENDAR