BEGIN:VCALENDAR
VERSION:2.0
PRODID:-//Pam Harrington Exclusives - ECPv6.15.12.2//NONSGML v1.0//EN
CALSCALE:GREGORIAN
METHOD:PUBLISH
X-WR-CALNAME:Pam Harrington Exclusives
X-ORIGINAL-URL:https://staging.pamharringtonexclusives.com
X-WR-CALDESC:Events for Pam Harrington Exclusives
REFRESH-INTERVAL;VALUE=DURATION:PT1H
X-Robots-Tag:noindex
X-PUBLISHED-TTL:PT1H
BEGIN:VTIMEZONE
TZID:UTC
BEGIN:STANDARD
TZOFFSETFROM:+0000
TZOFFSETTO:+0000
TZNAME:UTC
DTSTART:20220101T000000
END:STANDARD
END:VTIMEZONE
BEGIN:VEVENT
DTSTART;TZID=UTC:20250920T090000
DTEND;TZID=UTC:20250920T110000
DTSTAMP:20260421T231322
CREATED:20221121T155449Z
LAST-MODIFIED:20250919T121925Z
UID:49818-1758358800-1758366000@staging.pamharringtonexclusives.com
SUMMARY:Cars & Coffee - Freshfields Village Kiawah
DESCRIPTION:Held on the 3rd Saturday of every month on the Village Green at Freshfields\, Sea Island’s Cars & Coffee offers the opportunity to see unique\, antique\, and other cool-style cars. \nSwing by from 9 – 11 am\,  Don’t forget to grab breakfast from JAVA JAVA! \n  \nFuture Dates for Cars & Coffee at Freshfields Village\n\nThird Saturday of each month!
URL:https://staging.pamharringtonexclusives.com/event/cars-coffee-kiawah/
LOCATION:Freshfields Village\, 149 Village Green Lane\, Johns Island\, SC\, 29455\, United States
CATEGORIES:All - Seabrook Island,All Kiawah Island,April - Kiawah Island,April - Seabrook Island,February - Kiawah Island
ATTACH;FMTTYPE=image/jpeg:https://staging.pamharringtonexclusives.com/wp-content/uploads/2022/11/Cars-Coffee-Kiawah.jpg
END:VEVENT
BEGIN:VEVENT
DTSTART;TZID=UTC:20250424T180000
DTEND;TZID=UTC:20250424T200000
DTSTAMP:20260421T231322
CREATED:20250409T143028Z
LAST-MODIFIED:20250409T143028Z
UID:79840-1745517600-1745524800@staging.pamharringtonexclusives.com
SUMMARY:Jazz Night at the Porch Bar
DESCRIPTION:Jazz Night at the Porch Bar in the Andell Inn at Freshfields Village is a great way to unwind!  Hosted every second and fourth Thursday of the month\, Jazz night runs  from 6:00 to 8:00 pm and features various local artists.  Thursdays are a bit groovier at Andell Inn!
URL:https://staging.pamharringtonexclusives.com/event/jazz-night-at-the-porch-bar/
LOCATION:Andell Inn\, 300 Farm Lake View Rd\, Kiawah Island\, SC\, 29455\, United States
CATEGORIES:All - Seabrook Island,All Kiawah Island,April - Kiawah Island,April - Seabrook Island
ATTACH;FMTTYPE=image/png:https://staging.pamharringtonexclusives.com/wp-content/uploads/2025/04/Jazz-at-Andell-Inn.png
END:VEVENT
BEGIN:VEVENT
DTSTART;VALUE=DATE:20250420
DTEND;VALUE=DATE:20250421
DTSTAMP:20260421T231322
CREATED:20240719T140436Z
LAST-MODIFIED:20240719T140436Z
UID:67129-1745107200-1745193599@staging.pamharringtonexclusives.com
SUMMARY:Easter on Kiawah Island
DESCRIPTION:Kiawah Island offers many Easter celebration events from succulent dining at Jasmine Porch to events for the kids at Night Heron Park.  Stay tuned for updated event activities hosted through the Kiawah Island Resort.
URL:https://staging.pamharringtonexclusives.com/event/easter-on-kiawah-island/
LOCATION:Night Heron Park\, 4000 Sea Forest Drive\, Kiawah Island\, SC\, 29455\, United States
CATEGORIES:April - Kiawah Island
ATTACH;FMTTYPE=image/jpeg:https://staging.pamharringtonexclusives.com/wp-content/uploads/2024/07/Easter-Events-on-Kiawah-Island.jpg
END:VEVENT
BEGIN:VEVENT
DTSTART;TZID=UTC:20250419T190000
DTEND;TZID=UTC:20250419T210000
DTSTAMP:20260421T231322
CREATED:20250409T140141Z
LAST-MODIFIED:20250409T142704Z
UID:79823-1745089200-1745096400@staging.pamharringtonexclusives.com
SUMMARY:Spring Movie on The Green
DESCRIPTION:Hop over to Freshfields on April 19 for the spring edition of Movie Night on the Green. The feature film is HOP. Bring chairs\, blankets\, and a picnic to enjoy the film with family and friends. The show starts at 7 p.m. Freshfields Village sponsors this event\, and it’s free!
URL:https://staging.pamharringtonexclusives.com/event/spring-movie-on-the-green/
LOCATION:Freshfields Village\, 149 Village Green Lane\, Johns Island\, SC\, 29455\, United States
CATEGORIES:All - Seabrook Island,All Kiawah Island,April - Kiawah Island,April - Seabrook Island
ATTACH;FMTTYPE=image/png:https://staging.pamharringtonexclusives.com/wp-content/uploads/2025/04/Movie-Night-at-Freshfields.png
END:VEVENT
BEGIN:VEVENT
DTSTART;TZID=UTC:20250416T150000
DTEND;TZID=UTC:20250416T170000
DTSTAMP:20260421T231322
CREATED:20250409T141105Z
LAST-MODIFIED:20250409T141105Z
UID:79829-1744815600-1744822800@staging.pamharringtonexclusives.com
SUMMARY:Winedown Wednesday at Showroom
DESCRIPTION:Who doesn’t love adorable coastal fashion and a glass of wine? Join Showroom Kiawah in Freshfields Village every Wednesday from 3 pm—5 pm for Winedown Wednesday\, which is free and a fun excuse to get out with the girls.
URL:https://staging.pamharringtonexclusives.com/event/winedown-wednesday-at-showroom/
LOCATION:Showdown\, 249 Gardeners Circle\, Johns Island\, SC\, 29455\, United States
CATEGORIES:All - Seabrook Island,All Kiawah Island,April - Kiawah Island,April - Seabrook Island
ATTACH;FMTTYPE=image/png:https://staging.pamharringtonexclusives.com/wp-content/uploads/2025/04/Winedown-Wednesday.png
END:VEVENT
BEGIN:VEVENT
DTSTART;TZID=UTC:20250415T153000
DTEND;TZID=UTC:20250415T173000
DTSTAMP:20260421T231322
CREATED:20240328T165727Z
LAST-MODIFIED:20250412T171815Z
UID:64569-1744731000-1744738200@staging.pamharringtonexclusives.com
SUMMARY:Annual Kiawah Island Easter Open House
DESCRIPTION:Join Us for our Annual Kiawah Island Easter Open House\n\n Tuesday\, April 15th\n3:30 pm ’til 5:30 pm\nFeaturing a fabulous riverfront estate in The Settlement with panoramic water views. \n108 Salthouse Lane\nKiawah Island Club Membership – Sports \nMusic & Refreshments on the Pool Deck \nView Property Details \nView Property Video
URL:https://staging.pamharringtonexclusives.com/event/easter-open-house-kiawah-island/
LOCATION:Kiawah Island\, 29455\, United States
CATEGORIES:All - Seabrook Island,April - Charleston,April - Kiawah Island
ATTACH;FMTTYPE=image/jpeg:https://staging.pamharringtonexclusives.com/wp-content/uploads/2024/03/Copy-of-Copy-of-Sold-Postcards-7-×-5-in-9-x-6-in-2.jpg
ORGANIZER;CN="Pam Harrington Exclusives - Real Estate":MAILTO:info@staging.pamharringtonexclusives.com
END:VEVENT
BEGIN:VEVENT
DTSTART;TZID=UTC:20250411T130000
DTEND;TZID=UTC:20250411T170000
DTSTAMP:20260421T231322
CREATED:20221230T200937Z
LAST-MODIFIED:20240621T210725Z
UID:50281-1744376400-1744390800@staging.pamharringtonexclusives.com
SUMMARY:Kiawah Art and House Tour
DESCRIPTION:April is time for the Kiawah Art and House Tour. The self-guided tour offers a glimpse of 5 unique homes\, highlighting design and architectural features. Come out and support Art Etc’s efforts to provide art programs on the Sea Islands. \nThe 2025 Kiawah Arts and House Tour will take place Friday\, April 11th! \nIf you want to tour historic Charleston homes visit our Pam Harrington Exclusives Home Tour blog for must-see Charleston homes.
URL:https://staging.pamharringtonexclusives.com/event/kiawah-arts-and-house-tour/
LOCATION:Kiawah Island\, 29455\, United States
CATEGORIES:April - Kiawah Island
ATTACH;FMTTYPE=image/jpeg:https://staging.pamharringtonexclusives.com/wp-content/uploads/2022/12/Kiawah-Arts-and-House-Tour.jpg
END:VEVENT
BEGIN:VEVENT
DTSTART;TZID=UTC:20250410T180000
DTEND;TZID=UTC:20250410T200000
DTSTAMP:20260421T231322
CREATED:20250409T142536Z
LAST-MODIFIED:20250409T143116Z
UID:79834-1744308000-1744315200@staging.pamharringtonexclusives.com
SUMMARY:Jazz Night at Andell Inn
DESCRIPTION:Jazz Night at the Porch Bar in the Andell Inn at Freshfields Village is a great way to unwind!  Hosted every second and fourth Thursday of the month\, Jazz night runs  from 6:00 to 8:00 pm and features various local artists.  Thursdays are a bit groovier at Andell Inn!
URL:https://staging.pamharringtonexclusives.com/event/jazz-night-at-andell-inn/
LOCATION:Andell Inn\, 300 Farm Lake View Rd\, Kiawah Island\, SC\, 29455\, United States
CATEGORIES:All - Seabrook Island,All Johns Island,All Kiawah Island,April - Kiawah Island,April - Seabrook Island
ATTACH;FMTTYPE=image/png:https://staging.pamharringtonexclusives.com/wp-content/uploads/2025/04/Jazz-at-Andell-Inn.png
END:VEVENT
BEGIN:VEVENT
DTSTART;TZID=UTC:20240424T170000
DTEND;TZID=UTC:20240424T190000
DTSTAMP:20260421T231322
CREATED:20221230T145221Z
LAST-MODIFIED:20231220T203918Z
UID:50835-1713978000-1713985200@staging.pamharringtonexclusives.com
SUMMARY:Chris Dodson's Piano Bar
DESCRIPTION:Join your friends and neighbors at the Sandcastle on Kiawah Island for Chris Dodson’s Piano Bar\, on April 24\, 2024.  It is a great opportunity for new residents to connect with islanders and enjoy an evening of popular tunes. \nBring provisions for your own snacks and BEVs. \nFor more reasons living on Kiawah year-round is great visit our blog.
URL:https://staging.pamharringtonexclusives.com/event/chris-dodsons-piano-bar/
LOCATION:The Sandcastle Kiawah Island\, Kiawah Island\, SC\, 29455\, United States
CATEGORIES:April - Kiawah Island
ATTACH;FMTTYPE=image/jpeg:https://staging.pamharringtonexclusives.com/wp-content/uploads/2022/12/Piano-Bar-March-Event-Kiawah.jpg
END:VEVENT
BEGIN:VEVENT
DTSTART;TZID=UTC:20240414T150000
DTEND;TZID=UTC:20240414T190000
DTSTAMP:20260421T231322
CREATED:20221230T201708Z
LAST-MODIFIED:20231129T134119Z
UID:49990-1713106800-1713121200@staging.pamharringtonexclusives.com
SUMMARY:Blues by the Sea
DESCRIPTION:Blues by the Sea is a favorite event at Freshfields Village. Free live music and good times sponsored by the Town of Kiawah. \nBring a blanket\, chairs\, and a cooler! Or purchase food and beverages from the various retailers in the village. \nCome out for a great day and welcome spring back to the islands. \nMusic for the 18th annual Blues by the Sea will include some of the most popular bands around.  Don’t miss this grooving good time on the green in Freshfields Village! \nSorry\, please leave the pups at home for this event. \nFor more great activities in the village read our blog.
URL:https://staging.pamharringtonexclusives.com/event/blues-by-the-sea/
LOCATION:Freshfields Village\, 149 Village Green Lane\, Johns Island\, SC\, 29455\, United States
CATEGORIES:April - Kiawah Island,April - Seabrook Island
ATTACH;FMTTYPE=image/jpeg:https://staging.pamharringtonexclusives.com/wp-content/uploads/2022/11/600-x-400-Event-Photo-2.jpg
END:VEVENT
BEGIN:VEVENT
DTSTART;TZID=UTC:20240412T150000
DTEND;TZID=UTC:20240412T170000
DTSTAMP:20260421T231322
CREATED:20221230T200347Z
LAST-MODIFIED:20231129T133827Z
UID:50839-1712934000-1712941200@staging.pamharringtonexclusives.com
SUMMARY:Kiawah Film Series April
DESCRIPTION:The April installment of the Kiawah Film Series will screen a great movie!  Titles to be announced. \n  \nJoin your friends at the Sandcastle for this one on Friday\, April 12.  No ticket is required! \nThe film runs from 3 pm to 5 pm.  Presented by the Town of Kiawah. \nFor more great reasons to live on Kiawah visit our Pam Harrington Exclusives blog. \n 
URL:https://staging.pamharringtonexclusives.com/event/kiawah-film-series-april/
LOCATION:The Sandcastle Kiawah Island\, Kiawah Island\, SC\, 29455\, United States
CATEGORIES:April - Kiawah Island
ATTACH;FMTTYPE=image/jpeg:https://staging.pamharringtonexclusives.com/wp-content/uploads/2022/12/Kiawah-Art-Film-Series.jpg
END:VEVENT
BEGIN:VEVENT
DTSTART;TZID=UTC:20240402T180000
DTEND;TZID=UTC:20240402T210000
DTSTAMP:20260421T231322
CREATED:20230328T142741Z
LAST-MODIFIED:20240108T145549Z
UID:53115-1712080800-1712091600@staging.pamharringtonexclusives.com
SUMMARY:Shag Nights at Freshfields
DESCRIPTION:Tuesday nights groove the night away for Shag Nights at Freshfields Village! Each Tuesday evening in April & May from 6 – 9 pm on the Village Green. \nIf you are new to the area put on your dancing shoes and come on out to show your shagging moves! \nThe shagging community of the Lowcountry is super friendly and in no time you will be swaying to the beach music\, lakeside. \n\nWhat is beach music?  Read up on this Carolina coast genre\, perfect for dancing the night away!\nFor more summer fun visit our Pam Harrington Exclusives blog.
URL:https://staging.pamharringtonexclusives.com/event/shag-night-at-freshfields/
LOCATION:Freshfields\, SC\, United States
CATEGORIES:All - Seabrook Island,April - Kiawah Island
ATTACH;FMTTYPE=image/jpeg:https://staging.pamharringtonexclusives.com/wp-content/uploads/2023/03/Shag-Nights-at-Freshfields-Village.jpg
END:VEVENT
BEGIN:VEVENT
DTSTART;TZID=UTC:20240402T150000
DTEND;TZID=UTC:20240402T173000
DTSTAMP:20260421T231322
CREATED:20231220T202224Z
LAST-MODIFIED:20240329T123126Z
UID:58588-1712070000-1712079000@staging.pamharringtonexclusives.com
SUMMARY:Kiawah Island Open House - 140 Flyway
DESCRIPTION:Join Us for a Kiawah Island Open House\nFeaturing a rare Oceanfront Home in Osprey Beach with unobstructed vistas. \nWhen: Tuesday\, April 2nd from 3 pm ’til 5:30 pm\nWhere: 140 Flyway Drive\, Kiawah Island SC\n\nNestled on a secluded 1+ acre oceanfront property with unobstructed ocean vistas\, this one-owner home has been lovingly maintained by its original owners. Spanning 4 levels\, it offers a host of amenities including an elevator\, pool terrace\, private boardwalk to the beach and an exclusive Golf membership opportunity to join the Kiawah Island Club. \nFloor-to-ceiling transom-topped windows flood the interior with natural light & provide breathtaking\, uninterrupted ocean views. Craftsmanship abounds through arched entryways showcasing built-ins\, window seats\, custom millwork\, wide baseboards & crown molding throughout this fabulous custom home. \nExcellent rental or investment potential! View more details on this listing.
URL:https://staging.pamharringtonexclusives.com/event/140-flyway-kiawah-open-house/
LOCATION:SC
CATEGORIES:April - Kiawah Island
ATTACH;FMTTYPE=image/jpeg:https://staging.pamharringtonexclusives.com/wp-content/uploads/2023/12/BT-PHOTO-SIZE-MATCH-MOBILE-1200-x-800-2023-11-02T084751.613.jpg
END:VEVENT
BEGIN:VEVENT
DTSTART;TZID=UTC:20240331T100000
DTEND;TZID=UTC:20240331T120000
DTSTAMP:20260421T231322
CREATED:20230301T211107Z
LAST-MODIFIED:20240108T144526Z
UID:52482-1711879200-1711886400@staging.pamharringtonexclusives.com
SUMMARY:Easter Dining on Kiawah Island
DESCRIPTION:Cold displays\, main courses\, carving stations\, desserts\, and a festive celebration for all. Make your reservation for the Easter Buffet at Kiawah Island. \nThe West Beach Conference Center is the location for a lavish buffet prepared by Executive Banquet Chef\, Jeff Cali. \nChildren (ages 4-12) can enjoy an activities room with crafts\, a children’s buffet\, and a visit from the Easter Bunny. \nPre-purchased ticket is required. No refunds for cancellations. Stay tuned for 2024 reservation dates to open up. \nThis buffet is a highly popular celebration and will sell out early. \n\nThere are two seatings for the Kiawah Island Resort Easter Buffet. Seating times are10am & 12 pm\nThe cost for this special Easter celebration is approx. $122 for Adults\, and $62 for Children (ages 4-12)\n\nParties of twelve or more call: 843.768.2997 \nFor more Easter celebration information visit our blog.
URL:https://staging.pamharringtonexclusives.com/event/easter-dining-on-kiawah/
LOCATION:Kiawah Island West Beach Conference Center\, Kiawah Island\, South Carolina\, 29455
CATEGORIES:April - Kiawah Island
ATTACH;FMTTYPE=image/jpeg:https://staging.pamharringtonexclusives.com/wp-content/uploads/2023/03/Kiawah-Easter-Buffet.jpg
END:VEVENT
BEGIN:VEVENT
DTSTART;TZID=UTC:20230425T180000
DTEND;TZID=UTC:20230425T210000
DTSTAMP:20260421T231322
CREATED:20230328T142741Z
LAST-MODIFIED:20230328T144339Z
UID:53214-1682445600-1682456400@staging.pamharringtonexclusives.com
SUMMARY:Shag Nights at Freshfields
DESCRIPTION:Tuesday nights groove the night away for Shag Nights at Freshfields Village! Each Tuesday evening in April & May from 6 – 9 pm on the Village Green. \nIf you are new to the area put on your dancing shoes and come on out to show your shagging moves! \nThe shagging community of the Lowcountry is super friendly and in no time you will be swaying to the beach music\, lakeside. \n\nWhat is beach music?  Read up on this Carolina coast genre\, perfect for dancing the night away!\nFor more summer fun visit our Pam Harrington Exclusives blog.
URL:https://staging.pamharringtonexclusives.com/event/shag-night-at-freshfields-2023-04-25/
LOCATION:Freshfields\, SC\, United States
CATEGORIES:All - Seabrook Island,April - Kiawah Island
ATTACH;FMTTYPE=image/jpeg:https://staging.pamharringtonexclusives.com/wp-content/uploads/2023/03/Shag-Nights-at-Freshfields-Village.jpg
END:VEVENT
BEGIN:VEVENT
DTSTART;TZID=UTC:20230418T180000
DTEND;TZID=UTC:20230418T210000
DTSTAMP:20260421T231322
CREATED:20230328T142741Z
LAST-MODIFIED:20230328T144333Z
UID:53213-1681840800-1681851600@staging.pamharringtonexclusives.com
SUMMARY:Shag Nights at Freshfields
DESCRIPTION:Tuesday nights groove the night away for Shag Nights at Freshfields Village! Each Tuesday evening in April & May from 6 – 9 pm on the Village Green. \nIf you are new to the area put on your dancing shoes and come on out to show your shagging moves! \nThe shagging community of the Lowcountry is super friendly and in no time you will be swaying to the beach music\, lakeside. \n\nWhat is beach music?  Read up on this Carolina coast genre\, perfect for dancing the night away!\nFor more summer fun visit our Pam Harrington Exclusives blog.
URL:https://staging.pamharringtonexclusives.com/event/shag-night-at-freshfields-2023-04-18/
LOCATION:Freshfields\, SC\, United States
CATEGORIES:All - Seabrook Island,April - Kiawah Island
ATTACH;FMTTYPE=image/jpeg:https://staging.pamharringtonexclusives.com/wp-content/uploads/2023/03/Shag-Nights-at-Freshfields-Village.jpg
END:VEVENT
BEGIN:VEVENT
DTSTART;TZID=UTC:20230411T180000
DTEND;TZID=UTC:20230411T210000
DTSTAMP:20260421T231322
CREATED:20230328T142741Z
LAST-MODIFIED:20230328T144322Z
UID:53212-1681236000-1681246800@staging.pamharringtonexclusives.com
SUMMARY:Shag Nights at Freshfields
DESCRIPTION:Tuesday nights groove the night away for Shag Nights at Freshfields Village! Each Tuesday evening in April & May from 6 – 9 pm on the Village Green. \nIf you are new to the area put on your dancing shoes and come on out to show your shagging moves! \nThe shagging community of the Lowcountry is super friendly and in no time you will be swaying to the beach music\, lakeside. \n\nWhat is beach music?  Read up on this Carolina coast genre\, perfect for dancing the night away!\nFor more summer fun visit our Pam Harrington Exclusives blog.
URL:https://staging.pamharringtonexclusives.com/event/shag-night-at-freshfields-2023-04-11/
LOCATION:Freshfields\, SC\, United States
CATEGORIES:All - Seabrook Island,April - Kiawah Island
ATTACH;FMTTYPE=image/jpeg:https://staging.pamharringtonexclusives.com/wp-content/uploads/2023/03/Shag-Nights-at-Freshfields-Village.jpg
END:VEVENT
BEGIN:VEVENT
DTSTART;TZID=UTC:20230408T193000
DTEND;TZID=UTC:20230408T213000
DTSTAMP:20260421T231322
CREATED:20221230T201301Z
LAST-MODIFIED:20221230T201301Z
UID:50179-1680982200-1680989400@staging.pamharringtonexclusives.com
SUMMARY:Tablao Flamenco on Kiawah
DESCRIPTION:Experience Tablao Flamenco on Kiawah at the beautiful Turtle Point Club House. This promises to be a wonderful evening! \nExperience the magic and excitement of authentic flamenco musicians\, dancers\, and singers. \nIt is surely a unique cultural event not to be missed. Get tickets and more info. \nFind more interesting and exciting Kiawah Island events.
URL:https://staging.pamharringtonexclusives.com/event/tablao-flamenco-on-kiawah/
LOCATION:Turtle Point Clubhouse Kiawah\, Kiawah Island\, 29455\, United States
CATEGORIES:April - Kiawah Island
ATTACH;FMTTYPE=image/jpeg:https://staging.pamharringtonexclusives.com/wp-content/uploads/2022/12/tablaoflamencokiawah.jpg
END:VEVENT
END:VCALENDAR