BEGIN:VCALENDAR
VERSION:2.0
PRODID:-//Pam Harrington Exclusives - ECPv6.15.12.2//NONSGML v1.0//EN
CALSCALE:GREGORIAN
METHOD:PUBLISH
X-ORIGINAL-URL:https://staging.pamharringtonexclusives.com
X-WR-CALDESC:Events for Pam Harrington Exclusives
REFRESH-INTERVAL;VALUE=DURATION:PT1H
X-Robots-Tag:noindex
X-PUBLISHED-TTL:PT1H
BEGIN:VTIMEZONE
TZID:UTC
BEGIN:STANDARD
TZOFFSETFROM:+0000
TZOFFSETTO:+0000
TZNAME:UTC
DTSTART:20230101T000000
END:STANDARD
END:VTIMEZONE
BEGIN:VEVENT
DTSTART;VALUE=DATE:20250130
DTEND;VALUE=DATE:20250203
DTSTAMP:20260422T041250
CREATED:20250127T164336Z
LAST-MODIFIED:20250407T165802Z
UID:75642-1738195200-1738540799@staging.pamharringtonexclusives.com
SUMMARY:Gourmet and Grapes at Kiawah
DESCRIPTION:The 17th Annual Gourmet & Grapes event at Kiawah Island Golf Resort (January 30 – February 2\, 2025) is a four-day culinary experience featuring top chefs and wineries.  \nIt’s the only Lowcountry fundraiser\, raising money for cancer research and patient programs at Hollings Cancer Center at MUSC. Each day is hosted at a different Kiawah Island Resort venue\, beginning Thursday night at Mingo Point with a BBQ and bourbon mash-up.  This email: gourmetandgrapes@musc.edu
URL:https://staging.pamharringtonexclusives.com/event/gourmet-and-grapes-at-kiawah/
LOCATION:Kiawah Island Golf Resort\, 1 Sanctuary Beach Drive\, Kiawah Island\, SC\, 29455
CATEGORIES:All - Seabrook Island,February - Kiawah Island,January - Kiawah Island
ATTACH;FMTTYPE=image/jpeg:https://staging.pamharringtonexclusives.com/wp-content/uploads/2025/01/JPEG-image-E20408EB4DB5-1.jpeg
END:VEVENT
BEGIN:VEVENT
DTSTART;TZID=UTC:20250101T113000
DTEND;TZID=UTC:20250101T130000
DTSTAMP:20260422T041250
CREATED:20240718T142602Z
LAST-MODIFIED:20240718T142602Z
UID:67101-1735731000-1735736400@staging.pamharringtonexclusives.com
SUMMARY:New Years Day Polar Plunge Kiawah
DESCRIPTION:Plunge into the New Year at Kiawah Island Golf Resort’s Polar Bear Plunge. Celebrate 2025 with a refreshing dip in the ocean! Event takes place on the beach in front of the Sanctuary Hotel at Kiawah Island.  Bring a towel! \nThis event is complimentary\, and no reservations are required. Schedule is subject to change.
URL:https://staging.pamharringtonexclusives.com/event/new-years-day-polar-plunge-kiawah/
LOCATION:Sanctuary Front Beach\, 1 Sanctuary Beach Dr\, Kiawah Island\, SC\, 29455\, United States
CATEGORIES:January - Kiawah Island
ATTACH;FMTTYPE=image/webp:https://staging.pamharringtonexclusives.com/wp-content/uploads/2024/07/New-Years-Day-Polar-Plunge.webp
END:VEVENT
BEGIN:VEVENT
DTSTART;TZID=UTC:20250101T080000
DTEND;TZID=UTC:20250101T100000
DTSTAMP:20260422T041250
CREATED:20240718T140406Z
LAST-MODIFIED:20240718T141133Z
UID:67097-1735718400-1735725600@staging.pamharringtonexclusives.com
SUMMARY:New Years Day 5 K
DESCRIPTION:No better way to ring in the New Year than with a beach fun run! This fun run will begin at the Sanctuary beach access\, running east toward the Ocean Course 0.5 miles or 1.55 miles\, turning around and heading back to the finish line of the Sanctuary Hotel. Please bring your own water bottle. \nThis event is complimentary and no reservations are required. Schedule subject to change.
URL:https://staging.pamharringtonexclusives.com/event/new-years-day-5-k/
LOCATION:Sanctuary Front Beach\, 1 Sanctuary Beach Dr\, Kiawah Island\, SC\, 29455\, United States
CATEGORIES:January - Kiawah Island
ATTACH;FMTTYPE=image/jpeg:https://staging.pamharringtonexclusives.com/wp-content/uploads/2024/07/New-Years-Day-5-K-Kiawah-Island.jpg
END:VEVENT
BEGIN:VEVENT
DTSTART;VALUE=DATE:20240126
DTEND;VALUE=DATE:20240129
DTSTAMP:20260422T041250
CREATED:20221121T155611Z
LAST-MODIFIED:20240102T180201Z
UID:49783-1706227200-1706486399@staging.pamharringtonexclusives.com
SUMMARY:Charleston Boat Show
DESCRIPTION:The 43nd annual Charleston Boat Show comes to the Charleston Area Convention Center. This must-attend for boating and outdoor enthusiasts celebrates our love for the water and outdoor fun. From stately yachts to personal Jon boats the Charleston Boat Show has something to fit all budgets and preferences. \nEvents include fishing clinics for the kids. Boating safety seminars help new boaters ready for the upcoming season. Discounts for military personnel and seniors are available! \nIf you are looking for a boat tour in Charleston see our blog on 5 of the Best Charleston Boat Tours.
URL:https://staging.pamharringtonexclusives.com/event/charleston-boat-show/
LOCATION:Charleston Area Convention Center\, 5001 Coliseum Drive\, North Charleston\, SC\, United States
CATEGORIES:January - Charleston,January - Kiawah Island
ATTACH;FMTTYPE=image/png:https://staging.pamharringtonexclusives.com/wp-content/uploads/2022/11/600-x-400-Event-Photo-2-1.png
END:VEVENT
BEGIN:VEVENT
DTSTART;TZID=UTC:20240121T120000
DTEND;TZID=UTC:20240121T160000
DTSTAMP:20260422T041250
CREATED:20221230T203422Z
LAST-MODIFIED:20240102T180104Z
UID:50670-1705838400-1705852800@staging.pamharringtonexclusives.com
SUMMARY:Firefly Oyster Roast January - 2024
DESCRIPTION:Firefly Distillery is heating up the winter months with monthly oyster roasts beginning again in January. \nEnjoy live music\, lots of great food from various food trucks\, and a super fun atmosphere. The January oyster roasts at Firefly are sure to become a tradition in the Holy City. \nThis is a ticketed event. \n\nSunday\, January 21 – Music by DJ Badman\, Food Truck: Big Daddy’s LoCo\nSunday\, February 25 – Music: TBD\, Food Truck: Da Michelino Pizza\nSunday\, March 24 – Music\, Food Truck TBD\n\n  \nDon’t miss the Bloody Mary bar\, a Sunday Funday for sure. \nCan’t get enough bi-valves?  Read our Pam Harrington Exclusives Oyster guide for more shucking fun. \n 
URL:https://staging.pamharringtonexclusives.com/event/firefly-oyster-roast-january/
LOCATION:Firefly Distillery\, 4201 Spruill Avenue\, North Charleston\, SC\, 29405\, United States
CATEGORIES:January - Charleston,January - Kiawah Island,March - Charleston,March - Kiawah Island
ATTACH;FMTTYPE=image/jpeg:https://staging.pamharringtonexclusives.com/wp-content/uploads/2022/12/Charleston-Oyster-Roast.jpg
END:VEVENT
BEGIN:VEVENT
DTSTART;VALUE=DATE:20240111
DTEND;VALUE=DATE:20240122
DTSTAMP:20260422T041250
CREATED:20221121T155822Z
LAST-MODIFIED:20240102T175215Z
UID:49680-1704931200-1705881599@staging.pamharringtonexclusives.com
SUMMARY:Charleston SC Restaurant Week
DESCRIPTION:Charleston SC Restaurant Week is one of the most anticipated weeks in the South Carolina Lowcountry! Waiting on dates for the January 2024 installment where local restaurants offer prix fixe lunch/dinner menus\, attractively priced at $20-$50 per diner. \nWhether you are craving something sweet\, savory\, or anything in between\, this one-of-a-kind event will please every palate. Find a list of participating restaurants here. \nCharleston Restaurant Week is a great way to sample new restaurants and is an affordable way to experience the Holy City’s renowned foodie scene. Read more about Charleston Restaurant Week sponsored by the Lowcountry Hospitality Association.
URL:https://staging.pamharringtonexclusives.com/event/charleston-sc-restaurant-week/
LOCATION:Various Restaurants in Charleston
CATEGORIES:All - Seabrook Island,January - Charleston,January - Kiawah Island
ATTACH;FMTTYPE=image/jpeg:https://staging.pamharringtonexclusives.com/wp-content/uploads/2022/11/600-x-400-Website-Blog-2022-11-08T111721.329.jpg
END:VEVENT
BEGIN:VEVENT
DTSTART;VALUE=DATE:20240105
DTEND;VALUE=DATE:20240108
DTSTAMP:20260422T041250
CREATED:20221121T155905Z
LAST-MODIFIED:20240102T180240Z
UID:49788-1704412800-1704671999@staging.pamharringtonexclusives.com
SUMMARY:Charleston Build Remodel and Landscape Expo
DESCRIPTION:The Charleston Build\, Remodel & Landscape Expo comes to the Exchange Park Fairgrounds in Ladson\, SC on January 5-7\, 2024. Bring your home remodeling ideas and home-building dreams and connect with the area’s leading design pros\, builders\, and remodeling experts. \nHeld at the Exchange Park Fairgrounds in Ladson\, the Charleston Build\, Remodel & Landscape Expo will connect you to the area’s leading remodelers\, builders\, and design professionals.  Experts in bath\, kitchen\, roofing\, exterior products\, landscaping\, and more are on hand to answer questions and offer guidance. \nIf you want to connect with a Charleston designer now\, see our article on 4 of our favorite Charleston designers.
URL:https://staging.pamharringtonexclusives.com/event/charleston-build-and-remodel-expo/
LOCATION:Exchange Park | Ladson\, SC
CATEGORIES:January - Charleston,January - Kiawah Island
ATTACH;FMTTYPE=image/png:https://staging.pamharringtonexclusives.com/wp-content/uploads/2022/11/600-x-400-Event-Photo-3-1.png
END:VEVENT
END:VCALENDAR