BEGIN:VCALENDAR
VERSION:2.0
PRODID:-//Pam Harrington Exclusives - ECPv6.15.12.2//NONSGML v1.0//EN
CALSCALE:GREGORIAN
METHOD:PUBLISH
X-ORIGINAL-URL:https://staging.pamharringtonexclusives.com
X-WR-CALDESC:Events for Pam Harrington Exclusives
REFRESH-INTERVAL;VALUE=DURATION:PT1H
X-Robots-Tag:noindex
X-PUBLISHED-TTL:PT1H
BEGIN:VTIMEZONE
TZID:UTC
BEGIN:STANDARD
TZOFFSETFROM:+0000
TZOFFSETTO:+0000
TZNAME:UTC
DTSTART:20220101T000000
END:STANDARD
END:VTIMEZONE
BEGIN:VEVENT
DTSTART;TZID=UTC:20230129T193000
DTEND;TZID=UTC:20230129T213000
DTSTAMP:20260422T063707
CREATED:20230124T182250Z
LAST-MODIFIED:20230124T185652Z
UID:51097-1675020600-1675027800@staging.pamharringtonexclusives.com
SUMMARY:An Evening with Julian Gargiulo
DESCRIPTION:The Seabrook Island Club hosts an evening with Julian Gargiulo. This special musical event features a beautifully talented pianist playing a variety of music and styles. \nMr. Gargiulo is classically trained and earned a Doctorate of Musical Arts degree.  He holds dual citizenship in Italy and the US.  This is a ticketed event. \nPurchase tickets here for an evening with Julian Gargiulo at Seabrook Island. \nFor more information about Seabrook Island visit the  Pam Harrington Exclusives website.
URL:https://staging.pamharringtonexclusives.com/event/an-evening-with-julian-gargiulo/
LOCATION:The Seabrook Island Club\, 3773 Seabrook Island Road\, Seabrook Island\, SC\, 29455\, United States
CATEGORIES:All - Seabrook Island,January - Seabrook Island
ATTACH;FMTTYPE=image/jpeg:https://staging.pamharringtonexclusives.com/wp-content/uploads/2023/01/Julian-Gargiulo.jpg
END:VEVENT
END:VCALENDAR