BEGIN:VCALENDAR
VERSION:2.0
PRODID:-//Pam Harrington Exclusives - ECPv6.15.12.2//NONSGML v1.0//EN
CALSCALE:GREGORIAN
METHOD:PUBLISH
X-ORIGINAL-URL:https://staging.pamharringtonexclusives.com
X-WR-CALDESC:Events for Pam Harrington Exclusives
REFRESH-INTERVAL;VALUE=DURATION:PT1H
X-Robots-Tag:noindex
X-PUBLISHED-TTL:PT1H
BEGIN:VTIMEZONE
TZID:UTC
BEGIN:STANDARD
TZOFFSETFROM:+0000
TZOFFSETTO:+0000
TZNAME:UTC
DTSTART:20220101T000000
END:STANDARD
END:VTIMEZONE
BEGIN:VEVENT
DTSTART;TZID=UTC:20250718T110000
DTEND;TZID=UTC:20250718T140000
DTSTAMP:20260422T004626
CREATED:20250429T163149Z
LAST-MODIFIED:20250429T163149Z
UID:81482-1752836400-1752847200@staging.pamharringtonexclusives.com
SUMMARY:Kiawah Summer Food Truck Series July
DESCRIPTION:Summer fun on Kiawah! 🎉 TOKI Bites & Brews food truck festival is here! Enjoy delicious eats\, live music\, and community vibes at Town Hall (4475 Betsy Kerrison Pkwy.) One Friday each month\, April-August\, 11 am – 2 pm. Bring your chair & appetite! Mark  July 18 on your calendar.
URL:https://staging.pamharringtonexclusives.com/event/kiawah-summer-food-truck-series-july/
CATEGORIES:All - Seabrook Island,All Johns Island,All Kiawah Island,July - Kiawah Island,July - Seabrook Island
ATTACH;FMTTYPE=image/png:https://staging.pamharringtonexclusives.com/wp-content/uploads/2025/04/Kiawah-Food-Truck-Summer-Series.png
END:VEVENT
BEGIN:VEVENT
DTSTART;TZID=UTC:20250704T180000
DTEND;TZID=UTC:20250704T220000
DTSTAMP:20260422T004626
CREATED:20230627T140846Z
LAST-MODIFIED:20250409T185417Z
UID:55225-1751652000-1751666400@staging.pamharringtonexclusives.com
SUMMARY:July 4 Kiawah Island
DESCRIPTION:The Kiawah Island Golf Resort hosts a stunning fireworks display best viewed from the beach. This annual tradition is one of the most celebrated events of the year. \n\n\n\n\n\nFriends and family gather at Sanctuary Beach for the festivities.\nThe show starts at 9:15 pm. \n\n\n\n\n\n\n\n\n\n\n\nFriendly reminder: The town of Kiawah prohibits the discharging of fireworks on the island\, except for Sparklers. This applies to property owners and visitors\, who will be ticketed if found in violation.  \n\n\n\n\n\n\n\n\n\n\nAnnual Patriotic Bike Parade\nThis family tradition kicks off the Independence Festival on July 4. \nThe parade begins on Sea Forest Drive and finishes at Night Heron Park. \n\n Bike Decorating\n Parade \n East Beach Village\n\n\n\n\n\n\n\n\n\n\n\nThe celebration continues with the Independence Day Festival in the Park.  \nJoin your Kiawah Island neighbors for the Annual Bike Parade at Night Heron Park\, followed by festivities including live music\, carnival games\, inflatables\,  and a photo booth. \nRed\, White & Blue Celebration\nWatch the fireworks show on Sanctuary Beach\, which starts at approximately 9:15 p.m. There’s nothing better than watching a beautiful and colorful display with your family to celebrate our country’s independence.
URL:https://staging.pamharringtonexclusives.com/event/july-4-kiawah-island/
LOCATION:Kiawah Island Golf Resort\, 1 Sanctuary Beach Drive\, Kiawah Island\, SC\, 29455
CATEGORIES:July - Kiawah Island
ATTACH;FMTTYPE=image/jpeg:https://staging.pamharringtonexclusives.com/wp-content/uploads/2020/03/4th-of-july-bike-parade_t20_4JJrd2-1-scaled.jpg
END:VEVENT
BEGIN:VEVENT
DTSTART;TZID=UTC:20240731T180000
DTEND;TZID=UTC:20240731T210000
DTSTAMP:20260422T004626
CREATED:20240716T140835Z
LAST-MODIFIED:20240716T141109Z
UID:67050-1722448800-1722459600@staging.pamharringtonexclusives.com
SUMMARY:Sundown Festival Kiawah Island
DESCRIPTION:Wednesdays in July from 6 pm to 9 pm enjoy music\, a photo booth\, lawn games\, and a festive atmosphere at Night Heron Park\, centrally located on Kiawah Island.  Free and open to all island guests!  For more fun at Night Heron Park see our blog post https://staging.pamharringtonexclusives.com/blog/night-heron-park/
URL:https://staging.pamharringtonexclusives.com/event/sundown-festival-kiawah-island/2024-07-31/
LOCATION:Night Heron Park\, 4000 Sea Forest Drive\, Kiawah Island\, SC\, 29455\, United States
CATEGORIES:July - Kiawah Island
ATTACH;FMTTYPE=image/jpeg:https://staging.pamharringtonexclusives.com/wp-content/uploads/2024/07/sundown-festival-kiawah-island.jpg
END:VEVENT
BEGIN:VEVENT
DTSTART;TZID=UTC:20240724T180000
DTEND;TZID=UTC:20240724T210000
DTSTAMP:20260422T004626
CREATED:20240716T140835Z
LAST-MODIFIED:20240716T141108Z
UID:67049-1721844000-1721854800@staging.pamharringtonexclusives.com
SUMMARY:Sundown Festival Kiawah Island
DESCRIPTION:Wednesdays in July from 6 pm to 9 pm enjoy music\, a photo booth\, lawn games\, and a festive atmosphere at Night Heron Park\, centrally located on Kiawah Island.  Free and open to all island guests!  For more fun at Night Heron Park see our blog post https://staging.pamharringtonexclusives.com/blog/night-heron-park/
URL:https://staging.pamharringtonexclusives.com/event/sundown-festival-kiawah-island/2024-07-24/
LOCATION:Night Heron Park\, 4000 Sea Forest Drive\, Kiawah Island\, SC\, 29455\, United States
CATEGORIES:July - Kiawah Island
ATTACH;FMTTYPE=image/jpeg:https://staging.pamharringtonexclusives.com/wp-content/uploads/2024/07/sundown-festival-kiawah-island.jpg
END:VEVENT
BEGIN:VEVENT
DTSTART;TZID=UTC:20240718T150000
DTEND;TZID=UTC:20240718T170000
DTSTAMP:20260422T004626
CREATED:20240709T192111Z
LAST-MODIFIED:20240711T211501Z
UID:66920-1721314800-1721322000@staging.pamharringtonexclusives.com
SUMMARY:Open House: 140 Flyway Drive Kiawah Island
DESCRIPTION:Kiawah Island dream home seekers\, don’t miss your chance! Pam Harrington Exclusives is hosting an open house at 140 Flyway Drive on Thursday\, July 18th from 3 pm to 5 pm. This stunning oceanfront estate offers unparalleled luxury\, breathtaking views\, and direct beach access. Come tour this exceptional property and discover your perfect Kiawah Island escape.
URL:https://staging.pamharringtonexclusives.com/event/open-house-140-flyway-drive-kiawah-island/
LOCATION:140 Flyway Drive Kiawah Island\, 140 Flyway Drive\, Kiawah Island\, SC\, 29455\, United States
CATEGORIES:July - Kiawah Island
ATTACH;FMTTYPE=image/png:https://staging.pamharringtonexclusives.com/wp-content/uploads/2024/07/140-Flyway-Open-House.png
ORGANIZER;CN="Pam Harrington Exclusives - Real Estate":MAILTO:info@staging.pamharringtonexclusives.com
END:VEVENT
BEGIN:VEVENT
DTSTART;TZID=UTC:20240717T180000
DTEND;TZID=UTC:20240717T210000
DTSTAMP:20260422T004626
CREATED:20240716T140835Z
LAST-MODIFIED:20240716T141108Z
UID:67048-1721239200-1721250000@staging.pamharringtonexclusives.com
SUMMARY:Sundown Festival Kiawah Island
DESCRIPTION:Wednesdays in July from 6 pm to 9 pm enjoy music\, a photo booth\, lawn games\, and a festive atmosphere at Night Heron Park\, centrally located on Kiawah Island.  Free and open to all island guests!  For more fun at Night Heron Park see our blog post https://staging.pamharringtonexclusives.com/blog/night-heron-park/
URL:https://staging.pamharringtonexclusives.com/event/sundown-festival-kiawah-island/2024-07-17/
LOCATION:Night Heron Park\, 4000 Sea Forest Drive\, Kiawah Island\, SC\, 29455\, United States
CATEGORIES:July - Kiawah Island
ATTACH;FMTTYPE=image/jpeg:https://staging.pamharringtonexclusives.com/wp-content/uploads/2024/07/sundown-festival-kiawah-island.jpg
END:VEVENT
BEGIN:VEVENT
DTSTART;TZID=UTC:20240716T143000
DTEND;TZID=UTC:20240716T163000
DTSTAMP:20260422T004626
CREATED:20240709T193320Z
LAST-MODIFIED:20240709T193418Z
UID:66928-1721140200-1721147400@staging.pamharringtonexclusives.com
SUMMARY:Open House: 18 Blue Heron Pond Kiawah Island
DESCRIPTION:Discover your dream Kiawah Island home at an open house hosted by James Badia of Pam Harrington Exclusives! Tuesday\, July 16th\, from 2:30 pm to 4:30 pm\, explore 18 Blue Heron Pond. Nestled within The Preserve community\, this property offers Kiawah Island living at its best. Don’t miss this chance to meet the Pam Harrington Exclusives team and envision yourself in this beautiful island residence.
URL:https://staging.pamharringtonexclusives.com/event/open-house-18-blue-heron-pond-kiawah-island/
LOCATION:18 Blue Heron Pond\, 18 Blue Heron Pond\, Kiawah Island\, SC\, 29455\, United States
CATEGORIES:July - Kiawah Island
ATTACH;FMTTYPE=image/png:https://staging.pamharringtonexclusives.com/wp-content/uploads/2024/07/18-Blue-Heron-Pond-Open-House.png
END:VEVENT
BEGIN:VEVENT
DTSTART;TZID=UTC:20240705T180000
DTEND;TZID=UTC:20240705T210000
DTSTAMP:20260422T004626
CREATED:20230103T205210Z
LAST-MODIFIED:20231212T155205Z
UID:51010-1720202400-1720213200@staging.pamharringtonexclusives.com
SUMMARY:Music on the Green - Fridays in July at Freshfields Kiawah
DESCRIPTION:Freshfields Village is the place to be on Friday evenings in July for Music on the Green. Free and open to everyone! \nFrom 6 to 9 pm enjoy live music and fun with your friends and neighbors. \nBring a lawn chair and a picnic. Or grab snacks\, beverages\, and meals from various restaurants around the village. Make sure to check out the new restaurants in the village too. There are many great options! \nThe musical groups rotate weekly so check this schedule for performers before you visit. \nMusic on the Green July Dates\n\nFriday July 5\, 2024\nFriday July 12\, 2024\nFriday July 19\, 2024\nFriday July 26\, 2024\n\nFor more summer fun at Freshfields Village view our Freshfields Blog.
URL:https://staging.pamharringtonexclusives.com/event/music-on-the-green-kiawah-july/
LOCATION:Freshfields Village\, 149 Village Green Lane\, Johns Island\, SC\, 29455\, United States
CATEGORIES:July - Kiawah Island
ATTACH;FMTTYPE=image/jpeg:https://staging.pamharringtonexclusives.com/wp-content/uploads/2022/12/musiconthegreenkiawah-scaled.jpeg
END:VEVENT
BEGIN:VEVENT
DTSTART;TZID=UTC:20230731T150000
DTEND;TZID=UTC:20230731T190000
DTSTAMP:20260422T004626
CREATED:20230322T165801Z
LAST-MODIFIED:20230322T165801Z
UID:53065-1690815600-1690830000@staging.pamharringtonexclusives.com
SUMMARY:Weekly Farmers Market at Freshfields
DESCRIPTION:The summer Farmers Market at Freshfields Village offers the freshest produce and local crafts. Bike from Seabrook Island to the village for a great Monday afternoon excursion. \nThe weekly summer Farmer’s Market features local certified organic produce\, fresh local seafood\, packaged and prepared food including jams\, jellies\, pecans\, olive oils\, sweets\, handmade pasta\, and more as well as Lowcountry crafts. \nEvery Monday in June from 3 pm til 7 pm. \nFor more area event ideas visit our Pam Harrington Exclusives article Best Charleston Family Activities. \n  \n 
URL:https://staging.pamharringtonexclusives.com/event/freshfields-village-farmers-market-2023-07-31/
LOCATION:Freshfields Village\, 149 Village Green Lane\, Johns Island\, SC\, 29455\, United States
CATEGORIES:All - Seabrook Island,July - Kiawah Island
ATTACH;FMTTYPE=image/jpeg:https://staging.pamharringtonexclusives.com/wp-content/uploads/2023/01/Farmers-Market-Seabrook-Island.jpg
END:VEVENT
BEGIN:VEVENT
DTSTART;TZID=UTC:20230726T203000
DTEND;TZID=UTC:20230726T223000
DTSTAMP:20260422T004626
CREATED:20230508T185133Z
LAST-MODIFIED:20230508T190508Z
UID:54148-1690403400-1690410600@staging.pamharringtonexclusives.com
SUMMARY:Starlight Cinema at Freshfields Village
DESCRIPTION:Starlight Cinema at Freshfields Village offers movies under the stars on Wednesday nights in July. Bring a blanket or lawn chair and come out to the Green at Freshfields for movie night.  Starlight Cinema features family-friendly movies for your family’s enjoyment. \nDon’t miss the last Starlight Cinema of Summer on Wednesday\, July 26th featuring the all time classic Grease! \nPop some popcorn to nosh on during Starlight Cinema at Freshfields Village. Or\, visit one of the numerous restaurants in the village for take-out dining. \nLa Tele Pizzeria serves delicious hand-tossed\, wood-fired pizzas.  Make sure to order early! \nFor more fun activities near Kiawah and Seabrook Island visit our Pam Harrington Exclusives blog.
URL:https://staging.pamharringtonexclusives.com/event/starlight-cinema-freshfields-village-2023-07-26/
LOCATION:Freshfields Village\, 149 Village Green Lane\, Johns Island\, SC\, 29455\, United States
CATEGORIES:All - Seabrook Island,July - Kiawah Island
ATTACH;FMTTYPE=image/jpeg:https://staging.pamharringtonexclusives.com/wp-content/uploads/2023/03/Starlight-Cinema-Freshfields-Village.jpg
END:VEVENT
BEGIN:VEVENT
DTSTART;TZID=UTC:20230724T150000
DTEND;TZID=UTC:20230724T190000
DTSTAMP:20260422T004626
CREATED:20230322T165745Z
LAST-MODIFIED:20230322T165745Z
UID:53064-1690210800-1690225200@staging.pamharringtonexclusives.com
SUMMARY:Weekly Farmers Market at Freshfields
DESCRIPTION:The summer Farmers Market at Freshfields Village offers the freshest produce and local crafts. Bike from Seabrook Island to the village for a great Monday afternoon excursion. \nThe weekly summer Farmer’s Market features local certified organic produce\, fresh local seafood\, packaged and prepared food including jams\, jellies\, pecans\, olive oils\, sweets\, handmade pasta\, and more as well as Lowcountry crafts. \nEvery Monday in June from 3 pm til 7 pm. \nFor more area event ideas visit our Pam Harrington Exclusives article Best Charleston Family Activities. \n  \n 
URL:https://staging.pamharringtonexclusives.com/event/freshfields-village-farmers-market-2023-07-24/
LOCATION:Freshfields Village\, 149 Village Green Lane\, Johns Island\, SC\, 29455\, United States
CATEGORIES:All - Seabrook Island,July - Kiawah Island
ATTACH;FMTTYPE=image/jpeg:https://staging.pamharringtonexclusives.com/wp-content/uploads/2023/01/Farmers-Market-Seabrook-Island.jpg
END:VEVENT
BEGIN:VEVENT
DTSTART;TZID=UTC:20230719T203000
DTEND;TZID=UTC:20230719T223000
DTSTAMP:20260422T004626
CREATED:20230508T185133Z
LAST-MODIFIED:20230508T190313Z
UID:54147-1689798600-1689805800@staging.pamharringtonexclusives.com
SUMMARY:Starlight Cinema at Freshfields Village
DESCRIPTION:Starlight Cinema at Freshfields Village offers movies under the stars on Wednesday nights in July. Bring a blanket or lawn chair and come out to the Green at Freshfields for movie night.  Starlight Cinema features family-friendly movies for your family’s enjoyment. \nDon’t miss Minions: The Rise of Gru on Wednesday\, July 19th! \nPop some popcorn to nosh on during Starlight Cinema at Freshfields Village. Or\, visit one of the numerous restaurants in the village for take-out dining. \nLa Tele Pizzeria serves delicious hand-tossed\, wood-fired pizzas.  Make sure to order early! \nFor more fun activities near Kiawah and Seabrook Island visit our Pam Harrington Exclusives blog.
URL:https://staging.pamharringtonexclusives.com/event/starlight-cinema-freshfields-village-2023-07-19/
LOCATION:Freshfields Village\, 149 Village Green Lane\, Johns Island\, SC\, 29455\, United States
CATEGORIES:All - Seabrook Island,July - Kiawah Island
ATTACH;FMTTYPE=image/jpeg:https://staging.pamharringtonexclusives.com/wp-content/uploads/2023/03/Starlight-Cinema-Freshfields-Village.jpg
END:VEVENT
BEGIN:VEVENT
DTSTART;TZID=UTC:20230717T150000
DTEND;TZID=UTC:20230717T190000
DTSTAMP:20260422T004626
CREATED:20230322T165723Z
LAST-MODIFIED:20230322T165723Z
UID:53063-1689606000-1689620400@staging.pamharringtonexclusives.com
SUMMARY:Weekly Farmers Market at Freshfields
DESCRIPTION:The summer Farmers Market at Freshfields Village offers the freshest produce and local crafts. Bike from Seabrook Island to the village for a great Monday afternoon excursion. \nThe weekly summer Farmer’s Market features local certified organic produce\, fresh local seafood\, packaged and prepared food including jams\, jellies\, pecans\, olive oils\, sweets\, handmade pasta\, and more as well as Lowcountry crafts. \nEvery Monday in June from 3 pm til 7 pm. \nFor more area event ideas visit our Pam Harrington Exclusives article Best Charleston Family Activities. \n  \n 
URL:https://staging.pamharringtonexclusives.com/event/freshfields-village-farmers-market-2023-07-17/
LOCATION:Freshfields Village\, 149 Village Green Lane\, Johns Island\, SC\, 29455\, United States
CATEGORIES:All - Seabrook Island,July - Kiawah Island
ATTACH;FMTTYPE=image/jpeg:https://staging.pamharringtonexclusives.com/wp-content/uploads/2023/01/Farmers-Market-Seabrook-Island.jpg
END:VEVENT
BEGIN:VEVENT
DTSTART;TZID=UTC:20230712T203000
DTEND;TZID=UTC:20230712T223000
DTSTAMP:20260422T004626
CREATED:20230508T185133Z
LAST-MODIFIED:20230508T190134Z
UID:54146-1689193800-1689201000@staging.pamharringtonexclusives.com
SUMMARY:Starlight Cinema at Freshfields Village
DESCRIPTION:Starlight Cinema at Freshfields Village offers movies under the stars on Wednesday nights in July. Bring a blanket or lawn chair and come out to the Green at Freshfields for movie night.  Starlight Cinema features family-friendly movies for your family’s enjoyment. \nThis week’s feature film is Sing 2 on Wednesday\, July 12th. \nPop some popcorn to nosh on during Starlight Cinema at Freshfields Village. Or\, visit one of the numerous restaurants in the village for take-out dining. \nLa Tele Pizzeria serves delicious hand-tossed\, wood-fired pizzas.  Make sure to order early! \nFor more fun activities near Kiawah and Seabrook Island visit our Pam Harrington Exclusives blog.
URL:https://staging.pamharringtonexclusives.com/event/starlight-cinema-freshfields-village-2023-07-12/
LOCATION:Freshfields Village\, 149 Village Green Lane\, Johns Island\, SC\, 29455\, United States
CATEGORIES:All - Seabrook Island,July - Kiawah Island
ATTACH;FMTTYPE=image/jpeg:https://staging.pamharringtonexclusives.com/wp-content/uploads/2023/03/Starlight-Cinema-Freshfields-Village.jpg
END:VEVENT
BEGIN:VEVENT
DTSTART;TZID=UTC:20230710T150000
DTEND;TZID=UTC:20230710T190000
DTSTAMP:20260422T004626
CREATED:20230322T165659Z
LAST-MODIFIED:20230322T165659Z
UID:53062-1689001200-1689015600@staging.pamharringtonexclusives.com
SUMMARY:Weekly Farmers Market at Freshfields
DESCRIPTION:The summer Farmers Market at Freshfields Village offers the freshest produce and local crafts. Bike from Seabrook Island to the village for a great Monday afternoon excursion. \nThe weekly summer Farmer’s Market features local certified organic produce\, fresh local seafood\, packaged and prepared food including jams\, jellies\, pecans\, olive oils\, sweets\, handmade pasta\, and more as well as Lowcountry crafts. \nEvery Monday in June from 3 pm til 7 pm. \nFor more area event ideas visit our Pam Harrington Exclusives article Best Charleston Family Activities. \n  \n 
URL:https://staging.pamharringtonexclusives.com/event/freshfields-village-farmers-market-2023-07-10/
LOCATION:Freshfields Village\, 149 Village Green Lane\, Johns Island\, SC\, 29455\, United States
CATEGORIES:All - Seabrook Island,July - Kiawah Island
ATTACH;FMTTYPE=image/jpeg:https://staging.pamharringtonexclusives.com/wp-content/uploads/2023/01/Farmers-Market-Seabrook-Island.jpg
END:VEVENT
BEGIN:VEVENT
DTSTART;TZID=UTC:20230705T203000
DTEND;TZID=UTC:20230705T223000
DTSTAMP:20260422T004626
CREATED:20230508T185133Z
LAST-MODIFIED:20230508T185515Z
UID:54145-1688589000-1688596200@staging.pamharringtonexclusives.com
SUMMARY:Starlight Cinema at Freshfields Village
DESCRIPTION:Starlight Cinema at Freshfields Village offers movies under the stars on Wednesday nights in July. Bring a blanket or lawn chair and come out to the Green at Freshfields for movie night.  Starlight Cinema features family-friendly movies for your family’s enjoyment. \nThe 2023 summer movie series kicks off on June 28th with Top Gun: Maverick \nPop some popcorn to nosh on during Starlight Cinema at Freshfields Village. Or\, visit one of the numerous restaurants in the village for take-out dining. \nLa Tele Pizzeria serves delicious hand-tossed\, wood-fired pizzas.  Make sure to order early! \nFor more fun activities near Kiawah and Seabrook Island visit our Pam Harrington Exclusives blog.
URL:https://staging.pamharringtonexclusives.com/event/starlight-cinema-freshfields-village-2023-07-05/
LOCATION:Freshfields Village\, 149 Village Green Lane\, Johns Island\, SC\, 29455\, United States
CATEGORIES:All - Seabrook Island,July - Kiawah Island
ATTACH;FMTTYPE=image/jpeg:https://staging.pamharringtonexclusives.com/wp-content/uploads/2023/03/Starlight-Cinema-Freshfields-Village.jpg
END:VEVENT
END:VCALENDAR