BEGIN:VCALENDAR
VERSION:2.0
PRODID:-//Pam Harrington Exclusives - ECPv6.15.12.2//NONSGML v1.0//EN
CALSCALE:GREGORIAN
METHOD:PUBLISH
X-ORIGINAL-URL:https://staging.pamharringtonexclusives.com
X-WR-CALDESC:Events for Pam Harrington Exclusives
REFRESH-INTERVAL;VALUE=DURATION:PT1H
X-Robots-Tag:noindex
X-PUBLISHED-TTL:PT1H
BEGIN:VTIMEZONE
TZID:UTC
BEGIN:STANDARD
TZOFFSETFROM:+0000
TZOFFSETTO:+0000
TZNAME:UTC
DTSTART:20220101T000000
END:STANDARD
END:VTIMEZONE
BEGIN:VEVENT
DTSTART;TZID=UTC:20250610T103000
DTEND;TZID=UTC:20250610T133000
DTSTAMP:20260422T005016
CREATED:20240722T110927Z
LAST-MODIFIED:20240722T110927Z
UID:67172-1749551400-1749562200@staging.pamharringtonexclusives.com
SUMMARY:Surf Camp on Kiawah Island
DESCRIPTION:Hang ten little grommets!  Surf Camp on Kiawah Island is the perfect introduction to surfing. \n\nKiawah surf instructors teach popping up\, board maintenance\, waxing\, paddling\, and wave-catching.\n\n\n \n\n\nAges: 8-15. Reservations requested 843.768.6001 (24-hour cancellation policy) \nMeets at the Sanctuary Beach Access. A pizza lunch\, snack\, towel\, and sunscreen are provided. Bring your own water! 
URL:https://staging.pamharringtonexclusives.com/event/surf-camp-on-kiawah-island/
LOCATION:Sanctuary Front Beach\, 1 Sanctuary Beach Dr\, Kiawah Island\, SC\, 29455\, United States
CATEGORIES:June - Kiawah Island
ATTACH;FMTTYPE=image/jpeg:https://staging.pamharringtonexclusives.com/wp-content/uploads/2024/07/Surf-Camp-on-Kiawah-Island.jpg
END:VEVENT
BEGIN:VEVENT
DTSTART;TZID=UTC:20250606T180000
DTEND;TZID=UTC:20250606T210000
DTSTAMP:20260422T005016
CREATED:20240722T112133Z
LAST-MODIFIED:20240722T112133Z
UID:67175-1749232800-1749243600@staging.pamharringtonexclusives.com
SUMMARY:Live Music at Freshfields Village
DESCRIPTION:Live Music at Freshfields is a great way to spend Friday evening in June.  Freshfields Village hosts local and regional favorites playing beach music\, the blues and so much more—Friday evenings from 6 pm to 9 pm on the Village Green.  Bring a chair or a blanket and grab food and beverages from area restaurants.  Let the good times roll! \nFor more great events on Kiawah Island visit our event calendar.
URL:https://staging.pamharringtonexclusives.com/event/live-music-at-freshfields-village/
LOCATION:Freshfields Village\, 149 Village Green Lane\, Johns Island\, SC\, 29455\, United States
CATEGORIES:June - Kiawah Island
ATTACH;FMTTYPE=image/jpeg:https://staging.pamharringtonexclusives.com/wp-content/uploads/2024/07/Live-Music-at-Freshfields-in-June.jpg
END:VEVENT
BEGIN:VEVENT
DTSTART;TZID=UTC:20250606T110000
DTEND;TZID=UTC:20250606T140000
DTSTAMP:20260422T005016
CREATED:20250429T142405Z
LAST-MODIFIED:20250429T152625Z
UID:81467-1749207600-1749218400@staging.pamharringtonexclusives.com
SUMMARY:Kiawah Summer Food Truck Festival Series June
DESCRIPTION:Craving something new on Kiawah? 🤔 Check out TOKI Bites & Brews\, a monthly summer food truck festival! 🌮🍔🍦 Discover a fresh mix of food and beverage vendors each Friday (April-August\, 11 am – 2 pm) at Town Hall (4475 Betsy Kerrison Pkwy.). Live music & community fun guaranteed! Bring your seating.  Mark June 6\, 2025 on your calendar! \n  \nJune vendors are Foxes Fried\, Lowcountry Caviar\, Krystyna’s Polish Food\, Smash City Burgers\, Braised and Glazed\, King of Pops
URL:https://staging.pamharringtonexclusives.com/event/kiawah-summer-food-truck-festival-series-june/
LOCATION:Town of Kiawah Island\, 4475 Betsy Kerrison Parkway\, Johns Island\, SC\, 29455\, United States
CATEGORIES:All - Seabrook Island,All Johns Island,All Kiawah Island,June - Kiawah Island,June - Seabrook Island
ATTACH;FMTTYPE=image/png:https://staging.pamharringtonexclusives.com/wp-content/uploads/2025/04/Kiawah-Food-Truck-Festival-June-6.png
END:VEVENT
BEGIN:VEVENT
DTSTART;TZID=UTC:20240607T180000
DTEND;TZID=UTC:20240607T210000
DTSTAMP:20260422T005016
CREATED:20230103T204114Z
LAST-MODIFIED:20240116T130314Z
UID:51006-1717783200-1717794000@staging.pamharringtonexclusives.com
SUMMARY:Music on the Green - Fridays in June at Freshfields Kiawah
DESCRIPTION:Freshfields Village is the place to be on Friday evenings in June for Music on the Green. From 6 to 9 pm enjoy live music and fun with your friends and neighbors. Free and open to everyone! \nBring a lawn chair and a picnic. Or grab snacks\, beverages and meals from various restaurants around the village. Make sure to check out the new restaurants in the village too. There are many great options! Cafe Eugenia is the village’s newest takeaway dining option with delicious Mediterranean-inspired fare. Grab a bottle of wine from Forty-Eight Wine bar and it’s a party! \nThe musical groups change each week so check this schedule for performers before you visit. \nMusic on the Green June Dates\n\nFriday June 7\, 2024\nFriday June 14\, 2024\nFriday June 21\, 2024\nFriday June 28\, 2024\n\nFor more summer fun at Freshfields Village view our Freshfields Blog.
URL:https://staging.pamharringtonexclusives.com/event/music-on-the-green-kiawah-june/
LOCATION:Freshfields Village\, 149 Village Green Lane\, Johns Island\, SC\, 29455\, United States
CATEGORIES:June - Kiawah Island
ATTACH;FMTTYPE=image/jpeg:https://staging.pamharringtonexclusives.com/wp-content/uploads/2023/09/musiconthegreenkiawah-scaled-2.jpg
END:VEVENT
BEGIN:VEVENT
DTSTART;TZID=UTC:20240603T150000
DTEND;TZID=UTC:20240603T190000
DTSTAMP:20260422T005016
CREATED:20230322T164309Z
LAST-MODIFIED:20240108T144935Z
UID:53057-1717426800-1717441200@staging.pamharringtonexclusives.com
SUMMARY:Weekly Farmers Market at Freshfields
DESCRIPTION:The summer Farmers Market at Freshfields Village offers the freshest produce and local crafts. Bike from Seabrook Island to the village for a great Monday afternoon excursion. \nThe weekly summer Farmer’s Market features local certified organic produce\, fresh local seafood\, packaged and prepared food including jams\, jellies\, pecans\, olive oils\, sweets\, handmade pasta\, and more as well as Lowcountry crafts. \nEvery Monday in June from 3 pm til 7 pm. \nFor more area event ideas visit our Pam Harrington Exclusives article Best Charleston Family Activities. \n  \n 
URL:https://staging.pamharringtonexclusives.com/event/freshfields-village-farmers-market/
LOCATION:Freshfields Village\, 149 Village Green Lane\, Johns Island\, SC\, 29455\, United States
CATEGORIES:All - Seabrook Island,June - Kiawah Island
ATTACH;FMTTYPE=image/jpeg:https://staging.pamharringtonexclusives.com/wp-content/uploads/2023/01/Farmers-Market-Seabrook-Island.jpg
END:VEVENT
BEGIN:VEVENT
DTSTART;TZID=UTC:20230630T180000
DTEND;TZID=UTC:20230630T210000
DTSTAMP:20260422T005016
CREATED:20230420T143345Z
LAST-MODIFIED:20230420T143345Z
UID:53239-1688148000-1688158800@staging.pamharringtonexclusives.com
SUMMARY:Music on the Green at Freshfields
DESCRIPTION:Music on the Green at Freshfields Village is our favorite Friday evening event. Grab the family\, or friends and head over to the Village Green at Freshfields. \nLocal and regional groups play your favorite beach music so you can shag the night away! \nChoose from several different yummy takeout dining options at Freshfields such as Cafe Eugenia\, Cantina 76\, or the prepared foods section at the Village Market by Harris Teeter. \nIf you get there early enough you can score an outside table at FortyEight Wine Bar and enjoy the music and full-service dining! \nBring a blanket or lawn chairs and stake out your spot for Music on the Green at Freshfields village. Freshfields Village is located on Johns Island just a mile or so from the gated area of Seabrook Island.
URL:https://staging.pamharringtonexclusives.com/event/freshfields-music-on-the-green-2023-06-30/
LOCATION:Freshfields Village\, 149 Village Green Lane\, Johns Island\, SC\, 29455\, United States
CATEGORIES:All - Seabrook Island,June - Kiawah Island
ATTACH;FMTTYPE=image/png:https://staging.pamharringtonexclusives.com/wp-content/uploads/2023/03/Music-on-the-Green-Freshfields-Village.png
END:VEVENT
BEGIN:VEVENT
DTSTART;TZID=UTC:20230628T203000
DTEND;TZID=UTC:20230628T223000
DTSTAMP:20260422T005016
CREATED:20230508T185133Z
LAST-MODIFIED:20230508T185708Z
UID:53118-1687984200-1687991400@staging.pamharringtonexclusives.com
SUMMARY:Starlight Cinema at Freshfields Village
DESCRIPTION:Starlight Cinema at Freshfields Village offers movies under the stars on Wednesday nights in July. Bring a blanket or lawn chair and come out to the Green at Freshfields for movie night.  Starlight Cinema features family-friendly movies for your family’s enjoyment. \nThe 2023 summer movie series kicks off on June 28th with: Luca \nPop some popcorn to nosh on during Starlight Cinema at Freshfields Village. Or\, visit one of the numerous restaurants in the village for take-out dining. \nLa Tele Pizzeria serves delicious hand-tossed\, wood-fired pizzas.  Make sure to order early! \nFor more fun activities near Kiawah and Seabrook Island visit our Pam Harrington Exclusives blog.
URL:https://staging.pamharringtonexclusives.com/event/starlight-cinema-freshfields-village/
LOCATION:Freshfields Village\, 149 Village Green Lane\, Johns Island\, SC\, 29455\, United States
CATEGORIES:All - Seabrook Island,June - Kiawah Island
ATTACH;FMTTYPE=image/jpeg:https://staging.pamharringtonexclusives.com/wp-content/uploads/2023/03/Starlight-Cinema-Freshfields-Village.jpg
END:VEVENT
BEGIN:VEVENT
DTSTART;TZID=UTC:20230626T150000
DTEND;TZID=UTC:20230626T190000
DTSTAMP:20260422T005016
CREATED:20230322T165051Z
LAST-MODIFIED:20230322T165051Z
UID:53061-1687791600-1687806000@staging.pamharringtonexclusives.com
SUMMARY:Weekly Farmers Market at Freshfields
DESCRIPTION:The summer Farmers Market at Freshfields Village offers the freshest produce and local crafts. Bike from Seabrook Island to the village for a great Monday afternoon excursion. \nThe weekly summer Farmer’s Market features local certified organic produce\, fresh local seafood\, packaged and prepared food including jams\, jellies\, pecans\, olive oils\, sweets\, handmade pasta\, and more as well as Lowcountry crafts. \nEvery Monday in June from 3 pm til 7 pm. \nFor more area event ideas visit our Pam Harrington Exclusives article Best Charleston Family Activities. \n  \n 
URL:https://staging.pamharringtonexclusives.com/event/freshfields-village-farmers-market-2023-06-26/
LOCATION:Freshfields Village\, 149 Village Green Lane\, Johns Island\, SC\, 29455\, United States
CATEGORIES:All - Seabrook Island,June - Kiawah Island
ATTACH;FMTTYPE=image/jpeg:https://staging.pamharringtonexclusives.com/wp-content/uploads/2023/01/Farmers-Market-Seabrook-Island.jpg
END:VEVENT
BEGIN:VEVENT
DTSTART;TZID=UTC:20230623T180000
DTEND;TZID=UTC:20230623T210000
DTSTAMP:20260422T005016
CREATED:20230420T143242Z
LAST-MODIFIED:20230420T143242Z
UID:53238-1687543200-1687554000@staging.pamharringtonexclusives.com
SUMMARY:Music on the Green at Freshfields
DESCRIPTION:Music on the Green at Freshfields Village is our favorite Friday evening event. Grab the family\, or friends and head over to the Village Green at Freshfields. \nLocal and regional groups play your favorite beach music so you can shag the night away! \nChoose from several different yummy takeout dining options at Freshfields such as Cafe Eugenia\, Cantina 76\, or the prepared foods section at the Village Market by Harris Teeter. \nIf you get there early enough you can score an outside table at FortyEight Wine Bar and enjoy the music and full-service dining! \nBring a blanket or lawn chairs and stake out your spot for Music on the Green at Freshfields village. Freshfields Village is located on Johns Island just a mile or so from the gated area of Seabrook Island.
URL:https://staging.pamharringtonexclusives.com/event/freshfields-music-on-the-green-2023-06-23/
LOCATION:Freshfields Village\, 149 Village Green Lane\, Johns Island\, SC\, 29455\, United States
CATEGORIES:All - Seabrook Island,June - Kiawah Island
ATTACH;FMTTYPE=image/png:https://staging.pamharringtonexclusives.com/wp-content/uploads/2023/03/Music-on-the-Green-Freshfields-Village.png
END:VEVENT
BEGIN:VEVENT
DTSTART;TZID=UTC:20230619T150000
DTEND;TZID=UTC:20230619T190000
DTSTAMP:20260422T005016
CREATED:20230322T164554Z
LAST-MODIFIED:20230322T164554Z
UID:53060-1687186800-1687201200@staging.pamharringtonexclusives.com
SUMMARY:Weekly Farmers Market at Freshfields
DESCRIPTION:The summer Farmers Market at Freshfields Village offers the freshest produce and local crafts. Bike from Seabrook Island to the village for a great Monday afternoon excursion. \nThe weekly summer Farmer’s Market features local certified organic produce\, fresh local seafood\, packaged and prepared food including jams\, jellies\, pecans\, olive oils\, sweets\, handmade pasta\, and more as well as Lowcountry crafts. \nEvery Monday in June from 3 pm til 7 pm. \nFor more area event ideas visit our Pam Harrington Exclusives article Best Charleston Family Activities. \n  \n 
URL:https://staging.pamharringtonexclusives.com/event/freshfields-village-farmers-market-2023-06-19/
LOCATION:Freshfields Village\, 149 Village Green Lane\, Johns Island\, SC\, 29455\, United States
CATEGORIES:All - Seabrook Island,June - Kiawah Island
ATTACH;FMTTYPE=image/jpeg:https://staging.pamharringtonexclusives.com/wp-content/uploads/2023/01/Farmers-Market-Seabrook-Island.jpg
END:VEVENT
BEGIN:VEVENT
DTSTART;TZID=UTC:20230616T180000
DTEND;TZID=UTC:20230616T210000
DTSTAMP:20260422T005016
CREATED:20230420T143234Z
LAST-MODIFIED:20230420T143234Z
UID:53237-1686938400-1686949200@staging.pamharringtonexclusives.com
SUMMARY:Music on the Green at Freshfields
DESCRIPTION:Music on the Green at Freshfields Village is our favorite Friday evening event. Grab the family\, or friends and head over to the Village Green at Freshfields. \nLocal and regional groups play your favorite beach music so you can shag the night away! \nChoose from several different yummy takeout dining options at Freshfields such as Cafe Eugenia\, Cantina 76\, or the prepared foods section at the Village Market by Harris Teeter. \nIf you get there early enough you can score an outside table at FortyEight Wine Bar and enjoy the music and full-service dining! \nBring a blanket or lawn chairs and stake out your spot for Music on the Green at Freshfields village. Freshfields Village is located on Johns Island just a mile or so from the gated area of Seabrook Island.
URL:https://staging.pamharringtonexclusives.com/event/freshfields-music-on-the-green-2023-06-16/
LOCATION:Freshfields Village\, 149 Village Green Lane\, Johns Island\, SC\, 29455\, United States
CATEGORIES:All - Seabrook Island,June - Kiawah Island
ATTACH;FMTTYPE=image/png:https://staging.pamharringtonexclusives.com/wp-content/uploads/2023/03/Music-on-the-Green-Freshfields-Village.png
END:VEVENT
BEGIN:VEVENT
DTSTART;TZID=UTC:20230612T150000
DTEND;TZID=UTC:20230612T190000
DTSTAMP:20260422T005016
CREATED:20230322T164516Z
LAST-MODIFIED:20230322T170008Z
UID:53059-1686582000-1686596400@staging.pamharringtonexclusives.com
SUMMARY:Weekly Farmers Market at Freshfields
DESCRIPTION:The summer Farmers Market at Freshfields Village offers the freshest produce and local crafts. Bike from Seabrook Island to the village for a great Monday afternoon excursion. \nThe weekly summer Farmer’s Market features local certified organic produce\, fresh local seafood\, packaged and prepared food including jams\, jellies\, pecans\, olive oils\, sweets\, handmade pasta\, and more as well as Lowcountry crafts. \nEvery Monday in June from 3 pm til 7 pm. \nFor more area event ideas visit our Pam Harrington Exclusives article Best Charleston Family Activities. \n  \n 
URL:https://staging.pamharringtonexclusives.com/event/freshfields-village-farmers-market-2023-06-12/
LOCATION:Freshfields Village\, 149 Village Green Lane\, Johns Island\, SC\, 29455\, United States
CATEGORIES:All - Seabrook Island,June - Kiawah Island
ATTACH;FMTTYPE=image/jpeg:https://staging.pamharringtonexclusives.com/wp-content/uploads/2023/01/Farmers-Market-Seabrook-Island.jpg
END:VEVENT
BEGIN:VEVENT
DTSTART;TZID=UTC:20230609T180000
DTEND;TZID=UTC:20230609T210000
DTSTAMP:20260422T005016
CREATED:20230420T143223Z
LAST-MODIFIED:20230420T143223Z
UID:53236-1686333600-1686344400@staging.pamharringtonexclusives.com
SUMMARY:Music on the Green at Freshfields
DESCRIPTION:Music on the Green at Freshfields Village is our favorite Friday evening event. Grab the family\, or friends and head over to the Village Green at Freshfields. \nLocal and regional groups play your favorite beach music so you can shag the night away! \nChoose from several different yummy takeout dining options at Freshfields such as Cafe Eugenia\, Cantina 76\, or the prepared foods section at the Village Market by Harris Teeter. \nIf you get there early enough you can score an outside table at FortyEight Wine Bar and enjoy the music and full-service dining! \nBring a blanket or lawn chairs and stake out your spot for Music on the Green at Freshfields village. Freshfields Village is located on Johns Island just a mile or so from the gated area of Seabrook Island.
URL:https://staging.pamharringtonexclusives.com/event/freshfields-music-on-the-green-2023-06-09/
LOCATION:Freshfields Village\, 149 Village Green Lane\, Johns Island\, SC\, 29455\, United States
CATEGORIES:All - Seabrook Island,June - Kiawah Island
ATTACH;FMTTYPE=image/png:https://staging.pamharringtonexclusives.com/wp-content/uploads/2023/03/Music-on-the-Green-Freshfields-Village.png
END:VEVENT
BEGIN:VEVENT
DTSTART;TZID=UTC:20230602T180000
DTEND;TZID=UTC:20230602T210000
DTSTAMP:20260422T005016
CREATED:20230420T143215Z
LAST-MODIFIED:20230905T172256Z
UID:53235-1685728800-1685739600@staging.pamharringtonexclusives.com
SUMMARY:Music on the Green at Freshfields
DESCRIPTION:Music on the Green at Freshfields Village is our favorite Friday evening event. Grab the family\, or friends and head over to the Village Green at Freshfields. \nLocal and regional groups play your favorite beach music so you can shag the night away! \nChoose from several different yummy takeout dining options at Freshfields such as Cafe Eugenia\, Cantina 76\, or the prepared foods section at the Village Market by Harris Teeter. \nIf you get there early enough you can score an outside table at FortyEight Wine Bar and enjoy the music and full-service dining! \nBring a blanket or lawn chairs and stake out your spot for Music on the Green at Freshfields village. Freshfields Village is located on Johns Island just a mile or so from the gated area of Seabrook Island.
URL:https://staging.pamharringtonexclusives.com/event/freshfields-music-on-the-green-2023-06-02/
LOCATION:Freshfields Village\, 149 Village Green Lane\, Johns Island\, SC\, 29455\, United States
CATEGORIES:All - Seabrook Island,June - Kiawah Island
ATTACH;FMTTYPE=image/jpeg:https://staging.pamharringtonexclusives.com/wp-content/uploads/2023/09/musiconthegreenkiawah-scaled-2.jpg
END:VEVENT
END:VCALENDAR