BEGIN:VCALENDAR
VERSION:2.0
PRODID:-//Pam Harrington Exclusives - ECPv6.15.12.2//NONSGML v1.0//EN
CALSCALE:GREGORIAN
METHOD:PUBLISH
X-WR-CALNAME:Pam Harrington Exclusives
X-ORIGINAL-URL:https://staging.pamharringtonexclusives.com
X-WR-CALDESC:Events for Pam Harrington Exclusives
REFRESH-INTERVAL;VALUE=DURATION:PT1H
X-Robots-Tag:noindex
X-PUBLISHED-TTL:PT1H
BEGIN:VTIMEZONE
TZID:UTC
BEGIN:STANDARD
TZOFFSETFROM:+0000
TZOFFSETTO:+0000
TZNAME:UTC
DTSTART:20230101T000000
END:STANDARD
END:VTIMEZONE
BEGIN:VEVENT
DTSTART;TZID=UTC:20250518T130000
DTEND;TZID=UTC:20250518T160000
DTSTAMP:20260424T103939
CREATED:20250508T144636Z
LAST-MODIFIED:20250825T145009Z
UID:82281-1747573200-1747584000@staging.pamharringtonexclusives.com
SUMMARY:Luxury Home Magazine Tour of Homes
DESCRIPTION:Sunday\, May 18th\n1pm ’til 4pm\nJoin us for an exclusive Tour of Homes\, sponsored by Luxury Home Magazine  showcasing some of the most stunning properties in the Charleston area! \nPam Harrington Exclusives is proud to feature three exceptional Kiawah & Seabrook Island listings on this tour: \n108 Salthouse Lane – A breathtaking estate in The Settlement\, with expansive views of the Kiawah River\, wonderful outdoor living\, multiple guest houses & deep-water dock. KIC Membership – Sports is a requirement of purchase. \n83 Blue Heron Pond –  Privacy on 3.46 acres in The Preserve with heated pool\, timeless lowcountry elegance and overlooking two rivers & everchanging marsh. KIC Membership opportunity – Social or Golf \n1394/96 Pelican Watch Villa – Beautifully renovated beachfront villa on Seabrook Island with solid rental history for those looking at investment! \nStep inside these exceptional homes and discover what island living is all about. See for yourself the unmatched beauty\, design\, and craftsmanship of these one-of-a-kind properties! \nRSVP for gate access to all featured communities. \nSign up to receive full event details and access instructions.
URL:https://staging.pamharringtonexclusives.com/event/luxury-home-magazine-tour-of-homes/
LOCATION:Various Locations in Charleston\, Charleston\, SC\, United States
CATEGORIES:All - Seabrook Island,May - Charleston,May - Kiawah Island
ATTACH;FMTTYPE=image/png:https://staging.pamharringtonexclusives.com/wp-content/uploads/2025/05/LHM-Tour-2048x1033-.png
END:VEVENT
BEGIN:VEVENT
DTSTART;VALUE=DATE:20250503
DTEND;VALUE=DATE:20250504
DTSTAMP:20260424T103939
CREATED:20240730T125300Z
LAST-MODIFIED:20240730T125300Z
UID:67552-1746230400-1746316799@staging.pamharringtonexclusives.com
SUMMARY:Charleston Dragon Boat Festival
DESCRIPTION: The Charleston Dragon Boat Festival is a vibrant celebration of community and resilience. This annual event brings together teams of paddlers to compete in thrilling races on the Ashley River. More than a sporting event\, the festival raises money for cancer survivorship programs and fosters a supportive environment for survivors.  \nWith its energetic atmosphere\, cultural performances\, and delicious food trucks\, the Charleston Dragon Boat Festival is a must-attend event for locals and visitors alike.
URL:https://staging.pamharringtonexclusives.com/event/charleston-dragon-boat-festival/
LOCATION:Ashley River Charleston SC\, United States
CATEGORIES:May - Charleston
ATTACH;FMTTYPE=image/png:https://staging.pamharringtonexclusives.com/wp-content/uploads/2024/07/Charleston-Dragon-Boat-Festival.png
END:VEVENT
BEGIN:VEVENT
DTSTART;VALUE=DATE:20240524
DTEND;VALUE=DATE:20240610
DTSTAMP:20260424T103939
CREATED:20230109T154935Z
LAST-MODIFIED:20231212T163007Z
UID:51182-1716508800-1717977599@staging.pamharringtonexclusives.com
SUMMARY:Spoleto Festival - Charleston\, SC
DESCRIPTION:Every May\, Spoleto takes over the Holy City for 17 days and nights\, shining a spotlight on internationally renowned and emerging artists. \nThe celebrated performing arts festival takes place May 24 to June 9\, 2024\, throughout multiple venues in Charleston featuring music\, dance\, and theatre performances. Started in 1977 by Gian Carlo Menotti\, this highly attended 2-week festival was inspired by the Festival Dei Due Mondi in Spoleto\, Italy\, and is now America’s leading performing arts festival. \nSee the performance schedule and purchase tickets. \nFor more background and details on Charleston\, Spoleto Festival read our blog. \n 
URL:https://staging.pamharringtonexclusives.com/event/spoleto-festival-charleston-sc/
LOCATION:Downtown Charleston
CATEGORIES:May - Charleston
ATTACH;FMTTYPE=image/jpeg:https://staging.pamharringtonexclusives.com/wp-content/uploads/2023/01/Spoleto-Festival-USA-Charleton-SC.jpg
END:VEVENT
BEGIN:VEVENT
DTSTART;VALUE=DATE:20240524
DTEND;VALUE=DATE:20240610
DTSTAMP:20260424T103939
CREATED:20230109T154820Z
LAST-MODIFIED:20231212T162601Z
UID:51185-1716508800-1717977599@staging.pamharringtonexclusives.com
SUMMARY:Piccolo Spoleto Festival - Charleston\, SC
DESCRIPTION:Running simultaneously with the Spoleto Festival\, Piccolo Spoleto is its performing arts sister festival that focuses on local talent and regional performers\, particularly from the southeast. Witness some of the edgiest\, most provocative performances. \nMay 24 to June 9\, 2024\, don’t miss it! \nPerformances and schedule of events may be found on the website TBA.
URL:https://staging.pamharringtonexclusives.com/event/piccolo-spoleto-charleston-sc/
LOCATION:Downtown Charleston
CATEGORIES:May - Charleston
ATTACH;FMTTYPE=image/jpeg:https://staging.pamharringtonexclusives.com/wp-content/uploads/2023/01/Piccolo-Spoleto-Festival-Charleston.jpg
END:VEVENT
BEGIN:VEVENT
DTSTART;VALUE=DATE:20240501
DTEND;VALUE=DATE:20240506
DTSTAMP:20260424T103939
CREATED:20230109T155012Z
LAST-MODIFIED:20231212T163324Z
UID:51205-1714521600-1714953599@staging.pamharringtonexclusives.com
SUMMARY:The 41st Annual North Charleston Arts Festival
DESCRIPTION:The North Charleston Art Festival is celebrating its 41st year in 2024! \nThis is an annual five-day celebration of the arts! This year\, the festival will take place May 1-5\, 2024 \nAll events are FREE! \nEvents throughout the festival include an art block party\, exhibitions\, competitions for sculptures\, fine art\, and photography\, as well as concerts and even a magic show. Get in touch with the art scene in Charleston! \nFor more great events in Charleston SC see our Charleston Events Page
URL:https://staging.pamharringtonexclusives.com/event/north-charleston-arts-festival/
LOCATION:Various Locations in North Charleston
CATEGORIES:May - Charleston
ATTACH;FMTTYPE=image/jpeg:https://staging.pamharringtonexclusives.com/wp-content/uploads/2023/01/North-Charleston-Arts-Festival.jpg
END:VEVENT
END:VCALENDAR