BEGIN:VCALENDAR
VERSION:2.0
PRODID:-//Pam Harrington Exclusives - ECPv6.15.12.2//NONSGML v1.0//EN
CALSCALE:GREGORIAN
METHOD:PUBLISH
X-WR-CALNAME:Pam Harrington Exclusives
X-ORIGINAL-URL:https://staging.pamharringtonexclusives.com
X-WR-CALDESC:Events for Pam Harrington Exclusives
REFRESH-INTERVAL;VALUE=DURATION:PT1H
X-Robots-Tag:noindex
X-PUBLISHED-TTL:PT1H
BEGIN:VTIMEZONE
TZID:UTC
BEGIN:STANDARD
TZOFFSETFROM:+0000
TZOFFSETTO:+0000
TZNAME:UTC
DTSTART:20220101T000000
END:STANDARD
END:VTIMEZONE
BEGIN:VEVENT
DTSTART;VALUE=DATE:20230224
DTEND;VALUE=DATE:20230227
DTSTAMP:20260422T064412
CREATED:20230124T182857Z
LAST-MODIFIED:20230124T185651Z
UID:51133-1677196800-1677455999@staging.pamharringtonexclusives.com
SUMMARY:Faith in the Home - Camp St. Christopher
DESCRIPTION:Faith in the Home is a Christian men’s conference sponsored by the Diocese of South Carolina. The weekend speaker will be Bishop Chip Edgar. \n\nThe conference location is Camp St. Christopher on Seabrook Island.\nThe dates are Feb. 24-26\, 2023 The emcee for this special weekend is Les Sease.\n\nFor more information about this event contact the Anglican Diocese. \nIf you are visiting Charleston for the Faith in the Home conference here are some churches in Charleston you may want to visit.
URL:https://staging.pamharringtonexclusives.com/event/faith-in-the-home-seabrook/
LOCATION:Camp St. Christopher\, 2810 Seabrook Island Road\, Seabrook Island\, SC\, 29455\, United States
CATEGORIES:All - Seabrook Island,February - Seabrook Island
ATTACH;FMTTYPE=image/jpeg:https://staging.pamharringtonexclusives.com/wp-content/uploads/2023/01/campstchristopherseabrookisland.jpg
END:VEVENT
END:VCALENDAR