BEGIN:VCALENDAR
VERSION:2.0
PRODID:-//Pam Harrington Exclusives - ECPv6.15.12.2//NONSGML v1.0//EN
CALSCALE:GREGORIAN
METHOD:PUBLISH
X-WR-CALNAME:Pam Harrington Exclusives
X-ORIGINAL-URL:https://staging.pamharringtonexclusives.com
X-WR-CALDESC:Events for Pam Harrington Exclusives
REFRESH-INTERVAL;VALUE=DURATION:PT1H
X-Robots-Tag:noindex
X-PUBLISHED-TTL:PT1H
BEGIN:VTIMEZONE
TZID:UTC
BEGIN:STANDARD
TZOFFSETFROM:+0000
TZOFFSETTO:+0000
TZNAME:UTC
DTSTART:20220101T000000
END:STANDARD
END:VTIMEZONE
BEGIN:VEVENT
DTSTART;TZID=UTC:20231218T110000
DTEND;TZID=UTC:20231218T130000
DTSTAMP:20260424T131543
CREATED:20221108T185220Z
LAST-MODIFIED:20231106T173709Z
UID:49698-1702897200-1702904400@staging.pamharringtonexclusives.com
SUMMARY:The Night Before Christmas Holiday Concert
DESCRIPTION:Join the talented musicians of Chamber Music Charleston who bring to life classic holiday stories through song and music. \nHosted at the College of Charleston Sottile Theatre at 44 George Street in downtown Charleston\, SC. \nAlways a sell-out\, get your tickets early!
URL:https://staging.pamharringtonexclusives.com/event/night-before-christmas-kids-holiday-concert/
LOCATION:Sottile Theatre\, 44 George Street\, Charleston\, SC\, 29401
CATEGORIES:December - Charleston
ATTACH;FMTTYPE=image/jpeg:https://staging.pamharringtonexclusives.com/wp-content/uploads/2022/11/600-x-400-Website-Blog-2022-11-08T125419.341.jpg
END:VEVENT
END:VCALENDAR