BEGIN:VCALENDAR
VERSION:2.0
PRODID:-//Pam Harrington Exclusives - ECPv6.15.12.2//NONSGML v1.0//EN
CALSCALE:GREGORIAN
METHOD:PUBLISH
X-WR-CALNAME:Pam Harrington Exclusives
X-ORIGINAL-URL:https://staging.pamharringtonexclusives.com
X-WR-CALDESC:Events for Pam Harrington Exclusives
REFRESH-INTERVAL;VALUE=DURATION:PT1H
X-Robots-Tag:noindex
X-PUBLISHED-TTL:PT1H
BEGIN:VTIMEZONE
TZID:UTC
BEGIN:STANDARD
TZOFFSETFROM:+0000
TZOFFSETTO:+0000
TZNAME:UTC
DTSTART:20230101T000000
END:STANDARD
END:VTIMEZONE
BEGIN:VEVENT
DTSTART;VALUE=DATE:20240306
DTEND;VALUE=DATE:20240311
DTSTAMP:20260422T084331
CREATED:20221230T184646Z
LAST-MODIFIED:20240118T132056Z
UID:50699-1709683200-1710115199@staging.pamharringtonexclusives.com
SUMMARY:2024 Charleston Wine and Food Festival
DESCRIPTION:Food gurus and wine enthusiasts are in for a treat in 2024. The annual Charleston Wine + Food Festival is back for March 6-10\, 2024 featuring some of the nation’s top chefs\, sommeliers\, authors\, storytellers\, and artisans. \nThe 2024 event will again host a culinary village at Riverfront Park in North Charleston. Additional festival favorites will take place downtown like wine lunches\, craft beer workshops\, and more! \nGet your tickets before they sell out!
URL:https://staging.pamharringtonexclusives.com/event/charleston-wine-food-festival-2023/
LOCATION:Charleston South Carolina\, Charleston\, United States
CATEGORIES:March - Charleston
ATTACH;FMTTYPE=image/jpeg:https://staging.pamharringtonexclusives.com/wp-content/uploads/2022/12/2023-Charleston-Wine-and-Food-Festival.jpg
END:VEVENT
END:VCALENDAR