BEGIN:VCALENDAR
VERSION:2.0
PRODID:-//Pam Harrington Exclusives - ECPv6.15.12.2//NONSGML v1.0//EN
CALSCALE:GREGORIAN
METHOD:PUBLISH
X-WR-CALNAME:Pam Harrington Exclusives
X-ORIGINAL-URL:https://staging.pamharringtonexclusives.com
X-WR-CALDESC:Events for Pam Harrington Exclusives
REFRESH-INTERVAL;VALUE=DURATION:PT1H
X-Robots-Tag:noindex
X-PUBLISHED-TTL:PT1H
BEGIN:VTIMEZONE
TZID:UTC
BEGIN:STANDARD
TZOFFSETFROM:+0000
TZOFFSETTO:+0000
TZNAME:UTC
DTSTART:20220101T000000
END:STANDARD
END:VTIMEZONE
BEGIN:VEVENT
DTSTART;TZID=UTC:20250606T180000
DTEND;TZID=UTC:20250606T210000
DTSTAMP:20260424T112916
CREATED:20240722T112133Z
LAST-MODIFIED:20240722T112133Z
UID:67175-1749232800-1749243600@staging.pamharringtonexclusives.com
SUMMARY:Live Music at Freshfields Village
DESCRIPTION:Live Music at Freshfields is a great way to spend Friday evening in June.  Freshfields Village hosts local and regional favorites playing beach music\, the blues and so much more—Friday evenings from 6 pm to 9 pm on the Village Green.  Bring a chair or a blanket and grab food and beverages from area restaurants.  Let the good times roll! \nFor more great events on Kiawah Island visit our event calendar.
URL:https://staging.pamharringtonexclusives.com/event/live-music-at-freshfields-village/
LOCATION:Freshfields Village\, 149 Village Green Lane\, Johns Island\, SC\, 29455\, United States
CATEGORIES:June - Kiawah Island
ATTACH;FMTTYPE=image/jpeg:https://staging.pamharringtonexclusives.com/wp-content/uploads/2024/07/Live-Music-at-Freshfields-in-June.jpg
END:VEVENT
BEGIN:VEVENT
DTSTART;TZID=UTC:20240402T180000
DTEND;TZID=UTC:20240402T210000
DTSTAMP:20260424T112916
CREATED:20230328T142741Z
LAST-MODIFIED:20240108T145549Z
UID:53115-1712080800-1712091600@staging.pamharringtonexclusives.com
SUMMARY:Shag Nights at Freshfields
DESCRIPTION:Tuesday nights groove the night away for Shag Nights at Freshfields Village! Each Tuesday evening in April & May from 6 – 9 pm on the Village Green. \nIf you are new to the area put on your dancing shoes and come on out to show your shagging moves! \nThe shagging community of the Lowcountry is super friendly and in no time you will be swaying to the beach music\, lakeside. \n\nWhat is beach music?  Read up on this Carolina coast genre\, perfect for dancing the night away!\nFor more summer fun visit our Pam Harrington Exclusives blog.
URL:https://staging.pamharringtonexclusives.com/event/shag-night-at-freshfields/
LOCATION:Freshfields\, SC\, United States
CATEGORIES:All - Seabrook Island,April - Kiawah Island
ATTACH;FMTTYPE=image/jpeg:https://staging.pamharringtonexclusives.com/wp-content/uploads/2023/03/Shag-Nights-at-Freshfields-Village.jpg
END:VEVENT
BEGIN:VEVENT
DTSTART;TZID=UTC:20240316T150000
DTEND;TZID=UTC:20240316T180000
DTSTAMP:20260424T112916
CREATED:20240229T182910Z
LAST-MODIFIED:20240229T182910Z
UID:59950-1710601200-1710612000@staging.pamharringtonexclusives.com
SUMMARY:BBQ + Bluegrass + Bourbon at Freshfields Village
DESCRIPTION:Freshfields Village and Garden and Gun welcome everyone for this free event on the Village Green! \nSwig and Swine and Southern Roots Smokehouse are serving up succulent plates of favorites like pork and beef brisket. \nBluegrass jams by The Lowhills will keep ya toe tapping throughout the afternoon. \nSip on craft cocktails and bourbons by Blade and Bows. \nCan’t make it but craving some good BBQ?  Check out our Charleston BBQ restaurant recommendations.
URL:https://staging.pamharringtonexclusives.com/event/bbq-bluegrass-bourbon-freshfields-village/
LOCATION:Freshfields Village\, 149 Village Green Lane\, Johns Island\, SC\, 29455\, United States
CATEGORIES:All - Seabrook Island,March - Charleston,March - Kiawah Island
ATTACH;FMTTYPE=image/jpeg:https://staging.pamharringtonexclusives.com/wp-content/uploads/2024/02/BBQBLUEGRASSBOURBON.jpg
END:VEVENT
BEGIN:VEVENT
DTSTART;TZID=UTC:20230530T180000
DTEND;TZID=UTC:20230530T210000
DTSTAMP:20260424T112916
CREATED:20230328T142741Z
LAST-MODIFIED:20230328T144814Z
UID:53219-1685469600-1685480400@staging.pamharringtonexclusives.com
SUMMARY:Shag Nights at Freshfields
DESCRIPTION:Tuesday nights groove the night away for Shag Nights at Freshfields Village! Each Tuesday evening in April & May from 6 – 9 pm on the Village Green. \nIf you are new to the area put on your dancing shoes and come on out to show your shagging moves! \nThe shagging community of the Lowcountry is super friendly and in no time you will be swaying to the beach music\, lakeside. \n\nWhat is beach music?  Read up on this Carolina coast genre\, perfect for dancing the night away!\nFor more summer fun visit our Pam Harrington Exclusives blog.
URL:https://staging.pamharringtonexclusives.com/event/shag-night-at-freshfields-2023-05-30/
LOCATION:Freshfields\, SC\, United States
CATEGORIES:All - Seabrook Island,May - Kiawah Island
ATTACH;FMTTYPE=image/jpeg:https://staging.pamharringtonexclusives.com/wp-content/uploads/2023/03/Shag-Nights-at-Freshfields-Village.jpg
END:VEVENT
BEGIN:VEVENT
DTSTART;TZID=UTC:20230523T180000
DTEND;TZID=UTC:20230523T210000
DTSTAMP:20260424T112916
CREATED:20230328T142741Z
LAST-MODIFIED:20230328T144541Z
UID:53218-1684864800-1684875600@staging.pamharringtonexclusives.com
SUMMARY:Shag Nights at Freshfields
DESCRIPTION:Tuesday nights groove the night away for Shag Nights at Freshfields Village! Each Tuesday evening in April & May from 6 – 9 pm on the Village Green. \nIf you are new to the area put on your dancing shoes and come on out to show your shagging moves! \nThe shagging community of the Lowcountry is super friendly and in no time you will be swaying to the beach music\, lakeside. \n\nWhat is beach music?  Read up on this Carolina coast genre\, perfect for dancing the night away!\nFor more summer fun visit our Pam Harrington Exclusives blog.
URL:https://staging.pamharringtonexclusives.com/event/shag-night-at-freshfields-2023-05-23/
LOCATION:Freshfields\, SC\, United States
CATEGORIES:All - Seabrook Island,May - Kiawah Island
ATTACH;FMTTYPE=image/jpeg:https://staging.pamharringtonexclusives.com/wp-content/uploads/2023/03/Shag-Nights-at-Freshfields-Village.jpg
END:VEVENT
BEGIN:VEVENT
DTSTART;TZID=UTC:20230516T180000
DTEND;TZID=UTC:20230516T210000
DTSTAMP:20260424T112916
CREATED:20230328T142741Z
LAST-MODIFIED:20230328T144528Z
UID:53217-1684260000-1684270800@staging.pamharringtonexclusives.com
SUMMARY:Shag Nights at Freshfields
DESCRIPTION:Tuesday nights groove the night away for Shag Nights at Freshfields Village! Each Tuesday evening in April & May from 6 – 9 pm on the Village Green. \nIf you are new to the area put on your dancing shoes and come on out to show your shagging moves! \nThe shagging community of the Lowcountry is super friendly and in no time you will be swaying to the beach music\, lakeside. \n\nWhat is beach music?  Read up on this Carolina coast genre\, perfect for dancing the night away!\nFor more summer fun visit our Pam Harrington Exclusives blog.
URL:https://staging.pamharringtonexclusives.com/event/shag-night-at-freshfields-2023-05-16/
LOCATION:Freshfields\, SC\, United States
CATEGORIES:All - Seabrook Island,May - Kiawah Island
ATTACH;FMTTYPE=image/jpeg:https://staging.pamharringtonexclusives.com/wp-content/uploads/2023/03/Shag-Nights-at-Freshfields-Village.jpg
END:VEVENT
BEGIN:VEVENT
DTSTART;TZID=UTC:20230509T180000
DTEND;TZID=UTC:20230509T210000
DTSTAMP:20260424T112916
CREATED:20230328T142741Z
LAST-MODIFIED:20230328T144520Z
UID:53216-1683655200-1683666000@staging.pamharringtonexclusives.com
SUMMARY:Shag Nights at Freshfields
DESCRIPTION:Tuesday nights groove the night away for Shag Nights at Freshfields Village! Each Tuesday evening in April & May from 6 – 9 pm on the Village Green. \nIf you are new to the area put on your dancing shoes and come on out to show your shagging moves! \nThe shagging community of the Lowcountry is super friendly and in no time you will be swaying to the beach music\, lakeside. \n\nWhat is beach music?  Read up on this Carolina coast genre\, perfect for dancing the night away!\nFor more summer fun visit our Pam Harrington Exclusives blog.
URL:https://staging.pamharringtonexclusives.com/event/shag-night-at-freshfields-2023-05-09/
LOCATION:Freshfields\, SC\, United States
CATEGORIES:All - Seabrook Island,May - Kiawah Island
ATTACH;FMTTYPE=image/jpeg:https://staging.pamharringtonexclusives.com/wp-content/uploads/2023/03/Shag-Nights-at-Freshfields-Village.jpg
END:VEVENT
BEGIN:VEVENT
DTSTART;TZID=UTC:20230502T180000
DTEND;TZID=UTC:20230502T210000
DTSTAMP:20260424T112916
CREATED:20230328T142741Z
LAST-MODIFIED:20230328T144506Z
UID:53215-1683050400-1683061200@staging.pamharringtonexclusives.com
SUMMARY:Shag Nights at Freshfields
DESCRIPTION:Tuesday nights groove the night away for Shag Nights at Freshfields Village! Each Tuesday evening in April & May from 6 – 9 pm on the Village Green. \nIf you are new to the area put on your dancing shoes and come on out to show your shagging moves! \nThe shagging community of the Lowcountry is super friendly and in no time you will be swaying to the beach music\, lakeside. \n\nWhat is beach music?  Read up on this Carolina coast genre\, perfect for dancing the night away!\nFor more summer fun visit our Pam Harrington Exclusives blog.
URL:https://staging.pamharringtonexclusives.com/event/shag-night-at-freshfields-2023-05-02/
LOCATION:Freshfields\, SC\, United States
CATEGORIES:All - Seabrook Island,May - Kiawah Island
ATTACH;FMTTYPE=image/jpeg:https://staging.pamharringtonexclusives.com/wp-content/uploads/2023/03/Shag-Nights-at-Freshfields-Village.jpg
END:VEVENT
BEGIN:VEVENT
DTSTART;TZID=UTC:20230425T180000
DTEND;TZID=UTC:20230425T210000
DTSTAMP:20260424T112916
CREATED:20230328T142741Z
LAST-MODIFIED:20230328T144339Z
UID:53214-1682445600-1682456400@staging.pamharringtonexclusives.com
SUMMARY:Shag Nights at Freshfields
DESCRIPTION:Tuesday nights groove the night away for Shag Nights at Freshfields Village! Each Tuesday evening in April & May from 6 – 9 pm on the Village Green. \nIf you are new to the area put on your dancing shoes and come on out to show your shagging moves! \nThe shagging community of the Lowcountry is super friendly and in no time you will be swaying to the beach music\, lakeside. \n\nWhat is beach music?  Read up on this Carolina coast genre\, perfect for dancing the night away!\nFor more summer fun visit our Pam Harrington Exclusives blog.
URL:https://staging.pamharringtonexclusives.com/event/shag-night-at-freshfields-2023-04-25/
LOCATION:Freshfields\, SC\, United States
CATEGORIES:All - Seabrook Island,April - Kiawah Island
ATTACH;FMTTYPE=image/jpeg:https://staging.pamharringtonexclusives.com/wp-content/uploads/2023/03/Shag-Nights-at-Freshfields-Village.jpg
END:VEVENT
BEGIN:VEVENT
DTSTART;TZID=UTC:20230418T180000
DTEND;TZID=UTC:20230418T210000
DTSTAMP:20260424T112916
CREATED:20230328T142741Z
LAST-MODIFIED:20230328T144333Z
UID:53213-1681840800-1681851600@staging.pamharringtonexclusives.com
SUMMARY:Shag Nights at Freshfields
DESCRIPTION:Tuesday nights groove the night away for Shag Nights at Freshfields Village! Each Tuesday evening in April & May from 6 – 9 pm on the Village Green. \nIf you are new to the area put on your dancing shoes and come on out to show your shagging moves! \nThe shagging community of the Lowcountry is super friendly and in no time you will be swaying to the beach music\, lakeside. \n\nWhat is beach music?  Read up on this Carolina coast genre\, perfect for dancing the night away!\nFor more summer fun visit our Pam Harrington Exclusives blog.
URL:https://staging.pamharringtonexclusives.com/event/shag-night-at-freshfields-2023-04-18/
LOCATION:Freshfields\, SC\, United States
CATEGORIES:All - Seabrook Island,April - Kiawah Island
ATTACH;FMTTYPE=image/jpeg:https://staging.pamharringtonexclusives.com/wp-content/uploads/2023/03/Shag-Nights-at-Freshfields-Village.jpg
END:VEVENT
BEGIN:VEVENT
DTSTART;TZID=UTC:20230411T180000
DTEND;TZID=UTC:20230411T210000
DTSTAMP:20260424T112916
CREATED:20230328T142741Z
LAST-MODIFIED:20230328T144322Z
UID:53212-1681236000-1681246800@staging.pamharringtonexclusives.com
SUMMARY:Shag Nights at Freshfields
DESCRIPTION:Tuesday nights groove the night away for Shag Nights at Freshfields Village! Each Tuesday evening in April & May from 6 – 9 pm on the Village Green. \nIf you are new to the area put on your dancing shoes and come on out to show your shagging moves! \nThe shagging community of the Lowcountry is super friendly and in no time you will be swaying to the beach music\, lakeside. \n\nWhat is beach music?  Read up on this Carolina coast genre\, perfect for dancing the night away!\nFor more summer fun visit our Pam Harrington Exclusives blog.
URL:https://staging.pamharringtonexclusives.com/event/shag-night-at-freshfields-2023-04-11/
LOCATION:Freshfields\, SC\, United States
CATEGORIES:All - Seabrook Island,April - Kiawah Island
ATTACH;FMTTYPE=image/jpeg:https://staging.pamharringtonexclusives.com/wp-content/uploads/2023/03/Shag-Nights-at-Freshfields-Village.jpg
END:VEVENT
END:VCALENDAR