BEGIN:VCALENDAR
VERSION:2.0
PRODID:-//Pam Harrington Exclusives - ECPv6.15.12.2//NONSGML v1.0//EN
CALSCALE:GREGORIAN
METHOD:PUBLISH
X-WR-CALNAME:Pam Harrington Exclusives
X-ORIGINAL-URL:https://staging.pamharringtonexclusives.com
X-WR-CALDESC:Events for Pam Harrington Exclusives
REFRESH-INTERVAL;VALUE=DURATION:PT1H
X-Robots-Tag:noindex
X-PUBLISHED-TTL:PT1H
BEGIN:VTIMEZONE
TZID:UTC
BEGIN:STANDARD
TZOFFSETFROM:+0000
TZOFFSETTO:+0000
TZNAME:UTC
DTSTART:20220101T000000
END:STANDARD
END:VTIMEZONE
BEGIN:VEVENT
DTSTART;VALUE=DATE:20231201
DTEND;VALUE=DATE:20231203
DTSTAMP:20260422T080651
CREATED:20221115T201623Z
LAST-MODIFIED:20231005T150046Z
UID:49769-1701388800-1701561599@staging.pamharringtonexclusives.com
SUMMARY:Illumination Charleston - Annual Holiday Event
DESCRIPTION:Illumination Charleston comes back for another year! This is a highly anticipated 2-day celebration of artisans and designers in true Charleston fashion. \nThe holiday season kicks off with an opening night party at the Charleston Place Hotel. Visit the Holiday Market at the Charleston Visitor Center for a full day of seminars and demonstrations by some of the South’s biggest talent! \nSee more information and Illumination Charleston events. Kick off your holiday season with Historic Charleston!
URL:https://staging.pamharringtonexclusives.com/event/illumination-charleston-annual-holiday-event/
LOCATION:Downtown Charleston
CATEGORIES:December - Charleston
ATTACH;FMTTYPE=image/jpeg:https://staging.pamharringtonexclusives.com/wp-content/uploads/2022/11/600-x-400-illumination.jpeg
END:VEVENT
END:VCALENDAR