BEGIN:VCALENDAR
VERSION:2.0
PRODID:-//Pam Harrington Exclusives - ECPv6.15.12.2//NONSGML v1.0//EN
CALSCALE:GREGORIAN
METHOD:PUBLISH
X-ORIGINAL-URL:https://staging.pamharringtonexclusives.com
X-WR-CALDESC:Events for Pam Harrington Exclusives
REFRESH-INTERVAL;VALUE=DURATION:PT1H
X-Robots-Tag:noindex
X-PUBLISHED-TTL:PT1H
BEGIN:VTIMEZONE
TZID:UTC
BEGIN:STANDARD
TZOFFSETFROM:+0000
TZOFFSETTO:+0000
TZNAME:UTC
DTSTART:20240101T000000
END:STANDARD
END:VTIMEZONE
BEGIN:VEVENT
DTSTART;TZID=UTC:20260308T160000
DTEND;TZID=UTC:20260308T180000
DTSTAMP:20260422T010047
CREATED:20251019T122633Z
LAST-MODIFIED:20251019T122633Z
UID:90897-1772985600-1772992800@staging.pamharringtonexclusives.com
SUMMARY:Quentin E. Baxter on Kiawah Island
DESCRIPTION:Mark your calendar for Sunday\, March 8\, 2026\, at the exquisite Turtle Point Clubhouse on Kiawah Island for a night of refined jazz\, curated by Grammy-award winner Quentin E. Baxter. Starting at 4:00 pm (doors open at 3:30)\, Baxter brings together Charleston’s finest jazz artists for an intimate concert experience—part of his acclaimed two-part series on Kiawah. \nExpect a graceful blend of artistry\, improvisation\, and soulful performances in a setting that epitomizes seaside elegance. While the program details remain under wraps (TBA)\, you can be assured each note is hand-picked by Baxter himself. \nSecure your seat early—tickets go on sale November 1 online. Whether you’re a jazz aficionado or simply seeking an elevated evening out\, this event is not to be missed. Ticket link https://www.tickettailor.com/events/townofkiawahisland/1746476 \n\nFor more great island events follow our event calendar on Pam Harrington Exclusives.
URL:https://staging.pamharringtonexclusives.com/event/quentin-e-baxter-on-kiawah-island/
LOCATION:Turtle Point Clubhouse Kiawah\, Kiawah Island\, 29455\, United States
CATEGORIES:All Kiawah Island,March - Kiawah Island
ATTACH;FMTTYPE=image/png:https://staging.pamharringtonexclusives.com/wp-content/uploads/2025/10/quentin-Baxter.png
END:VEVENT
BEGIN:VEVENT
DTSTART;TZID=UTC:20251101T180000
DTEND;TZID=UTC:20251101T210000
DTSTAMP:20260422T010047
CREATED:20250919T125157Z
LAST-MODIFIED:20250919T125157Z
UID:89865-1762020000-1762030800@staging.pamharringtonexclusives.com
SUMMARY:KICA Annual Oyster Roast
DESCRIPTION:🦪🔥 KICA Annual Oyster Roast 🎶📅 Saturday\, November 1\, 2025🕕 6:00 – 9:00 PM📍 The Sandcastle\, Kiawah Island\, SC \nThe Sandcastle is excited to host the beloved KICA Oyster Roast once again! Gather with friends and neighbors for an evening of fresh oysters\, delicious food\, and great company. \n✨ Event Details: \n\n\nMembers Only \n\n\nRSVP required – tickets will be charged directly to your member account \n\n\nNote: Cancellations made within 48 hours of the event are non-refundable \n\n\n👉 [Get Tickets] \nFor more island fun follow our blog.
URL:https://staging.pamharringtonexclusives.com/event/kica-annual-oyster-roast/
LOCATION:The Sandcastle Kiawah Island\, Kiawah Island\, SC\, 29455\, United States
CATEGORIES:November - Kiawah Island
ATTACH;FMTTYPE=image/png:https://staging.pamharringtonexclusives.com/wp-content/uploads/2025/09/KICA-Oyster-Roast.png
END:VEVENT
BEGIN:VEVENT
DTSTART;TZID=UTC:20251019T193000
DTEND;TZID=UTC:20251019T210000
DTSTAMP:20260422T010047
CREATED:20251002T113928Z
LAST-MODIFIED:20251002T113928Z
UID:90265-1760902200-1760907600@staging.pamharringtonexclusives.com
SUMMARY:The Black Market Trust Kiawah
DESCRIPTION:The Black Market Trust — presented by Kiawah Arts\nSpend an autumn evening on Kiawah with the high-energy vocal jazz and gypsy-swing sound of The Black Market Trust. This acclaimed LA-based quintet blends classic American crooners with the fire of Django-style guitar for a crowd-pleasing set of timeless songs\, tight harmonies\, and virtuoso solos. \nEvent details \n\n\nDate & time: Sunday\, Oct 19\, 2025 • 7:30–9:00 PM (doors 7:00 PM). Kiawah Island Community Association \n\n\nVenue: West Beach Conference Center\, 2 Shipwatch Rd.\, Kiawah Island\, SC. Kiawah Island Community Association \n\n\nTickets: $30\, available online (sales open via TicketTailor). Kiawah Island Community Association \n\n\nWhy goExpect classic standards\, rich vocal blends\, and swing-soaked arrangements—perfect for a date night or a friends’ night out on the island.
URL:https://staging.pamharringtonexclusives.com/event/the-black-market-trust-kiawah/
LOCATION:Kiawah Island West Beach Conference Center\, Kiawah Island\, South Carolina\, 29455
CATEGORIES:All Kiawah Island,October - Kiawah Island
ATTACH;FMTTYPE=image/png:https://staging.pamharringtonexclusives.com/wp-content/uploads/2025/10/Black-Market-Trust.png
END:VEVENT
END:VCALENDAR