BEGIN:VCALENDAR
VERSION:2.0
PRODID:-//Pam Harrington Exclusives - ECPv6.15.12.2//NONSGML v1.0//EN
CALSCALE:GREGORIAN
METHOD:PUBLISH
X-ORIGINAL-URL:https://staging.pamharringtonexclusives.com
X-WR-CALDESC:Events for Pam Harrington Exclusives
REFRESH-INTERVAL;VALUE=DURATION:PT1H
X-Robots-Tag:noindex
X-PUBLISHED-TTL:PT1H
BEGIN:VTIMEZONE
TZID:UTC
BEGIN:STANDARD
TZOFFSETFROM:+0000
TZOFFSETTO:+0000
TZNAME:UTC
DTSTART:20230101T000000
END:STANDARD
END:VTIMEZONE
BEGIN:VEVENT
DTSTART;VALUE=DATE:20240322
DTEND;VALUE=DATE:20240325
DTSTAMP:20260422T045643
CREATED:20221230T183045Z
LAST-MODIFIED:20231130T163322Z
UID:50726-1711065600-1711324799@staging.pamharringtonexclusives.com
SUMMARY:Charleston Antique Show - Antiques\, Art & Design
DESCRIPTION:Whether you’re an avid collector\, historian\, or art enthusiast\, you won’t want to miss the Annual Charleston Antiques Show. Browse antiques dating back to the 17th century\, learn about each piece\, and score some amazing finds. The 2024 Charleston Show – Antiques – Art – Design is scheduled for  March 22 – 24\, 2024. \nThe Antiques Show will be held at Festival Hall. \nFriday 3/22 & Saturday 3/23: 10 am – 6 pm \nSunday 3/24: 11 am – 5 pm \nPurchase tickets online in advance at a discounted rate.
URL:https://staging.pamharringtonexclusives.com/event/charleston-spring-antique-show/
LOCATION:Festival Hall\, 56 Beaufain Street\, Charleston\, SC\, 29401\, United States
CATEGORIES:March - Charleston
ATTACH;FMTTYPE=image/jpeg:https://staging.pamharringtonexclusives.com/wp-content/uploads/2022/12/Charleston-Spring-Antique-Show.jpg
ORGANIZER;CN="The Antiques Council":MAILTO:antiquescouncil@gmail.com
END:VEVENT
END:VCALENDAR