BEGIN:VCALENDAR
VERSION:2.0
PRODID:-//Pam Harrington Exclusives - ECPv6.15.12.2//NONSGML v1.0//EN
CALSCALE:GREGORIAN
METHOD:PUBLISH
X-WR-CALNAME:Pam Harrington Exclusives
X-ORIGINAL-URL:https://staging.pamharringtonexclusives.com
X-WR-CALDESC:Events for Pam Harrington Exclusives
REFRESH-INTERVAL;VALUE=DURATION:PT1H
X-Robots-Tag:noindex
X-PUBLISHED-TTL:PT1H
BEGIN:VTIMEZONE
TZID:UTC
BEGIN:STANDARD
TZOFFSETFROM:+0000
TZOFFSETTO:+0000
TZNAME:UTC
DTSTART:20230101T000000
END:STANDARD
END:VTIMEZONE
BEGIN:VEVENT
DTSTART;VALUE=DATE:20240321
DTEND;VALUE=DATE:20240324
DTSTAMP:20260422T033624
CREATED:20221230T184009Z
LAST-MODIFIED:20240118T142626Z
UID:50721-1710979200-1711238399@staging.pamharringtonexclusives.com
SUMMARY:Charleston House and Garden Tour
DESCRIPTION:The Annual House Charleston House an Garden tour is 88 years in the making. Visitors can tour some of Charleston’s most beautiful private homes and gardens during the 2024 Springtime tour from March 21-23\, 2024  Purchase your tickets online to the 2024 Annual House & Gardens Tours to experience this annual event. \nProceeds for this event go toward the maintenance and upkeep of many of Charleston’s historic houses and gardens. Purchase tickets online in advance.
URL:https://staging.pamharringtonexclusives.com/event/charleston-house-and-garden-tour/
LOCATION:Downtown Charleston
CATEGORIES:March - Charleston,March - Kiawah Island
ATTACH;FMTTYPE=image/jpeg:https://staging.pamharringtonexclusives.com/wp-content/uploads/2022/12/Charleston-House-and-Garden-Tour-2.jpg
END:VEVENT
END:VCALENDAR