BEGIN:VCALENDAR
VERSION:2.0
PRODID:-//Pam Harrington Exclusives - ECPv6.15.12.2//NONSGML v1.0//EN
CALSCALE:GREGORIAN
METHOD:PUBLISH
X-ORIGINAL-URL:https://staging.pamharringtonexclusives.com
X-WR-CALDESC:Events for Pam Harrington Exclusives
REFRESH-INTERVAL;VALUE=DURATION:PT1H
X-Robots-Tag:noindex
X-PUBLISHED-TTL:PT1H
BEGIN:VTIMEZONE
TZID:UTC
BEGIN:STANDARD
TZOFFSETFROM:+0000
TZOFFSETTO:+0000
TZNAME:UTC
DTSTART:20230101T000000
END:STANDARD
END:VTIMEZONE
BEGIN:VEVENT
DTSTART;TZID=UTC:20240204T100000
DTEND;TZID=UTC:20240204T170000
DTSTAMP:20260422T072312
CREATED:20221121T155552Z
LAST-MODIFIED:20231129T163804Z
UID:49780-1707040800-1707066000@staging.pamharringtonexclusives.com
SUMMARY:Lowcountry Oyster Festival 2024
DESCRIPTION:The Lowcountry Oyster Festival 2024 is the world’s largest oyster roast.  This annual celebration of our salty bi-valves features over 60\,000 lbs of oysters.  Mark your calendar and come out to Boone Hall for the most popular oyster festival in the Lowcountry.  Live music\, oyster shucking contests\, oyster eating competitions and so much more are planned for the day’s events. \nIf you are hungry for more see our article on 5 of the Best Annual Oyster Roasts.  It includes our list of must-attend oyster festivals and our recommendations for local restaurants shucking it for you!
URL:https://staging.pamharringtonexclusives.com/event/lowcountry-oyster-festival/
LOCATION:Boone Hall Plantation
CATEGORIES:January - Charleston
ATTACH;FMTTYPE=image/png:https://staging.pamharringtonexclusives.com/wp-content/uploads/2022/11/600-x-400-Event-Photo-1.png
END:VEVENT
END:VCALENDAR