BEGIN:VCALENDAR
VERSION:2.0
PRODID:-//Pam Harrington Exclusives - ECPv6.15.12.2//NONSGML v1.0//EN
CALSCALE:GREGORIAN
METHOD:PUBLISH
X-WR-CALNAME:Pam Harrington Exclusives
X-ORIGINAL-URL:https://staging.pamharringtonexclusives.com
X-WR-CALDESC:Events for Pam Harrington Exclusives
REFRESH-INTERVAL;VALUE=DURATION:PT1H
X-Robots-Tag:noindex
X-PUBLISHED-TTL:PT1H
BEGIN:VTIMEZONE
TZID:UTC
BEGIN:STANDARD
TZOFFSETFROM:+0000
TZOFFSETTO:+0000
TZNAME:UTC
DTSTART:20230101T000000
END:STANDARD
END:VTIMEZONE
BEGIN:VEVENT
DTSTART;TZID=UTC:20240208T180000
DTEND;TZID=UTC:20240208T210000
DTSTAMP:20260422T054413
CREATED:20230124T181525Z
LAST-MODIFIED:20240108T143020Z
UID:51195-1707415200-1707426000@staging.pamharringtonexclusives.com
SUMMARY:Wine Dinner at Freshfields
DESCRIPTION:Arrive at 6:00 pm for hors d’oeuvres paired with a welcoming wine. Orin Swift leads diners through the background and history of Orin Swift Wines. Then enjoy. a 5-course culinary journey accompanied by specially selected wines. \nFor more on Seabrook Island visit our area guide.
URL:https://staging.pamharringtonexclusives.com/event/wine-dinner-at-freshfields/
LOCATION:FortyEight – Wine Bar & Kitchen\, 547 Freshfields Dr\, Johns Island\, SC\, 29455\, United States
CATEGORIES:All - Seabrook Island,May - Seabrook Island
ATTACH;FMTTYPE=image/jpeg:https://staging.pamharringtonexclusives.com/wp-content/uploads/2023/01/elizabethspencerwinedinner.jpg
END:VEVENT
END:VCALENDAR