BEGIN:VCALENDAR
VERSION:2.0
PRODID:-//Pam Harrington Exclusives - ECPv6.15.12.2//NONSGML v1.0//EN
CALSCALE:GREGORIAN
METHOD:PUBLISH
X-WR-CALNAME:Pam Harrington Exclusives
X-ORIGINAL-URL:https://staging.pamharringtonexclusives.com
X-WR-CALDESC:Events for Pam Harrington Exclusives
REFRESH-INTERVAL;VALUE=DURATION:PT1H
X-Robots-Tag:noindex
X-PUBLISHED-TTL:PT1H
BEGIN:VTIMEZONE
TZID:UTC
BEGIN:STANDARD
TZOFFSETFROM:+0000
TZOFFSETTO:+0000
TZNAME:UTC
DTSTART:20220101T000000
END:STANDARD
END:VTIMEZONE
BEGIN:VEVENT
DTSTART;VALUE=DATE:20251127
DTEND;VALUE=DATE:20251128
DTSTAMP:20260421T231247
CREATED:20221229T155419Z
LAST-MODIFIED:20250919T125533Z
UID:50471-1764201600-1764287999@staging.pamharringtonexclusives.com
SUMMARY:Thanksgiving Events on Kiawah Island
DESCRIPTION:Thanksgiving on Kiawah Island is a special place to spend the holiday weekend. There are several dining options available for a celebratory feast. \nThe Sanctuary Hotel offers a grand buffet with lavish decor and an abundance of dishes specially crafted by the hotel chefs. This is a seated buffet with various times available. \nKiawah Island Resort offers additional options for Thanksgiving dining on Kiawah Island\, including take-home prepared meals. \nStay tuned for more events and information on Thanksgiving 2025 at Kiawah Island. \nFor more holiday fun on Kiawah Island\, visit our Pam Harrington Exclusives blog.
URL:https://staging.pamharringtonexclusives.com/event/kiawah-thanksgiving-events/
LOCATION:Kiawah Island Golf Resort\, 1 Sanctuary Beach Drive\, Kiawah Island\, SC\, 29455
CATEGORIES:November - Kiawah Island
ATTACH;FMTTYPE=image/jpeg:https://staging.pamharringtonexclusives.com/wp-content/uploads/2022/12/thanksgiving-on-kiawah-island.jpg
END:VEVENT
BEGIN:VEVENT
DTSTART;TZID=UTC:20250704T180000
DTEND;TZID=UTC:20250704T220000
DTSTAMP:20260421T231247
CREATED:20230627T140846Z
LAST-MODIFIED:20250409T185417Z
UID:55225-1751652000-1751666400@staging.pamharringtonexclusives.com
SUMMARY:July 4 Kiawah Island
DESCRIPTION:The Kiawah Island Golf Resort hosts a stunning fireworks display best viewed from the beach. This annual tradition is one of the most celebrated events of the year. \n\n\n\n\n\nFriends and family gather at Sanctuary Beach for the festivities.\nThe show starts at 9:15 pm. \n\n\n\n\n\n\n\n\n\n\n\nFriendly reminder: The town of Kiawah prohibits the discharging of fireworks on the island\, except for Sparklers. This applies to property owners and visitors\, who will be ticketed if found in violation.  \n\n\n\n\n\n\n\n\n\n\nAnnual Patriotic Bike Parade\nThis family tradition kicks off the Independence Festival on July 4. \nThe parade begins on Sea Forest Drive and finishes at Night Heron Park. \n\n Bike Decorating\n Parade \n East Beach Village\n\n\n\n\n\n\n\n\n\n\n\nThe celebration continues with the Independence Day Festival in the Park.  \nJoin your Kiawah Island neighbors for the Annual Bike Parade at Night Heron Park\, followed by festivities including live music\, carnival games\, inflatables\,  and a photo booth. \nRed\, White & Blue Celebration\nWatch the fireworks show on Sanctuary Beach\, which starts at approximately 9:15 p.m. There’s nothing better than watching a beautiful and colorful display with your family to celebrate our country’s independence.
URL:https://staging.pamharringtonexclusives.com/event/july-4-kiawah-island/
LOCATION:Kiawah Island Golf Resort\, 1 Sanctuary Beach Drive\, Kiawah Island\, SC\, 29455
CATEGORIES:July - Kiawah Island
ATTACH;FMTTYPE=image/jpeg:https://staging.pamharringtonexclusives.com/wp-content/uploads/2020/03/4th-of-july-bike-parade_t20_4JJrd2-1-scaled.jpg
END:VEVENT
BEGIN:VEVENT
DTSTART;VALUE=DATE:20250130
DTEND;VALUE=DATE:20250203
DTSTAMP:20260421T231247
CREATED:20250127T164336Z
LAST-MODIFIED:20250407T165802Z
UID:75642-1738195200-1738540799@staging.pamharringtonexclusives.com
SUMMARY:Gourmet and Grapes at Kiawah
DESCRIPTION:The 17th Annual Gourmet & Grapes event at Kiawah Island Golf Resort (January 30 – February 2\, 2025) is a four-day culinary experience featuring top chefs and wineries.  \nIt’s the only Lowcountry fundraiser\, raising money for cancer research and patient programs at Hollings Cancer Center at MUSC. Each day is hosted at a different Kiawah Island Resort venue\, beginning Thursday night at Mingo Point with a BBQ and bourbon mash-up.  This email: gourmetandgrapes@musc.edu
URL:https://staging.pamharringtonexclusives.com/event/gourmet-and-grapes-at-kiawah/
LOCATION:Kiawah Island Golf Resort\, 1 Sanctuary Beach Drive\, Kiawah Island\, SC\, 29455
CATEGORIES:All - Seabrook Island,February - Kiawah Island,January - Kiawah Island
ATTACH;FMTTYPE=image/jpeg:https://staging.pamharringtonexclusives.com/wp-content/uploads/2025/01/JPEG-image-E20408EB4DB5-1.jpeg
END:VEVENT
BEGIN:VEVENT
DTSTART;VALUE=DATE:20241222
DTEND;VALUE=DATE:20241227
DTSTAMP:20260421T231247
CREATED:20230104T160313Z
LAST-MODIFIED:20240718T135409Z
UID:50476-1734825600-1735257599@staging.pamharringtonexclusives.com
SUMMARY:Christmas on Kiawah Island
DESCRIPTION:Christmas on Kiawah Island is a family tradition for many. The Kiawah Island Resort offers scrumptious dining options with many festive favorites. \nCount on annual holiday themed events and activities like Santa Claus is Coming to Town\, Holiday Ornament Making\, Holiday Music Bingo\, Storytime with Santa and more! \nFor more holiday fun in Charleston visit our holiday in Charleston blog.
URL:https://staging.pamharringtonexclusives.com/event/christmas-on-kiawah-island/
LOCATION:Kiawah Island Golf Resort\, 1 Sanctuary Beach Drive\, Kiawah Island\, SC\, 29455
CATEGORIES:December - Kiawah Island
ATTACH;FMTTYPE=image/jpeg:https://staging.pamharringtonexclusives.com/wp-content/uploads/2023/01/Holiday-events-at-Kiawah-Island.jpg
END:VEVENT
BEGIN:VEVENT
DTSTART;TZID=UTC:20241214T080000
DTEND;TZID=UTC:20241214T140000
DTSTAMP:20260421T231247
CREATED:20221108T185436Z
LAST-MODIFIED:20240718T141339Z
UID:49702-1734163200-1734184800@staging.pamharringtonexclusives.com
SUMMARY:Kiawah Island Marathon
DESCRIPTION:the Kiawah Island Golf Resort Marathon starts and finishes in the beautiful West Beach Village. Along the way\, you’ll enjoy spectacular views of maritime forests\, marshes\, and grand homes throughout the Island community. \nThe only thing more wonderful than the scenery is when you cross the finish line after completing your full or half marathon! \nGo to KiawahMarathon.com for more information and to register online. Live phone tracking with RaceJoy!
URL:https://staging.pamharringtonexclusives.com/event/annual-kiawah-island-marathon/
LOCATION:Kiawah Island Golf Resort\, 1 Sanctuary Beach Drive\, Kiawah Island\, SC\, 29455
CATEGORIES:December - Kiawah Island
ATTACH;FMTTYPE=image/jpeg:https://staging.pamharringtonexclusives.com/wp-content/uploads/2022/11/Kiawah-Island-Marathon.jpg
END:VEVENT
BEGIN:VEVENT
DTSTART;VALUE=DATE:20231224
DTEND;VALUE=DATE:20231226
DTSTAMP:20260421T231247
CREATED:20221108T195912Z
LAST-MODIFIED:20231109T150811Z
UID:49710-1703376000-1703548799@staging.pamharringtonexclusives.com
SUMMARY:Christmas Dining on Kiawah Island
DESCRIPTION:December 24th\, 2023\n\nFeast of the Seven Fishes\nTomasso at Turtle Point\n4 – 9 pm\n5 courses for $105\, or $130 with wine pairings \nThe Feast of the Seven Fishes (festa dei sette pesci)\, also known as The Vigil (La Vigilia) and celebrated on Christmas Eve\, is believed to have originated in Southern Italy. The long tradition of eating seafood on Christmas Eve dates from medieval Italian times when meat markets were closed on specific holy days. Chef Mike Littlefield and the team at Tomasso are carrying on the tradition with their own feast! Call 843.266.4070 for reservations. \n\n\n\n\n\n\nChristmas at Kiawah\nCelebrate the most wonderful time of the year with family and friends at Kiawah Island Golf Resort. \nFrom Thanksgiving weekend right up until Christmas Day\, the resort decks the halls and rolls out a roster of fun and festive activities to get you in the seasonal spirit – from The Sanctuary’s official tree lighting to craft making workshops and Santa’s Lowcountry Grand Arrival. \nOf course\, your Christmas Eve and Christmas Day meals will be served in style in our fine restaurants\, including the festa dei sette pesci (feast of the seven fishes)\, a time-honored tradition that proudly lives on every Christmas Eve in Tomasso at Turtle Point. \n\n\n\n\n\n\n\n\n\nDelicious Dining\nThe holidays are a time for families at Kiawah Island Golf Resort\, and our Christmas dining options reflect that sentiment.\n\n\n\n\n\n\n\n\n\n\n\n\n\n\nCHRISTMAS EVE DINING\nSunday\, December 24 \nJasmine Porch and The Ocean Room\nJasmine Porch | Breakfast 6:30 am-10:15 am |Lunch 11:30 am-2 pm | Dinner 5:30 – 9 pm\nThe Ocean Room | 5:30 – 9 pm\nOn Christmas Eve\, both The Ocean Room and Jasmine Porch will serve menus enhanced by seasonal specials. Celebrate this special evening by savoring the seasonal cuisine offered at The Ocean Room or by sampling Lowcountry and regional favorites at Jasmine Porch. Call Dining Reservations at 877.683.1234 \nThe Atlantic Room\nA la carte | 5:30 – 8pm\nA la carte | 5:30 – 8pm\nOn Christmas Eve\, join us for an enchanting holiday dinner in The Atlantic Room at The Ocean Course. Gather your family and friends for a memorable evening and enjoy Chef John Ondo’s winter-inspired menu. Call 843.266.4085 for reservations. \nRyder Cup Bar will open from 11 am – 8 pm on Christmas Eve serving offerings from their regular menu. \nThe Lobby Bar at The Sanctuary\nJoin The Lobby Bar for spirits as you gather with friends and family this holiday season. The Lobby Bar will be open from 12:00-11:00 pm on Christmas Eve. \nThe Nest Market | Café\nOpen 7 am-6 pm \nCherrywood BBQ & Ale House and The Players’ Pub are both closed on Christmas Eve. \n\n\n\n\n\n\n\n\n\nCHRISTMAS DAY DINING\nMonday\, December 25 \nJasmine Porch\nBreakfast from 6:30 – 10:15am\nChristmas Buffet from 12 – 8pm\nAdults: $129 | Children 4-12: $75\nKiawah’s Grand Christmas Day Buffet is held at Jasmine Porch. Celebrate this special day with The Sanctuary and allow our chefs to delight your palate with holiday specialties and enjoy live entertainment. At this time\, reservations are limited to guests of The Sanctuary. Call 877.683.1234 for reservations. \nCherrywood BBQ & Ale House\nLunch | 12 – 4pm | a la carte\nCelebrate the holiday with the best Southern BBQ the island has to offer. Allow Chef Keith Richardson to prepare your Christmas feast while you relax with your family in the comfort of the Osprey Point Clubhouse. Call 843.266.4636 for reservations. \nThe Players’ Pub at Cougar Point\nDinner | 5 – 8pm | a la carte\nMerry Christmas from The Players’ Pub team! Join us for an a la carte Christmas dining experience with casual pub fare. No reservations required. \nThe Lobby Bar at The Sanctuary\nJoin The Lobby Bar for spirits as you gather with friends and family this holiday season. The Lobby Bar will be open from 12:00-11:00pm on Christmas Day. \nThe Nest Market | Café\nOpen 8am-3pm \nThe Atlantic Room\, Ryder Cup Bar and Tomasso at Turtle Point are all closed on Christmas Day.
URL:https://staging.pamharringtonexclusives.com/event/christmas-dinner-kiawah/
LOCATION:Kiawah Island Golf Resort\, 1 Sanctuary Beach Drive\, Kiawah Island\, SC\, 29455
CATEGORIES:All Kiawah Island,December - Kiawah Island
ATTACH;FMTTYPE=image/jpeg:https://staging.pamharringtonexclusives.com/wp-content/uploads/2022/11/Copy-of-1500-px-by-609-px-HERO-IMAGE-2022-11-08T145726.364.jpg
END:VEVENT
BEGIN:VEVENT
DTSTART;TZID=UTC:20230902T080000
DTEND;TZID=UTC:20230902T090000
DTSTAMP:20260421T231247
CREATED:20230104T150921Z
LAST-MODIFIED:20230104T150921Z
UID:51031-1693641600-1693645200@staging.pamharringtonexclusives.com
SUMMARY:Morning Yoga on the Beach - Kiawah Island
DESCRIPTION:There’s something special about a quiet morning of yoga on Kiawah Island’s 10 mile flat beach! \nHit the beach early on Labor Day weekend for morning yoga on the beach. With a combination of Hatha yoga and vinyasa yoga\, enjoy a session with long\, gentle poses combined with breathing techniques. \nPerfect for beginners and intermediate-level participants. Mats are provided. Please bring water and sunscreen. \nHeld on the beach in front of the Sanctuary Hotel.  $20/person. \nCall 843.768.6001 for advanced reservations.  Age 13+. (date subject to change) \n  \nLooking for more options for beach yoga on Kiawah?\nView the Kiawah Island Golf Resort schedule of events.
URL:https://staging.pamharringtonexclusives.com/event/beach-yoga-kiawah/
LOCATION:Kiawah Island Golf Resort\, 1 Sanctuary Beach Drive\, Kiawah Island\, SC\, 29455
CATEGORIES:September - Kiawah Island
ATTACH;FMTTYPE=image/jpeg:https://staging.pamharringtonexclusives.com/wp-content/uploads/2023/01/Kiawah-Island-Beach-Yoga-September.jpg
END:VEVENT
END:VCALENDAR