BEGIN:VCALENDAR
VERSION:2.0
PRODID:-//Pam Harrington Exclusives - ECPv6.15.12.2//NONSGML v1.0//EN
CALSCALE:GREGORIAN
METHOD:PUBLISH
X-WR-CALNAME:Pam Harrington Exclusives
X-ORIGINAL-URL:https://staging.pamharringtonexclusives.com
X-WR-CALDESC:Events for Pam Harrington Exclusives
REFRESH-INTERVAL;VALUE=DURATION:PT1H
X-Robots-Tag:noindex
X-PUBLISHED-TTL:PT1H
BEGIN:VTIMEZONE
TZID:UTC
BEGIN:STANDARD
TZOFFSETFROM:+0000
TZOFFSETTO:+0000
TZNAME:UTC
DTSTART:20220101T000000
END:STANDARD
END:VTIMEZONE
BEGIN:VEVENT
DTSTART;TZID=UTC:20251125T100000
DTEND;TZID=UTC:20251125T150000
DTSTAMP:20260425T104225
CREATED:20251103T172241Z
LAST-MODIFIED:20251110T155945Z
UID:91610-1764064800-1764082800@staging.pamharringtonexclusives.com
SUMMARY:Marfa Stance Trunk Show Day 1 - Kiawah Island\, SC
DESCRIPTION:Join us for 2 days of access to Marfa Stance!\nThis exclusive trunk show event takes place Thanksgiving week on Kiawah Island for property owners and guests! \nThe Kiawah Island event location for Tuesday\, Nov 25th will be revealed leading up to the week of the trunk show. \nThe event location for Wednesday\, Nov 26th will be at the PHE Sales Office\, located just off island. \nLearn more about Marfa Stance\, a London based brand with buildable\, reversible\, luxury outerwear made in Italy! \nRegistration is required. Please sign-up to receive emails leading up to the event. \n  \nJust announced\, special guest Bei Tesori Jewelry\n \nStay tuned for more details!
URL:https://staging.pamharringtonexclusives.com/event/marfa-stance-trunk-show-day-1-kiawah-island-sc/
LOCATION:Kiawah Island\, 29455\, United States
CATEGORIES:All - Seabrook Island,All Johns Island,November - Charleston,November - Kiawah Island
ATTACH;FMTTYPE=image/jpeg:https://staging.pamharringtonexclusives.com/wp-content/uploads/2024/08/Multicolored-Aesthetic-Photo-Collage-Travel-Blogger-Blog-Banner-1200-x-800-px-1.jpg
ORGANIZER;CN="Pam Harrington Exclusives - Real Estate":MAILTO:info@staging.pamharringtonexclusives.com
END:VEVENT
BEGIN:VEVENT
DTSTART;TZID=UTC:20251101T100000
DTEND;TZID=UTC:20251101T160000
DTSTAMP:20260425T104225
CREATED:20250922T142354Z
LAST-MODIFIED:20251027T132827Z
UID:89950-1761991200-1762012800@staging.pamharringtonexclusives.com
SUMMARY:28th Annual Charleston Symphony Tour of Homes
DESCRIPTION:🎶 Experience the Magic of the Lowcountry\n28th Annual Charleston Symphony Tour of Homes\nKiawah Island | Saturday\, November 1\, 2025 | 10:00 a.m. – 4:00 p.m. \nStep into the charm and beauty of Kiawah Island’s most exquisite residences during the 28th Annual Symphony Tour of Homes\, hosted by the Charleston Symphony Orchestra League (CSOL). This highly anticipated tradition invites guests to explore stunning architecture\, coastal-inspired interiors\, and the vibrant arts community that makes Kiawah so special. \nClick Here to Purchase Tickets \n✨ Featured Home: 108 Salthouse LaneWe are delighted to announce that 108 Salthouse Lane will be one of the properties showcased on this year’s tour. This extraordinary Kiawah estate offers timeless design\, Lowcountry elegance\, and breathtaking island views — a must-see for tour attendees. \n\n✨ What to Expect:\n\n\nGuided access to beautifully appointed private homes on Kiawah Island \n\n\nA refreshing stop at the scenic waterside pavilion at Cinder Creek \n\n\nLive Music by talented CSOL scholarship recipients \n\n\nFine Art for Sale + live painting demonstrations by local artists\, with proceeds benefiting CSOL \n\n\n\n🎟️ Ticket Options:\n\n\n$65 – CSOL Members \n\n\n$75 – General Admission \n\n\nDay-Of Pricing: $75 CSOL Members | $90 General Admission \n\n\nSpecial Packages \n\n\n$135 – Island Celebration Soirée \n\n\n$200 – VIP Passport: Includes 1 Tour Ticket with early tour access\, exclusive entry to the Island Celebration Soirée (October 30)\, and recognition in the printed program. \n\n\n$500 – Symphony Tour Patron: Includes 2 VIP Passports and recognition in the program (if purchased before October 14). \n\n\nPurchase CSOL Tour Tickets
URL:https://staging.pamharringtonexclusives.com/event/28th-annual-charleston-symphony-tour-of-homes/
LOCATION:Kiawah Island\, 29455\, United States
CATEGORIES:November - Charleston,November - Kiawah Island,November - Seabrook Island
ATTACH;FMTTYPE=image/jpeg:https://staging.pamharringtonexclusives.com/wp-content/uploads/2025/09/28th-Annual-Charleston-Symphony-Tour-of-Homes.jpg
ORGANIZER;CN="Charleston Symphony Orchestra League":MAILTO:support@csolinc.org
END:VEVENT
BEGIN:VEVENT
DTSTART;VALUE=DATE:20250524
DTEND;VALUE=DATE:20250528
DTSTAMP:20260425T104225
CREATED:20240719T141454Z
LAST-MODIFIED:20240719T141454Z
UID:67132-1748044800-1748390399@staging.pamharringtonexclusives.com
SUMMARY:Memorial Weekend on Kiawah Island
DESCRIPTION:Memorial weekend kicks off summer on Kiawah Island. Live music at Freshfields and so much more! Kiawah Island Resort offers cookouts\, oyster roasts\, and lots of beach fun as we honor those who made the ultimate sacrifice for our great nation.
URL:https://staging.pamharringtonexclusives.com/event/memorial-weekend-on-kiawah-island/
LOCATION:Kiawah Island\, 29455\, United States
CATEGORIES:May - Kiawah Island
ATTACH;FMTTYPE=image/jpeg:https://staging.pamharringtonexclusives.com/wp-content/uploads/2024/07/Memorial-Weekend-at-Kiawah-Island.jpg
END:VEVENT
BEGIN:VEVENT
DTSTART;TZID=UTC:20250415T153000
DTEND;TZID=UTC:20250415T173000
DTSTAMP:20260425T104225
CREATED:20240328T165727Z
LAST-MODIFIED:20250412T171815Z
UID:64569-1744731000-1744738200@staging.pamharringtonexclusives.com
SUMMARY:Annual Kiawah Island Easter Open House
DESCRIPTION:Join Us for our Annual Kiawah Island Easter Open House\n\n Tuesday\, April 15th\n3:30 pm ’til 5:30 pm\nFeaturing a fabulous riverfront estate in The Settlement with panoramic water views. \n108 Salthouse Lane\nKiawah Island Club Membership – Sports \nMusic & Refreshments on the Pool Deck \nView Property Details \nView Property Video
URL:https://staging.pamharringtonexclusives.com/event/easter-open-house-kiawah-island/
LOCATION:Kiawah Island\, 29455\, United States
CATEGORIES:All - Seabrook Island,April - Charleston,April - Kiawah Island
ATTACH;FMTTYPE=image/jpeg:https://staging.pamharringtonexclusives.com/wp-content/uploads/2024/03/Copy-of-Copy-of-Sold-Postcards-7-×-5-in-9-x-6-in-2.jpg
ORGANIZER;CN="Pam Harrington Exclusives - Real Estate":MAILTO:info@staging.pamharringtonexclusives.com
END:VEVENT
BEGIN:VEVENT
DTSTART;TZID=UTC:20250411T130000
DTEND;TZID=UTC:20250411T170000
DTSTAMP:20260425T104225
CREATED:20221230T200937Z
LAST-MODIFIED:20240621T210725Z
UID:50281-1744376400-1744390800@staging.pamharringtonexclusives.com
SUMMARY:Kiawah Art and House Tour
DESCRIPTION:April is time for the Kiawah Art and House Tour. The self-guided tour offers a glimpse of 5 unique homes\, highlighting design and architectural features. Come out and support Art Etc’s efforts to provide art programs on the Sea Islands. \nThe 2025 Kiawah Arts and House Tour will take place Friday\, April 11th! \nIf you want to tour historic Charleston homes visit our Pam Harrington Exclusives Home Tour blog for must-see Charleston homes.
URL:https://staging.pamharringtonexclusives.com/event/kiawah-arts-and-house-tour/
LOCATION:Kiawah Island\, 29455\, United States
CATEGORIES:April - Kiawah Island
ATTACH;FMTTYPE=image/jpeg:https://staging.pamharringtonexclusives.com/wp-content/uploads/2022/12/Kiawah-Arts-and-House-Tour.jpg
END:VEVENT
BEGIN:VEVENT
DTSTART;TZID=UTC:20241006T073000
DTEND;TZID=UTC:20241006T120000
DTSTAMP:20260425T104225
CREATED:20230104T153632Z
LAST-MODIFIED:20231212T160057Z
UID:50278-1728199800-1728216000@staging.pamharringtonexclusives.com
SUMMARY:2024 Kiawah Island Triathlon
DESCRIPTION:The 2024 Kiawah Island Triathlon is a USAT-sanctioned event. It’s the only race in Charleston to feature an ocean swim! \nThe event includes a .7-mile swim; a 25.1 bike ride and a 6.1-mile run.  This is a great event for beginners as well as seasoned competitors. \nIt is a great opportunity to compete in a stunning\, natural setting.  See registration details on the Kiawah Island triathlon. \nIf you are looking for more ways to enjoy the fall season in Charleston\, SC visit our Pam Harrington Exclusives blog.
URL:https://staging.pamharringtonexclusives.com/event/kiawah-island-triatholon/
LOCATION:Kiawah Island\, 29455\, United States
CATEGORIES:October - Kiawah Island
ATTACH;FMTTYPE=image/jpeg:https://staging.pamharringtonexclusives.com/wp-content/uploads/2022/12/Kiawah-Island-Triathlon.jpg
END:VEVENT
BEGIN:VEVENT
DTSTART;TZID=UTC:20240915T100000
DTEND;TZID=UTC:20240915T113000
DTSTAMP:20260425T104225
CREATED:20240717T141757Z
LAST-MODIFIED:20240717T141757Z
UID:67078-1726394400-1726399800@staging.pamharringtonexclusives.com
SUMMARY:Kiawah Dolphin Cruise
DESCRIPTION:Cruise the creeks and marshes with your guide on an unforgettable dolphin cruise.  Kiawah is home to an inshore dolphin pod.  Cruises are scheduled to maximize the opportunity to observe these majestic mammals\, but no guarantee of seeing wildlife can be made. \nFor details and reservations\, call 843.768.6001. Schedule subject to change. \n$450 (1-6ppl)\, $75 each additional adult/$65 each additional child (ages 3-11). Single party only. One complimentary infant per reservation\, once the trip minimum has been met. 48 hour cancellation policy. 22% service charge added to parties of 10 or more.  For more on our local dolphins read our blog article.
URL:https://staging.pamharringtonexclusives.com/event/kiawah-dolphin-cruise/
LOCATION:Kiawah Island\, 29455\, United States
CATEGORIES:September - Kiawah Island
ATTACH;FMTTYPE=image/jpeg:https://staging.pamharringtonexclusives.com/wp-content/uploads/2024/07/Kiawah-Dolphins-Pam-Harrington-Exclusives.jpg
END:VEVENT
BEGIN:VEVENT
DTSTART;TZID=UTC:20231104T100000
DTEND;TZID=UTC:20231104T150000
DTSTAMP:20260425T104225
CREATED:20230104T163934Z
LAST-MODIFIED:20230105T110923Z
UID:51051-1699092000-1699110000@staging.pamharringtonexclusives.com
SUMMARY:Kiawah Island Tour of Homes - CSOL
DESCRIPTION:CSOL hosts it’s annual Kiawah Island Tour of Homes the first Saturday of November. Entering it’s 26th year\, this fall event is a must-do on Kiawah Island in November. \nSupport the Charleston Symphony Orchestra and check out some of the most eye-catching custom homes on Kiawah Island. \nFor more home tours in the Lowcountry visit our Pam Harrington Exclusives Historic Houses to Tour in Charleston blog.
URL:https://staging.pamharringtonexclusives.com/event/kiawah-island-tour-of-homes/
LOCATION:Kiawah Island\, 29455\, United States
CATEGORIES:November - Kiawah Island
ATTACH;FMTTYPE=image/jpeg:https://staging.pamharringtonexclusives.com/wp-content/uploads/2023/01/Kiawah-Tour-of-Homes-November.jpg
END:VEVENT
END:VCALENDAR