BEGIN:VCALENDAR
VERSION:2.0
PRODID:-//Pam Harrington Exclusives - ECPv6.15.12.2//NONSGML v1.0//EN
CALSCALE:GREGORIAN
METHOD:PUBLISH
X-ORIGINAL-URL:https://staging.pamharringtonexclusives.com
X-WR-CALDESC:Events for Pam Harrington Exclusives
REFRESH-INTERVAL;VALUE=DURATION:PT1H
X-Robots-Tag:noindex
X-PUBLISHED-TTL:PT1H
BEGIN:VTIMEZONE
TZID:UTC
BEGIN:STANDARD
TZOFFSETFROM:+0000
TZOFFSETTO:+0000
TZNAME:UTC
DTSTART:20220101T000000
END:STANDARD
END:VTIMEZONE
BEGIN:VEVENT
DTSTART;TZID=UTC:20240803T080000
DTEND;TZID=UTC:20240803T130000
DTSTAMP:20260422T024113
CREATED:20230109T185923Z
LAST-MODIFIED:20231214T120328Z
UID:51242-1722672000-1722690000@staging.pamharringtonexclusives.com
SUMMARY:Charleston Farmers Market
DESCRIPTION:The Charleston Farmers Market is a Saturday tradition in downtown Charleston. Located in Marion Square at the corner of King Street and Calhoun Street vendors offer everything from original artwork and jewelry to handmade soaps\, fresh produce\, artisan cheeses and so much more. \nThe market runs every Saturday from 8 am until 1 pm from April through November. \nFriends and family look forward to the live music\, food concessions\, and perusing over 100 local vendor stalls. Save room for a Nutella crepe!  For more downtown dining recommendations see Conde Naste’s 36 best Charleston restaurants.  \nFor more local fun see our events page with fun activities around the Charleston area and Sea Islands \nUpcoming Charleston Farmers Markets:\n\nAugust 3\, 2024\nAugust 10\, 2024\nAugust 17\, 2024\nAugust 24\, 2024
URL:https://staging.pamharringtonexclusives.com/event/charleston-farmers-market-august/
LOCATION:Marion Square\, 329 Meeting Street\, Charleston\, SC\, 29403
CATEGORIES:August - Charleston
ATTACH;FMTTYPE=image/jpeg:https://staging.pamharringtonexclusives.com/wp-content/uploads/2023/01/Charleston-Farmers-Market-August-Event.jpg
END:VEVENT
BEGIN:VEVENT
DTSTART;TZID=UTC:20240601T080000
DTEND;TZID=UTC:20240601T130000
DTSTAMP:20260422T024113
CREATED:20230109T173815Z
LAST-MODIFIED:20231212T163657Z
UID:51224-1717228800-1717246800@staging.pamharringtonexclusives.com
SUMMARY:Charleston Farmers Market - Marion Square
DESCRIPTION:Head downtown to Marion Square every Saturday from 8 am til 1 pm for the Charleston Farmer’s Market\, featuring over 100 local vendors. \nThis family-friendly event is fun for all ages and includes live music\, sweet and savory food concessions\, artisans and crafters\, farmers and growers\, community groups\, and more. \nSwing by for a quick bite\, or your weeks’ worth of fresh veggies and produce. Enjoy handcrafted jewelry\, original photography and paintings\, one-of-a-kind furniture\, textiles\, and more! \nYou won’t want to miss Charleston’s most unique mix of local artisans! \nThe Charleston Farmers Market runs from April through November.  For more Charleston Farmers Markets see our blog \nJune Farmers Market Dates:\n\nSaturday\, June 1\, 2024\nSaturday\, June 8\, 2024\nSaturday\, June 15\, 2024\nSaturday\, June 22\, 2024
URL:https://staging.pamharringtonexclusives.com/event/charleston-farmers-market-june/
LOCATION:Marion Square\, 329 Meeting Street\, Charleston\, SC\, 29403
CATEGORIES:June - Charleston
ATTACH;FMTTYPE=image/jpeg:https://staging.pamharringtonexclusives.com/wp-content/uploads/2023/01/Charleston-Farmers-Market.jpg
END:VEVENT
BEGIN:VEVENT
DTSTART;TZID=UTC:20231203T170000
DTEND;TZID=UTC:20231203T170000
DTSTAMP:20260422T024113
CREATED:20221108T185748Z
LAST-MODIFIED:20231129T163525Z
UID:49689-1701622800-1701622800@staging.pamharringtonexclusives.com
SUMMARY:Charleston Tree Lighting
DESCRIPTION:The official Charleston tree lighting ceremony in Marion Square! The festivities begin with a performance by the Charleston Symphony Brass\, which will lead up to the lighting of a magnificent 64-foot Holiday Tree of Lights. Celebrate the official City of Charleston Christmas tree.
URL:https://staging.pamharringtonexclusives.com/event/charleston-tree-lighting/
LOCATION:Marion Square\, 329 Meeting Street\, Charleston\, SC\, 29403
CATEGORIES:December - Charleston
ATTACH;FMTTYPE=image/jpeg:https://staging.pamharringtonexclusives.com/wp-content/uploads/2022/11/600-x-400-Website-Blog-2022-11-08T121329.131.jpg
END:VEVENT
END:VCALENDAR