BEGIN:VCALENDAR
VERSION:2.0
PRODID:-//Pam Harrington Exclusives - ECPv6.15.12.2//NONSGML v1.0//EN
CALSCALE:GREGORIAN
METHOD:PUBLISH
X-ORIGINAL-URL:https://staging.pamharringtonexclusives.com
X-WR-CALDESC:Events for Pam Harrington Exclusives
REFRESH-INTERVAL;VALUE=DURATION:PT1H
X-Robots-Tag:noindex
X-PUBLISHED-TTL:PT1H
BEGIN:VTIMEZONE
TZID:UTC
BEGIN:STANDARD
TZOFFSETFROM:+0000
TZOFFSETTO:+0000
TZNAME:UTC
DTSTART:20220101T000000
END:STANDARD
END:VTIMEZONE
BEGIN:VEVENT
DTSTART;VALUE=DATE:20240727
DTEND;VALUE=DATE:20240728
DTSTAMP:20260422T033544
CREATED:20240725T113709Z
LAST-MODIFIED:20240725T113829Z
UID:67329-1722038400-1722124799@staging.pamharringtonexclusives.com
SUMMARY:Sweetgrass Festival
DESCRIPTION:Celebrate history\, culture\, and art at the Mount Pleasant Sweetgrass Festival!\nImmerse yourself in the rich tradition of sweetgrass basket making at the annual Mount Pleasant Sweetgrass Festival! This free event honors the Gullah Geechee people’s heritage\, showcasing their unique art form\, history\, and culture. Enjoy informative sessions\, engaging activities\, and lively entertainment suitable for all ages. \nSupport local artisans: Meet talented basket makers who will demonstrate their craft and offer beautiful creations for purchase. It’s a fantastic opportunity to find one-of-a-kind keepsakes and support the local community. \nFree and accessible: There’s no admission fee for the festival! Free\, wheelchair-accessible shuttle buses run continuously from Mount Pleasant Town Hall to the festival site due to limited parking at the park. Paid parking is also available at the nearby Ferry Wharf garage. \nDon’t miss out! Mark your calendar and join us for a fun-filled day celebrating the cultural legacy of the Gullah Geechee people and the art of sweetgrass basket making. \nFor more Charleston Events visit our website.
URL:https://staging.pamharringtonexclusives.com/event/sweetgrass-festival/
LOCATION:Mt. Pleasant Memorial Waterfront Park\, 99 Harry M. Hallman Jr Blvd\, Mt. Pleasant\, SC\, 29464\, United States
CATEGORIES:July - Charleston
ATTACH;FMTTYPE=image/jpeg:https://staging.pamharringtonexclusives.com/wp-content/uploads/2024/07/Sweetgrass-Festival-Charleston.jpg
END:VEVENT
BEGIN:VEVENT
DTSTART;TZID=UTC:20240428T110000
DTEND;TZID=UTC:20240428T170000
DTSTAMP:20260422T033544
CREATED:20230103T171514Z
LAST-MODIFIED:20231212T152921Z
UID:50925-1714302000-1714323600@staging.pamharringtonexclusives.com
SUMMARY:Blessing of the Fleet & Seafood Festival
DESCRIPTION:The annual Blessing of the Fleet & Seafood Festival at Mt. Pleasant Memorial Waterfront Park is a must-do during April in Charleston! This event is on Sunday\, April 28th\, 2024. Your family will enjoy listening to live music and watching the boat parade. \nIf you’re searching for souvenirs\, check out the craft show featuring local artisans. Plus\, feast on plenty of local seafood. If you’re feeling competitive\, try your hand at the shrimp-eating contest or the shag dance competition.
URL:https://staging.pamharringtonexclusives.com/event/blessing-of-the-fleet/
LOCATION:Mt. Pleasant Memorial Waterfront Park\, 99 Harry M. Hallman Jr Blvd\, Mt. Pleasant\, SC\, 29464\, United States
CATEGORIES:April - Charleston
ATTACH;FMTTYPE=image/jpeg:https://staging.pamharringtonexclusives.com/wp-content/uploads/2023/01/Blessing-of-the-Fleet-Mt-Pleasant.jpg
END:VEVENT
BEGIN:VEVENT
DTSTART;TZID=UTC:20230722T100000
DTEND;TZID=UTC:20230722T150000
DTSTAMP:20260422T033544
CREATED:20230109T182252Z
LAST-MODIFIED:20230109T182253Z
UID:51235-1690020000-1690038000@staging.pamharringtonexclusives.com
SUMMARY:Sweetgrass Festival - Charleston
DESCRIPTION:Come celebrate this Lowcountry art form of Gullah culture at the annual Sweetgrass Festival on July 22\, 2023\, from 10 am to 3 pm at Mt. Pleasant Waterfront Park. \nBasket making in America first appeared in Mt. Pleasant in the 17th century. Slaves brought their exceptional skills from Sierra Leone to forge utilitarian vessels made from bulrush. Materials and uses evolved over time into decorative\, sought after works of art fashioned from sweetgrass. \nCome out and meet local artisans who will be showcasing their skills and offering demonstrations and pieces for sale! \nLooking for more events and festivals in the Charleston area? Check out our Charleston Area Guide.
URL:https://staging.pamharringtonexclusives.com/event/sweetgrass-festival-charleston/
LOCATION:Mt. Pleasant Memorial Waterfront Park\, 99 Harry M. Hallman Jr Blvd\, Mt. Pleasant\, SC\, 29464\, United States
CATEGORIES:July - Charleston
ATTACH;FMTTYPE=image/jpeg:https://staging.pamharringtonexclusives.com/wp-content/uploads/2023/01/Sweetgrass-Festival.jpg
END:VEVENT
END:VCALENDAR