BEGIN:VCALENDAR
VERSION:2.0
PRODID:-//Pam Harrington Exclusives - ECPv6.15.12.2//NONSGML v1.0//EN
CALSCALE:GREGORIAN
METHOD:PUBLISH
X-WR-CALNAME:Pam Harrington Exclusives
X-ORIGINAL-URL:https://staging.pamharringtonexclusives.com
X-WR-CALDESC:Events for Pam Harrington Exclusives
REFRESH-INTERVAL;VALUE=DURATION:PT1H
X-Robots-Tag:noindex
X-PUBLISHED-TTL:PT1H
BEGIN:VTIMEZONE
TZID:UTC
BEGIN:STANDARD
TZOFFSETFROM:+0000
TZOFFSETTO:+0000
TZNAME:UTC
DTSTART:20220101T000000
END:STANDARD
END:VTIMEZONE
BEGIN:VEVENT
DTSTART;VALUE=DATE:20251001
DTEND;VALUE=DATE:20251006
DTSTAMP:20260422T042100
CREATED:20251003T123517Z
LAST-MODIFIED:20251003T123517Z
UID:90297-1759276800-1759708799@staging.pamharringtonexclusives.com
SUMMARY:The Fleming Open Seabrook Island
DESCRIPTION:The Fleming Open — Seabrook Island 🎾\nServe up a weekend of competitive tennis and coastal camaraderie at The Fleming Open\, Seabrook Island’s signature tournament. From opening-round rallies to championship points\, players and spectators alike will enjoy top-tier tennis\, Lowcountry hospitality\, and unforgettable island views. \nPam Harrington Exclusives (Proud Sponsor) \nWhen & Where\n\n\nDates: October 1-5\, 2025 \n\n\nVenue: Seabrook Island Racquet Club\, Seabrook Island\, SC \n\nAbout the eventNow in its 41st year\, the Fleming Open is a USTA/ITF senior tournament drawing 300+ players nationwide. It features National Level-3/ITF singles & doubles (ages 30–80) and a USTA National Level-1/ITF mixed doubles championship (ages 40–80). Expect top-tier play\, signature Lowcountry hospitality\, and a full week of courtside amenities.\n\nEntry & format \n\n\n2 events per player allowed; common combos include singles + doubles or doubles + mixed. (Consolation available for singles/doubles; mixed consolation is required.) Fleming Tournament+1 \n\n\n2025 registration was a flat $160 with an entry deadline of Sept 24\, 2025 at 5:59 PM ET. (Registration for 2025 is closed.) Fleming Tournament \n\n\nWeekly schedule highlights \n\n\nWed\, Oct 1: On-site registration 8:00 AM–6:00 PM; play begins 10:00 AM. Fleming Tournament \n\n\nThu–Sat\, Oct 2–4: Matches from 8:00 AM (Seabrook & Kiawah); coffee/snacks 7:30–10:00 AM; lunch tent 11:00 AM–2:00 PM; ice cream from noon; beer truck 12:30–5:00 PM. Friday Night Party 6:00–9:00 PM at the Oceanside Club Pool & Patio with The Vistas (“Showband of the South”). Fleming Tournament+1 \n\n\nSun\, Oct 5: Finals from 8:00 AM; courtside brunch 10:00 AM–1:00 PM; trophy presentations as divisions wrap. Fleming Tournament \n\n\nFriday Night Party (players + guests)Cocktails & dinner 6:00–9:00 PM\, dancing under the stars with The Vistas; guest tickets $50 (players RSVP via the registration form). Fleming Tournament+1 \nParking & access \n\n\nParking at Seabrook Island Racquet Club and the Equestrian Center paddock (remove vehicles from Equestrian Center by 7 PM). \n\n\nLSV parking by the pickleball courts; biking/walking encouraged due to limited spaces. \n\n\nVolunteers: park at the Lake House or behind courts 7 & 8 (players/spectators may not park at the Lake House). \n\n\nLimited parking along left side of Longbend Dr only; follow posted ropes/signage or risk ticketing. Fleming Tournament \n\n\nAmenities & notesCoffee/snacks mornings; lunch tent daily; on-site ice cream; beer truck afternoons; massage therapist available Thu–Sun (fee). Some matches scheduled at Roy Barth Tennis Center\, Kiawah (obtain day pass at gate for the tennis center). No pets at the courts or grounds. Seating provided; bringing your own chair is welcome. Fleming Tournament \nCommunity impactProceeds support local hunger relief via Sea Islands Blessing Basket (goal: 25\,000 meals). Donation tiers available; online giving via Donorbox. Fleming Tournament
URL:https://staging.pamharringtonexclusives.com/event/the-fleming-open-seabrook-island/
LOCATION:The Seabrook Island Club\, 3773 Seabrook Island Road\, Seabrook Island\, SC\, 29455\, United States
ATTACH;FMTTYPE=image/png:https://staging.pamharringtonexclusives.com/wp-content/uploads/2025/10/Fleming-Open.png
END:VEVENT
BEGIN:VEVENT
DTSTART;VALUE=DATE:20240701
DTEND;VALUE=DATE:20240705
DTSTAMP:20260422T042100
CREATED:20230124T174108Z
LAST-MODIFIED:20240703T155018Z
UID:51323-1719792000-1720137599@staging.pamharringtonexclusives.com
SUMMARY:Seabrook Island July 4
DESCRIPTION:Seabrook Island July 4th week is a celebration with annual festivities starting with a 5k walk/run to kick off the holiday celebrations. \nThe 4th of July parade kicks July 4 off with a fun display of island patriotism that circles the island via Seabrook Island Road Loop. Cars\, bikes\, and pedestrians are welcome. This event starts at 9:30 am at the Lake House on Seabrook Island. Participants must line up at 9:00 am in the villages.  Contact the SIPOA for more details.  \nSeabrook Island fireworks Wednesday\, July 3rd. The event is hosted by the Town of Seabrook Island. The fireworks will light up the sky at approximately 9 pm near the driving range.    \nFor more island holiday fun visit our Pam Harrington Exclusives blog.  
URL:https://staging.pamharringtonexclusives.com/event/seabrook-island-july-4/
LOCATION:The Seabrook Island Club\, 3773 Seabrook Island Road\, Seabrook Island\, SC\, 29455\, United States
CATEGORIES:All - Seabrook Island,July - Seabrook Island
ATTACH;FMTTYPE=image/jpeg:https://staging.pamharringtonexclusives.com/wp-content/uploads/2023/01/seabrook-island-july-4.jpg
END:VEVENT
BEGIN:VEVENT
DTSTART;VALUE=DATE:20240512
DTEND;VALUE=DATE:20240513
DTSTAMP:20260422T042100
CREATED:20230124T181135Z
LAST-MODIFIED:20240108T141425Z
UID:51264-1715472000-1715558399@staging.pamharringtonexclusives.com
SUMMARY:Mothers Day on Seabrook Island
DESCRIPTION:Pamper mom with a special Mothers Day on Seabrook Island. The Seabrook Island Club hosts a special brunch celebrating our maternal mavens. \nThe Island House Palmetto Room features a lavish spread with lots of traditional brunch menu items and some Lowcountry favorites. \nThis event is open to Seabrook Island Club members and guests with a club amenity card. \nContact the Club for reservations and available seating times.  843-768-2571 \nFor more information about the Seabrook Island Club visit our Pam Harrington Exclusives website.
URL:https://staging.pamharringtonexclusives.com/event/mothers-day-on-seabrook-island/
LOCATION:The Seabrook Island Club\, 3773 Seabrook Island Road\, Seabrook Island\, SC\, 29455\, United States
CATEGORIES:All - Seabrook Island,May - Seabrook Island
ATTACH;FMTTYPE=image/jpeg:https://staging.pamharringtonexclusives.com/wp-content/uploads/2023/01/mothers-day-seabrook-island.jpg
END:VEVENT
BEGIN:VEVENT
DTSTART;TZID=UTC:20230129T193000
DTEND;TZID=UTC:20230129T213000
DTSTAMP:20260422T042100
CREATED:20230124T182250Z
LAST-MODIFIED:20230124T185652Z
UID:51097-1675020600-1675027800@staging.pamharringtonexclusives.com
SUMMARY:An Evening with Julian Gargiulo
DESCRIPTION:The Seabrook Island Club hosts an evening with Julian Gargiulo. This special musical event features a beautifully talented pianist playing a variety of music and styles. \nMr. Gargiulo is classically trained and earned a Doctorate of Musical Arts degree.  He holds dual citizenship in Italy and the US.  This is a ticketed event. \nPurchase tickets here for an evening with Julian Gargiulo at Seabrook Island. \nFor more information about Seabrook Island visit the  Pam Harrington Exclusives website.
URL:https://staging.pamharringtonexclusives.com/event/an-evening-with-julian-gargiulo/
LOCATION:The Seabrook Island Club\, 3773 Seabrook Island Road\, Seabrook Island\, SC\, 29455\, United States
CATEGORIES:All - Seabrook Island,January - Seabrook Island
ATTACH;FMTTYPE=image/jpeg:https://staging.pamharringtonexclusives.com/wp-content/uploads/2023/01/Julian-Gargiulo.jpg
END:VEVENT
END:VCALENDAR